{"text_format":"1","workbook":"xlsx","n_sheets":15,"sheets":["Раздел0","Раздел1","Раздел2","Раздел3","Раздел4","Раздел5","Раздел6","Раздел7","Раздел8","Раздел9","Раздел10","Раздел11","Раздел12","Раздел13","Лист1"],"not_rendered":{"charts":0,"images":2,"macros":1,"external_links":3,"defined_names":508,"comments":1,"pivot_tables":0},"unopened":[],"bounds":{"document_bytes":16777216,"sheet_cells":100000,"rows_first":2000,"rows_last":500,"rows_between":2000,"halvings":0,"cell_chars":16384,"cell_head_chars":4096},"cells_cut":0,"cells_raw":0,"read":"whole","date_system":"1900"}

{"sheet":"Раздел0","index":0,"n_rows":37,"n_cols":14,"rows_kept":37,"cut":false,"hidden":false,"merged":[[38,0,38,18],[35,1,35,3],[35,4,35,7],[35,8,35,11],[35,12,35,17],[36,1,36,3],[36,4,36,7],[36,8,36,11],[36,12,36,17],[31,1,31,6],[31,7,31,17],[32,1,32,3],[32,4,32,17],[29,10,29,11],[30,2,30,9],[30,10,30,11],[33,1,34,3],[33,4,33,17],[34,4,34,7],[34,8,34,11],[34,12,34,17],[17,2,17,9],[17,13,17,16],[23,1,23,9],[23,10,23,11],[18,2,18,9],[19,2,19,9],[19,10,19,11],[18,13,18,16],[20,2,20,9],[20,10,20,11],[21,13,21,16],[22,1,22,9],[22,10,22,11],[21,2,21,9],[14,13,14,16],[15,2,15,9],[15,13,15,16],[16,2,16,9],[16,13,16,16],[0,0,0,18],[1,0,37,0],[1,4,1,14],[1,18,37,18],[3,4,3,14],[5,3,5,15],[7,4,7,14],[9,5,9,13],[10,5,10,13],[12,1,12,9],[12,10,12,11],[12,13,12,16],[13,1,13,9],[13,10,13,11],[14,2,14,9],[14,10,14,11],[24,1,24,9],[24,10,24,11],[27,2,27,9],[29,1,29,9],[26,2,26,9],[28,1,28,9],[28,10,28,11],[25,1,25,9]]}
[]
[null,null,null,null,"ФЕДЕРАЛЬНОЕ СТАТИСТИЧЕСКОЕ НАБЛЮДЕНИЕ"]
[]
[null,null,null,null,"КОНФИДЕНЦИАЛЬНОСТЬ ГАРАНТИРУЕТСЯ ПОЛУЧАТЕЛЕМ ИНФОРМАЦИИ"]
[]
[null,null,null,"Нарушение порядка представления статистической информации, а равно представление недостоверной статистической информации влечет ответственность, установленную статьей 13.19 Кодекса Российской Федерации об административных правонарушениях от 30.12.2001 № 195-ФЗ, а также статьей 3 Закона Российской Федерации от 13.05.1992 № 2761-1 “Об ответственности за нарушение порядка представления государственной статистической отчетности”\nпорядка представления государственной статистической отчетности”"]
[]
[null,null,null,null,"ВОЗМОЖНО ПРЕДОСТАВЛЕНИЕ В ЭЛЕКТРОННОМ ВИДЕ"]
[]
[null,null,null,null,null,"СВЕДЕНИЯ ПО ОРГАНИЗАЦИЯМ, ОСУЩЕСТВЛЯЮЩИМ СПОРТИВНУЮ ПОДГОТОВКУ"]
[null,null,null,null,null,"по состоянию на 31 декабря 2018 г."]
[]
[null,"Предоставляют:",null,null,null,null,null,null,null,null,"Сроки предоставления",null,null,"Форма № 5-ФК (сводная)"]
[null,"юридические лица – организации, осуществляющие спортивную подготовку:",null,null,null,null,null,null,null,null,"10 января"]
[null,"-","органу местного самоуправления поселения, внутригородской территории города ",null,null,null,null,null,null,null,"после отчетного периода",null,null,"Приказ Росстата:"]
[null,null,"федерального значения;",null,null,null,null,null,null,null,null,null,null,"Об утверждении формы "]
[null,"-","органу местного самоуправления городского округа, муниципального района в",null,null,null,null,null,null,null,null,null,null,"от 22.11.2017 № 773"]
[null,null,"области физической культуры и спорта;",null,null,null,null,null,null,null,null,null,null,"О внесении изменений (при наличии)"]
[null,"-","территориальному органу исполнительной власти города федерального значения в ",null,null,null,null,null,null,null,null,null,null,"от 14.12.2018 № 741"]
[null,null,"области физической культуры и спорта;"]
[null,"-","иные органы местного самоуправления, в ведении которых находятся"]
[null,null,"организации, осуществляющие спортивную подготовку",null,null,null,null,null,null,null,null,null,null,"Годовая"]
[null,"органы местного самоуправления поселений, внутригородских территорий городов  ",null,null,null,null,null,null,null,null,"15 января"]
[null,"федерального значения, городских округов, муниципальных районов в области",null,null,null,null,null,null,null,null,"после отчетного периода"]
[null,"физической культуры и спорта, территориальные органы исполнительной власти "]
[null,"городов федерального значения в области физической культуры и спорта:"]
[null,"-","органу исполнительной власти субъекта Российской Федерации в области "]
[null,null,"физической культуры и спорта"]
[null,"органы исполнительной власти субъектов Российской Федерации в области ",null,null,null,null,null,null,null,null,"20 января"]
[null,"физической культуры и спорта:",null,null,null,null,null,null,null,null,"после отчетного периода"]
[null,"-","Министерству спорта Российской Федерации"]
[null,"Наименование отчитывающейся организации"]
[null,"Почтовый адрес"]
[null,"Код\nформы\nпо ОКУД",null,null,"Код"]
[null,null,null,null,"отчитывающейся организации\nпо ОКПО"]
[null,1,null,null,2,null,null,null,3,null,null,null,4]
[null,"0609403"]

{"sheet":"Раздел1","index":1,"n_rows":21,"n_cols":12,"rows_kept":21,"cut":false,"hidden":false,"merged":[[0,0,8,0],[0,1,0,11],[1,8,1,11],[2,2,3,2],[2,4,2,11],[0,12,8,12],[2,1,3,1],[2,3,3,3],[13,1,15,1],[13,2,15,2],[12,9,12,12],[19,1,20,1],[19,2,20,2],[16,3,16,4],[17,3,17,4],[16,1,17,1],[16,2,17,2],[19,3,19,5],[19,6,19,8],[20,3,20,5],[20,6,20,8],[12,7,12,8],[16,5,16,6],[16,7,16,8],[17,5,17,6],[17,7,17,8],[18,3,18,8],[13,3,13,7],[14,4,14,5],[14,6,14,7],[15,4,15,5],[15,6,15,7],[14,8,15,8]]}
[null,"Раздел I. Число организаций"]
[null,null,null,null,null,null,null,null,"Код по ОКЕИ: единица – 642"]
[null,"Ведомственная \nпринадлежность","№ стро-ки","Число организаций – всего","в том числе по виду организации:"]
[null,null,null,null,"ДЮСШ ","СШ","СДЮСШОР","СШОР","УОР","ЦСП","ЦОП","Другие\nорганизации"]
[null,1,2,3,4,5,6,7,8,9,10,11]
[null,"Органы управления в сфере образования","01",12,11,0,0,0,0,0,0,1]
[null,"Органы управления в сфере физической культуры и спорта","02",6,4,0,0,1,0,1,0,0]
[null,"Другая ведомственная принадлежность","03",0,0,0,0,0,0,0,0,0]
[null,"ИТОГО","04",18,15,0,0,1,0,1,0,1]
[]
[]
[]
[null,null,null,null,null,null,null,"Код по ОКЕИ: единица – 642"]
[null,"Виды правовых образований","05","Публичные правовые образования",null,null,null,null,"Иные правовые образования"]
[null,null,null,"Российская Федерация","Субъект Российской Федерации",null,"Муниципальное образование",null,0]
[null,null,null,0,5,null,13]
[null,"Переход на программу спортивной подготовки","06","Не перешли",null,"Частично перешли",null,"Полностью перешли"]
[null,null,null,14,null,1,null,3]
[null,"ОГРН","07"]
[null,"Признак того, является ли отчитывающаяся организация юридическим лицом","08","Да",null,null,"Нет"]
[null,null,null,18,null,null,0]

{"sheet":"Раздел2","index":2,"n_rows":292,"n_cols":33,"rows_kept":292,"cut":false,"hidden":false,"merged":[[3,6,3,19],[4,19,6,19],[5,20,5,21],[5,22,5,23],[5,9,6,9],[5,10,6,10],[5,11,6,11],[5,12,6,12],[5,13,6,13],[5,14,6,14],[5,15,6,15],[4,17,6,17],[4,18,6,18],[4,16,6,16],[2,5,2,23],[1,20,1,23],[2,3,4,4],[4,11,4,15],[0,0,208,0],[2,1,5,1],[2,2,5,2],[4,6,4,10],[0,1,0,20],[5,3,6,3],[5,4,6,4],[5,6,6,6],[5,7,6,7],[5,8,6,8],[3,20,4,23],[3,5,6,5]]}
[null,"Раздел II. Численность занимающихся"]
[null,null,null,null,null,null,null,null,null,null,null,null,null,null,null,null,null,null,null,null,"Коды по ОКЕИ: человек - 792, единица - 642"]
[null,"Виды спорта","№ строки","Число отделений по видам спорта",null,"Число занимающихся на 31 декабря отчетного года"]
[null,null,null,null,null,"всего","Занимающиеся на этапах спортивной подготовки",null,null,null,null,null,null,null,null,null,null,null,null,null,"Обучающиеся по дололнительным общеобразовательным программам в области физической культуры и спорта"]
[null,null,null,null,null,null,"по этапам спортивной подготовки",null,null,null,null,"по возрастам",null,null,null,null,"от 5 до 18 лет (из гр. 6-10)","женщин","спортсменов, спортсменов – инструкторов","в платных группах"]
[null,null,null,"всего","в том числе отделения ФСО и ОУ, имеющие право использовать в наименовании слово \"Олимпийский\"",null,"спортивно-оздорови-тельный","начальной подготовки","трениро-вочный","совершен-ствования спортивного мастерства","высшего спортивного мастерства","до 5 лет","от 6 до 15 лет","от 16 до 21 года","от 22 до 30 лет","старше 30 лет",null,null,null,null,"по общеразвивающим программам",null,"по предпрофессиональным программам"]
[null,null,null,null,null,null,null,null,null,null,null,null,null,null,null,null,null,null,null,null,"всего","в платных группах (из гр. 20)","всего","в платных группах (из гр. 22)"]
[null,1,2,3,4,5,6,7,8,9,10,11,12,13,14,15,16,17,18,19,20,21,22,23]
[null,"Авиамодельный спорт","01",0,0,0,0,0,0,0,0,0,0,0,0,0,0,0,0,0,0,0,0,0,{"$f":"Раздел3!F8","v":0},{"$f":"Раздел3!G8","v":0},{"$f":"Раздел3!H8","v":0},{"$f":"SUM(Раздел6!D9:AY9)","v":0}]
[null,"Автомобильный спорт","02",0,0,0,0,0,0,0,0,0,0,0,0,0,0,0,0,0,0,0,0,0,{"$f":"Раздел3!F9","v":0},{"$f":"Раздел3!G9","v":0},{"$f":"Раздел3!H9","v":0},{"$f":"SUM(Раздел6!D10:AY10)","v":0}]
[null,"Автомодельный спорт","03",0,0,0,0,0,0,0,0,0,0,0,0,0,0,0,0,0,0,0,0,0]
[null,"Айкидо","04",0,0,0,0,0,0,0,0,0,0,0,0,0,0,0,0,0,0,0,0,0,{"$f":"Раздел3!F10","v":0},{"$f":"Раздел3!G10","v":0},{"$f":"Раздел3!H10","v":0},{"$f":"SUM(Раздел6!D11:AY11)","v":0}]
[null,"Айсшток","05",0,0,0,0,0,0,0,0,0,0,0,0,0,0,0,0,0,0,0,0,0]
[null,"Акробатический рок-н-ролл","06",0,0,0,0,0,0,0,0,0,0,0,0,0,0,0,0,0,0,0,0,0,{"$f":"Раздел3!F11","v":0},{"$f":"Раздел3!G11","v":0},{"$f":"Раздел3!H11","v":0},{"$f":"SUM(Раздел6!D12:AY12)","v":0}]
[null,"Альпинизм","07",0,0,0,0,0,0,0,0,0,0,0,0,0,0,0,0,0,0,0,0,0,{"$f":"Раздел3!F12","v":0},{"$f":"Раздел3!G12","v":0},{"$f":"Раздел3!H12","v":0},{"$f":"SUM(Раздел6!D13:AY13)","v":0}]
[null,"Американский футбол","08",0,0,0,0,0,0,0,0,0,0,0,0,0,0,0,0,0,0,0,0,0,{"$f":"Раздел3!F13","v":0},{"$f":"Раздел3!G13","v":0},{"$f":"Раздел3!H13","v":0},{"$f":"SUM(Раздел6!D14:AY14)","v":0}]
[null,"Армейский рукопашный бой","09",0,0,0,0,0,0,0,0,0,0,0,0,0,0,0,0,0,0,0,0,0]
[null,"Армрестлинг","10",0,0,0,0,0,0,0,0,0,0,0,0,0,0,0,0,0,0,0,0,0,{"$f":"Раздел3!F14","v":0},{"$f":"Раздел3!G14","v":0},{"$f":"Раздел3!H14","v":0},{"$f":"SUM(Раздел6!D15:AY15)","v":0}]
[null,"Бадминтон","11",0,0,0,0,0,0,0,0,0,0,0,0,0,0,0,0,0,0,0,0,0,{"$f":"Раздел3!F15","v":0},{"$f":"Раздел3!G15","v":0},{"$f":"Раздел3!H15","v":0},{"$f":"SUM(Раздел6!D16:AY16)","v":0}]
[null,"Баскетбол - всего","12",1,0,96,0,0,0,0,0,0,0,0,0,0,0,0,0,0,96,0,0,0,{"$f":"Раздел3!F16","v":0},{"$f":"Раздел3!G16","v":0},{"$f":"Раздел3!H16","v":0},{"$f":"SUM(Раздел6!D17:AY17)","v":0}]
[null,"в том числе:\nБаскетбол (муж.)","13",1,0,52,0,0,0,0,0,0,0,0,0,0,0,0,0,0,52,0,0,0,{"$f":"Раздел3!F17","v":0},{"$f":"Раздел3!G17","v":0},{"$f":"Раздел3!H17","v":0},{"$f":"SUM(Раздел6!D18:AY18)","v":0}]
[null,"Баскетбол (жен.)","14",1,0,44,0,0,0,0,0,0,0,0,0,0,0,0,0,0,44,0,0,0,{"$f":"Раздел3!F18","v":0},{"$f":"Раздел3!G18","v":0},{"$f":"Раздел3!H18","v":0},{"$f":"SUM(Раздел6!D19:AY19)","v":0}]
[null,"Бейсбол","15",0,0,0,0,0,0,0,0,0,0,0,0,0,0,0,0,0,0,0,0,0,{"$f":"Раздел3!F19","v":0},{"$f":"Раздел3!G19","v":0},{"$f":"Раздел3!H19","v":0},{"$f":"SUM(Раздел6!D20:AY20)","v":0}]
[null,"Биатлон","16",2,0,50,0,27,0,0,0,0,27,0,0,0,0,4,0,0,0,0,23,0,{"$f":"Раздел3!F20","v":0},{"$f":"Раздел3!G20","v":0},{"$f":"Раздел3!H20","v":0},{"$f":"SUM(Раздел6!D21:AY21)","v":0}]
[null,"Бильярдный спорт","17",0,0,0,0,0,0,0,0,0,0,0,0,0,0,0,0,0,0,0,0,0,{"$f":"Раздел3!F21","v":0},{"$f":"Раздел3!G21","v":0},{"$f":"Раздел3!H21","v":0},{"$f":"SUM(Раздел6!D22:AY22)","v":0}]
[null,"Бобслей - всего","18",0,0,0,0,0,0,0,0,0,0,0,0,0,0,0,0,0,0,0,0,0,{"$f":"Раздел3!F22","v":0},{"$f":"Раздел3!G22","v":0},{"$f":"Раздел3!H22","v":0},{"$f":"SUM(Раздел6!D23:AY23)","v":0}]
[null,"в том числе:\nБобслей","19",0,0,0,0,0,0,0,0,0,0,0,0,0,0,0,0,0,0,0,0,0,{"$f":"Раздел3!F23","v":0},{"$f":"Раздел3!G23","v":0},{"$f":"Раздел3!H23","v":0},{"$f":"SUM(Раздел6!D24:AY24)","v":0}]
[null,"Скелетон","20",0,0,0,0,0,0,0,0,0,0,0,0,0,0,0,0,0,0,0,0,0,{"$f":"Раздел3!F24","v":0},{"$f":"Раздел3!G24","v":0},{"$f":"Раздел3!H24","v":0},{"$f":"SUM(Раздел6!D25:AY25)","v":0}]
[null,"Бодибилдинг","21",0,0,0,0,0,0,0,0,0,0,0,0,0,0,0,0,0,0,0,0,0,{"$f":"Раздел3!F25","v":0},{"$f":"Раздел3!G25","v":0},{"$f":"Раздел3!H25","v":0},{"$f":"SUM(Раздел6!D26:AY26)","v":0}]
[null,"Бокс","22",8,0,382,0,0,0,0,0,0,0,0,0,0,0,0,0,0,38,0,344,0,{"$f":"Раздел3!F26","v":0},{"$f":"Раздел3!G26","v":0},{"$f":"Раздел3!H26","v":0},{"$f":"SUM(Раздел6!D27:AY27)","v":0}]
[null,"Борьба на поясах","23",0,0,0,0,0,0,0,0,0,0,0,0,0,0,0,0,0,0,0,0,0,{"$f":"Раздел3!F27","v":0},{"$f":"Раздел3!G27","v":0},{"$f":"Раздел3!H27","v":0},{"$f":"SUM(Раздел6!D28:AY28)","v":0}]
[null,"Боулинг","24",0,0,0,0,0,0,0,0,0,0,0,0,0,0,0,0,0,0,0,0,0,{"$f":"Раздел3!F28","v":0},{"$f":"Раздел3!G28","v":0},{"$f":"Раздел3!H28","v":0},{"$f":"SUM(Раздел6!D29:AY29)","v":0}]
[null,"Велосипедный спорт - всего","25",0,0,0,0,0,0,0,0,0,0,0,0,0,0,0,0,0,0,0,0,0,{"$f":"Раздел3!F29","v":0},{"$f":"Раздел3!G29","v":0},{"$f":"Раздел3!H29","v":0},{"$f":"SUM(Раздел6!D30:AY30)","v":1}]
[null,"в том числе:\nBMX","26",0,0,0,0,0,0,0,0,0,0,0,0,0,0,0,0,0,0,0,0,0]
[null,"Маунтинбайк","27",0,0,0,0,0,0,0,0,0,0,0,0,0,0,0,0,0,0,0,0,0]
[null,"Трек","28",0,0,0,0,0,0,0,0,0,0,0,0,0,0,0,0,0,0,0,0,0]
[null,"Шоссе","29",0,0,0,0,0,0,0,0,0,0,0,0,0,0,0,0,0,0,0,0,0]
[null,"Вертолетный спорт","30",0,0,0,0,0,0,0,0,0,0,0,0,0,0,0,0,0,0,0,0,0,{"$f":"Раздел3!F30","v":0},{"$f":"Раздел3!G30","v":0},{"$f":"Раздел3!H30","v":0},{"$f":"SUM(Раздел6!D31:AY31)","v":0}]
[null,"Водно-моторный спорт","31",0,0,0,0,0,0,0,0,0,0,0,0,0,0,0,0,0,0,0,0,0,{"$f":"Раздел3!F31","v":0},{"$f":"Раздел3!G31","v":0},{"$f":"Раздел3!H31","v":0},{"$f":"SUM(Раздел6!D32:AY32)","v":0}]
[null,"Водно-спасательное многоборье","32",0,0,0,0,0,0,0,0,0,0,0,0,0,0,0,0,0,0,0,0,0,{"$f":"Раздел3!F32","v":0},{"$f":"Раздел3!G32","v":0},{"$f":"Раздел3!H32","v":0},{"$f":"SUM(Раздел6!D33:AY33)","v":0}]
[null,"Водное поло - всего ","33",0,0,0,0,0,0,0,0,0,0,0,0,0,0,0,0,0,0,0,0,0,{"$f":"Раздел3!F37","v":0},{"$f":"Раздел3!G37","v":0},{"$f":"Раздел3!H37","v":0},{"$f":"SUM(Раздел6!D38:AY38)","v":0}]
[null,"в том числе:\nВодное поло (муж.)","34",0,0,0,0,0,0,0,0,0,0,0,0,0,0,0,0,0,0,0,0,0,{"$f":"Раздел3!F38","v":0},{"$f":"Раздел3!G38","v":0},{"$f":"Раздел3!H38","v":0},{"$f":"SUM(Раздел6!D39:AY39)","v":0}]
[null,"Водное поло (жен.)","35",0,0,0,0,0,0,0,0,0,0,0,0,0,0,0,0,0,0,0,0,0,{"$f":"Раздел3!F39","v":0},{"$f":"Раздел3!G39","v":0},{"$f":"Раздел3!H39","v":0},{"$f":"SUM(Раздел6!D40:AY40)","v":0}]
[null,"Воднолыжный спорт","36",0,0,0,0,0,0,0,0,0,0,0,0,0,0,0,0,0,0,0,0,0,{"$f":"Раздел3!F40","v":0},{"$f":"Раздел3!G40","v":0},{"$f":"Раздел3!H40","v":0},{"$f":"SUM(Раздел6!D41:AY41)","v":0}]
[null,"Военно-прикладной спорт","37",0,0,0,0,0,0,0,0,0,0,0,0,0,0,0,0,0,0,0,0,0,{"$f":"Раздел3!F41","v":0},{"$f":"Раздел3!G41","v":0},{"$f":"Раздел3!H41","v":0},{"$f":"SUM(Раздел6!D42:AY42)","v":0}]
[null,"Военно-спортивное многоборье","38",0,0,0,0,0,0,0,0,0,0,0,0,0,0,0,0,0,0,0,0,0,{"$f":"Раздел3!F42","v":0},{"$f":"Раздел3!G42","v":0},{"$f":"Раздел3!H42","v":0},{"$f":"SUM(Раздел6!D43:AY43)","v":0}]
[null,"Воздухоплавательный спорт","39",0,0,0,0,0,0,0,0,0,0,0,0,0,0,0,0,0,0,0,0,0]
[null,"Волейбол - всего","40",11,0,1080,0,0,0,0,0,0,0,0,0,0,0,0,0,0,375,0,705,0]
[null,"в том числе:\nВолейбол (муж.)","41",10,0,517,0,0,0,0,0,0,0,0,0,0,0,0,0,0,196,0,321,0,{"$f":"Раздел3!F43","v":0},{"$f":"Раздел3!G43","v":0},{"$f":"Раздел3!H43","v":0},{"$f":"SUM(Раздел6!D44:AY44)","v":0}]
[null,"Волейбол (жен.)","42",11,0,563,0,0,0,0,0,0,0,0,0,0,0,0,0,0,179,0,384,0,{"$f":"Раздел3!F44","v":0},{"$f":"Раздел3!G44","v":0},{"$f":"Раздел3!H44","v":0},{"$f":"SUM(Раздел6!D45:AY45)","v":0}]
[null,"Пляжный волейбол (муж.)","43",0,0,0,0,0,0,0,0,0,0,0,0,0,0,0,0,0,0,0,0,0,{"$f":"Раздел3!F45","v":0},{"$f":"Раздел3!G45","v":0},{"$f":"Раздел3!H45","v":0},{"$f":"SUM(Раздел6!D46:AY46)","v":0}]
[null,"Пляжный волейбол (жен.)","44",0,0,0,0,0,0,0,0,0,0,0,0,0,0,0,0,0,0,0,0,0,{"$f":"Раздел3!F46","v":0},{"$f":"Раздел3!G46","v":0},{"$f":"Раздел3!H46","v":0},{"$f":"SUM(Раздел6!D47:AY47)","v":0}]
[null,"Восточное боевое единоборство","45",0,0,0,0,0,0,0,0,0,0,0,0,0,0,0,0,0,0,0,0,0,{"$f":"Раздел3!F47","v":0},{"$f":"Раздел3!G47","v":0},{"$f":"Раздел3!H47","v":0},{"$f":"SUM(Раздел6!D48:AY48)","v":0}]
[null,"Всестилевое каратэ","46",0,0,0,0,0,0,0,0,0,0,0,0,0,0,0,0,0,0,0,0,0,{"$f":"Раздел3!F48","v":0},{"$f":"Раздел3!G48","v":0},{"$f":"Раздел3!H48","v":0},{"$f":"SUM(Раздел6!D49:AY49)","v":0}]
[null,"Гандбол - всего","47",8,0,428,0,0,0,0,0,0,0,0,0,0,0,0,0,0,103,0,325,0,{"$f":"Раздел3!F49","v":0},{"$f":"Раздел3!G49","v":0},{"$f":"Раздел3!H49","v":0},{"$f":"SUM(Раздел6!D50:AY50)","v":0}]
[null,"в том числе:\nГандбол (муж.)","48",8,0,205,0,0,0,0,0,0,0,0,0,0,0,0,0,0,47,0,158,0,{"$f":"Раздел3!F50","v":0},{"$f":"Раздел3!G50","v":0},{"$f":"Раздел3!H50","v":0},{"$f":"SUM(Раздел6!D51:AY51)","v":0}]
[null,"Гандбол (жен.)","49",7,0,223,0,0,0,0,0,0,0,0,0,0,0,0,0,0,56,0,167,0,{"$f":"Раздел3!F51","v":0},{"$f":"Раздел3!G51","v":0},{"$f":"Раздел3!H51","v":0},{"$f":"SUM(Раздел6!D52:AY52)","v":0}]
[null,"Пляжный гандбол","50",0,0,0,0,0,0,0,0,0,0,0,0,0,0,0,0,0,0,0,0,0,{"$f":"Раздел3!F52","v":0},{"$f":"Раздел3!G52","v":0},{"$f":"Раздел3!H52","v":0},{"$f":"SUM(Раздел6!D53:AY53)","v":0}]
[null,"Гиревой спорт","51",1,0,35,0,0,0,0,0,0,0,0,0,0,0,0,0,0,35,0,0,0,{"$f":"Раздел3!F53","v":0},{"$f":"Раздел3!G53","v":0},{"$f":"Раздел3!H53","v":0},{"$f":"SUM(Раздел6!D54:AY54)","v":0}]
[null,"Го","52",0,0,0,0,0,0,0,0,0,0,0,0,0,0,0,0,0,0,0,0,0]
[null,"Гольф","53",0,0,0,0,0,0,0,0,0,0,0,0,0,0,0,0,0,0,0,0,0,{"$f":"Раздел3!F54","v":0},{"$f":"Раздел3!G54","v":0},{"$f":"Раздел3!H54","v":0},{"$f":"SUM(Раздел6!D55:AY55)","v":0}]
[null,"Гонки на охотничьих лыжах","54",0,0,0,0,0,0,0,0,0,0,0,0,0,0,0,0,0,0,0,0,0,{"$f":"Раздел3!F55","v":0},{"$f":"Раздел3!G55","v":0},{"$f":"Раздел3!H55","v":0},{"$f":"SUM(Раздел6!D56:AY56)","v":0}]
[null,"Горнолыжный спорт","55",1,0,350,0,96,79,0,0,0,169,6,0,0,0,0,0,0,0,0,175,0,{"$f":"Раздел3!F56","v":0},{"$f":"Раздел3!G56","v":0},{"$f":"Раздел3!H56","v":0},{"$f":"SUM(Раздел6!D57:AY57)","v":0}]
[null,"Городошный спорт","56",0,0,0,0,0,0,0,0,0,0,0,0,0,0,0,0,0,0,0,0,0,{"$f":"Раздел3!F57","v":0},{"$f":"Раздел3!G57","v":0},{"$f":"Раздел3!H57","v":0},{"$f":"SUM(Раздел6!D58:AY58)","v":0}]
[null,"Гребля на байдарках и каноэ","57",0,0,0,0,0,0,0,0,0,0,0,0,0,0,0,0,0,0,0,0,0,{"$f":"Раздел3!F58","v":0},{"$f":"Раздел3!G58","v":0},{"$f":"Раздел3!H58","v":0},{"$f":"SUM(Раздел6!D59:AY59)","v":0}]
[null,"Гребля на шлюпках","58",0,0,0,0,0,0,0,0,0,0,0,0,0,0,0,0,0,0,0,0,0,{"$f":"Раздел3!F59","v":0},{"$f":"Раздел3!G59","v":0},{"$f":"Раздел3!H59","v":0},{"$f":"SUM(Раздел6!D60:AY60)","v":0}]
[null,"Гребной слалом","59",1,1,37,0,0,18,12,7,0,16,13,7,1,25,5,0,0,0,0,0,0]
[null,"Гребной спорт - всего","60",0,0,0,0,0,0,0,0,0,0,0,0,0,0,0,0,0,0,0,0,0,{"$f":"Раздел3!F60","v":0},{"$f":"Раздел3!G60","v":0},{"$f":"Раздел3!H60","v":0},{"$f":"SUM(Раздел6!D61:AY61)","v":0}]
[null,"в том числе:\nАкадемическая гребля","61",0,0,0,0,0,0,0,0,0,0,0,0,0,0,0,0,0,0,0,0,0,{"$f":"Раздел3!F61","v":0},{"$f":"Раздел3!G61","v":0},{"$f":"Раздел3!H61","v":0},{"$f":"SUM(Раздел6!D62:AY62)","v":0}]
[null,"Гребля-индор","62",0,0,0,0,0,0,0,0,0,0,0,0,0,0,0,0,0,0,0,0,0,{"$f":"Раздел3!F62","v":79},{"$f":"Раздел3!G62","v":0},{"$f":"Раздел3!H62","v":0},{"$f":"SUM(Раздел6!D63:AY63)","v":0}]
[null,"Народная гребля","63",0,0,0,0,0,0,0,0,0,0,0,0,0,0,0,0,0,0,0,0,0,{"$f":"Раздел3!F63","v":0},{"$f":"Раздел3!G63","v":0},{"$f":"Раздел3!H63","v":0},{"$f":"SUM(Раздел6!D64:AY64)","v":0}]
[null,"Прибрежная гребля","64",0,0,0,0,0,0,0,0,0,0,0,0,0,0,0,0,0,0,0,0,0,{"$f":"Раздел3!F64","v":0},{"$f":"Раздел3!G64","v":0},{"$f":"Раздел3!H64","v":0},{"$f":"SUM(Раздел6!D65:AY65)","v":0}]
[null,"Гребно-парусное двоеборье","65",0,0,0,0,0,0,0,0,0,0,0,0,0,0,0,0,0,0,0,0,0,{"$f":"Раздел3!F65","v":0},{"$f":"Раздел3!G65","v":0},{"$f":"Раздел3!H65","v":0},{"$f":"SUM(Раздел6!D66:AY66)","v":0}]
[null,"Дартс","66",0,0,0,0,0,0,0,0,0,0,0,0,0,0,0,0,0,0,0,0,0,{"$f":"Раздел3!F66","v":18},{"$f":"Раздел3!G66","v":12},{"$f":"Раздел3!H66","v":7},{"$f":"SUM(Раздел6!D67:AY67)","v":3}]
[null,"Джиу-джитсу","67",0,0,0,0,0,0,0,0,0,0,0,0,0,0,0,0,0,0,0,0,0,{"$f":"Раздел3!F67","v":0},{"$f":"Раздел3!G67","v":0},{"$f":"Раздел3!H67","v":0},{"$f":"SUM(Раздел6!D68:AY68)","v":0}]
[null,"Дзюдо","68",8,0,674,0,113,70,0,0,0,145,32,6,0,170,5,0,0,74,0,417,0,{"$f":"Раздел3!F68","v":0},{"$f":"Раздел3!G68","v":0},{"$f":"Раздел3!H68","v":0},{"$f":"SUM(Раздел6!D69:AY69)","v":0}]
[null,"Ездовой спорт","69",0,0,0,0,0,0,0,0,0,0,0,0,0,0,0,0,0,0,0,0,0,{"$f":"Раздел3!F69","v":0},{"$f":"Раздел3!G69","v":0},{"$f":"Раздел3!H69","v":0},{"$f":"SUM(Раздел6!D70:AY70)","v":0}]
[null,"Капоэйра","70",0,0,0,0,0,0,0,0,0,0,0,0,0,0,0,0,0,0,0,0,0,{"$f":"Раздел3!F70","v":0},{"$f":"Раздел3!G70","v":0},{"$f":"Раздел3!H70","v":0},{"$f":"SUM(Раздел6!D71:AY71)","v":0}]
[null,"Каратэ","71",0,0,0,0,0,0,0,0,0,0,0,0,0,0,0,0,0,0,0,0,0,{"$f":"Раздел3!F71","v":0},{"$f":"Раздел3!G71","v":0},{"$f":"Раздел3!H71","v":0},{"$f":"SUM(Раздел6!D72:AY72)","v":0}]
[null,"Кендо","72",0,0,0,0,0,0,0,0,0,0,0,0,0,0,0,0,0,0,0,0,0,{"$f":"Раздел3!F72","v":0},{"$f":"Раздел3!G72","v":0},{"$f":"Раздел3!H72","v":0},{"$f":"SUM(Раздел6!D73:AY73)","v":0}]
[null,"Керешу","73",0,0,0,0,0,0,0,0,0,0,0,0,0,0,0,0,0,0,0,0,0,{"$f":"Раздел3!F73","v":0},{"$f":"Раздел3!G73","v":0},{"$f":"Раздел3!H73","v":0},{"$f":"SUM(Раздел6!D74:AY74)","v":0}]
[null,"Кёрлинг - всего","74",0,0,0,0,0,0,0,0,0,0,0,0,0,0,0,0,0,0,0,0,0,{"$f":"Раздел3!F74","v":0},{"$f":"Раздел3!G74","v":0},{"$f":"Раздел3!H74","v":0},{"$f":"SUM(Раздел6!D75:AY75)","v":0}]
[null,"в том числе:\nКерлинг (муж.)","75",0,0,0,0,0,0,0,0,0,0,0,0,0,0,0,0,0,0,0,0,0,{"$f":"Раздел3!F75","v":70},{"$f":"Раздел3!G75","v":0},{"$f":"Раздел3!H75","v":0},{"$f":"SUM(Раздел6!D76:AY76)","v":1}]
[null,"Керлинг (жен.)","76",0,0,0,0,0,0,0,0,0,0,0,0,0,0,0,0,0,0,0,0,0,{"$f":"Раздел3!F76","v":0},{"$f":"Раздел3!G76","v":0},{"$f":"Раздел3!H76","v":0},{"$f":"SUM(Раздел6!D77:AY77)","v":0}]
[null,"Кикбоксинг","77",2,0,39,0,0,0,0,0,0,0,0,0,0,0,0,0,0,39,0,0,0,{"$f":"Раздел3!F77","v":0},{"$f":"Раздел3!G77","v":0},{"$f":"Раздел3!H77","v":0},{"$f":"SUM(Раздел6!D78:AY78)","v":0}]
[null,"Кинологический спорт","78",0,0,0,0,0,0,0,0,0,0,0,0,0,0,0,0,0,0,0,0,0,{"$f":"Раздел3!F78","v":0},{"$f":"Раздел3!G78","v":0},{"$f":"Раздел3!H78","v":0},{"$f":"SUM(Раздел6!D79:AY79)","v":0}]
[null,"Киокусинкай","79",0,0,0,0,0,0,0,0,0,0,0,0,0,0,0,0,0,0,0,0,0,{"$f":"Раздел3!F79","v":0},{"$f":"Раздел3!G79","v":0},{"$f":"Раздел3!H79","v":0},{"$f":"SUM(Раздел6!D80:AY80)","v":0}]
[null,"Комплексное единоборство","80",0,0,0,0,0,0,0,0,0,0,0,0,0,0,0,0,0,0,0,0,0,{"$f":"Раздел3!F80","v":0},{"$f":"Раздел3!G80","v":0},{"$f":"Раздел3!H80","v":0},{"$f":"SUM(Раздел6!D81:AY81)","v":0}]
[null,"Компьютерный спорт","81",0,0,0,0,0,0,0,0,0,0,0,0,0,0,0,0,0,0,0,0,0,{"$f":"Раздел3!F81","v":0},{"$f":"Раздел3!G81","v":0},{"$f":"Раздел3!H81","v":0},{"$f":"SUM(Раздел6!D82:AY82)","v":0}]
[null,"Конный спорт","82",1,0,105,0,0,0,0,0,0,0,0,0,0,0,0,0,0,48,0,57,0,{"$f":"Раздел3!F82","v":0},{"$f":"Раздел3!G82","v":0},{"$f":"Раздел3!H82","v":0},{"$f":"SUM(Раздел6!D83:AY83)","v":0}]
[null,"Конькобежный спорт - всего","83",0,0,0,0,0,0,0,0,0,0,0,0,0,0,0,0,0,0,0,0,0,{"$f":"Раздел3!F83","v":0},{"$f":"Раздел3!G83","v":0},{"$f":"Раздел3!H83","v":0},{"$f":"SUM(Раздел6!D84:AY84)","v":0}]
[null,"в том числе:\nКонькобежный спорт","84",0,0,0,0,0,0,0,0,0,0,0,0,0,0,0,0,0,0,0,0,0,{"$f":"Раздел3!F84","v":0},{"$f":"Раздел3!G84","v":0},{"$f":"Раздел3!H84","v":0},{"$f":"SUM(Раздел6!D85:AY85)","v":0}]
[null,"Шорт-трек","85",0,0,0,0,0,0,0,0,0,0,0,0,0,0,0,0,0,0,0,0,0,{"$f":"Раздел3!F85","v":0},{"$f":"Раздел3!G85","v":0},{"$f":"Раздел3!H85","v":0},{"$f":"SUM(Раздел6!D86:AY86)","v":0}]
[null,"Корэш","86",0,0,0,0,0,0,0,0,0,0,0,0,0,0,0,0,0,0,0,0,0,{"$f":"Раздел3!F86","v":0},{"$f":"Раздел3!G86","v":0},{"$f":"Раздел3!H86","v":0},{"$f":"SUM(Раздел6!D87:AY87)","v":0}]
[null,"Корфбол","87",0,0,0,0,0,0,0,0,0,0,0,0,0,0,0,0,0,0,0,0,0,{"$f":"Раздел3!F87","v":0},{"$f":"Раздел3!G87","v":0},{"$f":"Раздел3!H87","v":0},{"$f":"SUM(Раздел6!D88:AY88)","v":0}]
[null,"Кудо","88",0,0,0,0,0,0,0,0,0,0,0,0,0,0,0,0,0,0,0,0,0,{"$f":"Раздел3!F88","v":0},{"$f":"Раздел3!G88","v":0},{"$f":"Раздел3!H88","v":0},{"$f":"SUM(Раздел6!D89:AY89)","v":0}]
[null,"Лапта","89",0,0,0,0,0,0,0,0,0,0,0,0,0,0,0,0,0,0,0,0,0,{"$f":"Раздел3!F89","v":0},{"$f":"Раздел3!G89","v":0},{"$f":"Раздел3!H89","v":0},{"$f":"SUM(Раздел6!D90:AY90)","v":0}]
[null,"Легкая атлетика - всего","90",8,0,462,0,0,0,0,0,0,0,0,0,0,0,0,0,0,50,0,412,0,{"$f":"Раздел3!F90","v":0},{"$f":"Раздел3!G90","v":0},{"$f":"Раздел3!H90","v":0},{"$f":"SUM(Раздел6!D91:AY91)","v":0}]
[null,"в том числе:\nСпринтерский и барьерный бег","91",4,0,162,0,0,0,0,0,0,0,0,0,0,0,0,0,0,15,0,147,0,{"$f":"Раздел3!F91","v":0},{"$f":"Раздел3!G91","v":0},{"$f":"Раздел3!H91","v":0},{"$f":"SUM(Раздел6!D92:AY92)","v":0}]
[null,"Бег на средние дистанции и бег с препятствиями","92",2,0,112,0,0,0,0,0,0,0,0,0,0,0,0,0,0,0,0,112,0,{"$f":"Раздел3!F92","v":0},{"$f":"Раздел3!G92","v":0},{"$f":"Раздел3!H92","v":0},{"$f":"SUM(Раздел6!D93:AY93)","v":0}]
[null,"Бег на длинные и сверхдлинные дистанции","93",2,0,53,0,0,0,0,0,0,0,0,0,0,0,0,0,0,0,0,53,0,{"$f":"Раздел3!F93","v":0},{"$f":"Раздел3!G93","v":0},{"$f":"Раздел3!H93","v":0},{"$f":"SUM(Раздел6!D94:AY94)","v":0}]
[null,"Многоборья","94",5,0,87,0,0,0,0,0,0,0,0,0,0,0,0,0,0,35,0,52,0,{"$f":"Раздел3!F94","v":0},{"$f":"Раздел3!G94","v":0},{"$f":"Раздел3!H94","v":0},{"$f":"SUM(Раздел6!D95:AY95)","v":0}]
[null,"Прыжки","95",2,0,26,0,0,0,0,0,0,0,0,0,0,0,0,0,0,0,0,26,0,{"$f":"Раздел3!F95","v":0},{"$f":"Раздел3!G95","v":0},{"$f":"Раздел3!H95","v":0},{"$f":"SUM(Раздел6!D96:AY96)","v":0}]
[null,"Метания","96",1,0,10,0,0,0,0,0,0,0,0,0,0,0,0,0,0,0,0,10,0,{"$f":"Раздел3!F96","v":0},{"$f":"Раздел3!G96","v":0},{"$f":"Раздел3!H96","v":0},{"$f":"SUM(Раздел6!D97:AY97)","v":0}]
[null,"Спортивная ходьба","97",2,0,12,0,0,0,0,0,0,0,0,0,0,0,0,0,0,0,0,12,0,{"$f":"Раздел3!F97","v":0},{"$f":"Раздел3!G97","v":0},{"$f":"Раздел3!H97","v":0},{"$f":"SUM(Раздел6!D98:AY98)","v":0}]
[null,"Лыжное двоеборье","98",0,0,0,0,0,0,0,0,0,0,0,0,0,0,0,0,0,0,0,0,0,{"$f":"Раздел3!F98","v":0},{"$f":"Раздел3!G98","v":0},{"$f":"Раздел3!H98","v":0},{"$f":"SUM(Раздел6!D99:AY99)","v":0}]
[null,"Лыжные гонки","99",9,0,293,0,0,16,0,0,0,16,0,0,0,0,1,0,0,151,0,126,0,{"$f":"Раздел3!F99","v":0},{"$f":"Раздел3!G99","v":0},{"$f":"Раздел3!H99","v":0},{"$f":"SUM(Раздел6!D100:AY100)","v":0}]
[null,"Мас-рестлинг","100",0,0,0,0,0,0,0,0,0,0,0,0,0,0,0,0,0,0,0,0,0,{"$f":"Раздел3!F100","v":0},{"$f":"Раздел3!G100","v":0},{"$f":"Раздел3!H100","v":0},{"$f":"SUM(Раздел6!D101:AY101)","v":0}]
[null,"Международное военно-спортивное многоборье","101",0,0,0,0,0,0,0,0,0,0,0,0,0,0,0,0,0,0,0,0,0,{"$f":"Раздел3!F101","v":0},{"$f":"Раздел3!G101","v":0},{"$f":"Раздел3!H101","v":0},{"$f":"SUM(Раздел6!D102:AY102)","v":0}]
[null,"Многоборье кинологов","102",0,0,0,0,0,0,0,0,0,0,0,0,0,0,0,0,0,0,0,0,0,{"$f":"Раздел3!F102","v":0},{"$f":"Раздел3!G102","v":0},{"$f":"Раздел3!H102","v":0},{"$f":"SUM(Раздел6!D103:AY103)","v":0}]
[null,"Многоборье спасателей МЧС России","103",0,0,0,0,0,0,0,0,0,0,0,0,0,0,0,0,0,0,0,0,0,{"$f":"Раздел3!F103","v":0},{"$f":"Раздел3!G103","v":0},{"$f":"Раздел3!H103","v":0},{"$f":"SUM(Раздел6!D104:AY104)","v":0}]
[null,"Морское многоборье","104",0,0,0,0,0,0,0,0,0,0,0,0,0,0,0,0,0,0,0,0,0,{"$f":"Раздел3!F104","v":0},{"$f":"Раздел3!G104","v":0},{"$f":"Раздел3!H104","v":0},{"$f":"SUM(Раздел6!D105:AY105)","v":0}]
[null,"Мотоциклетный спорт","105",0,0,0,0,0,0,0,0,0,0,0,0,0,0,0,0,0,0,0,0,0,{"$f":"Раздел3!F105","v":0},{"$f":"Раздел3!G105","v":0},{"$f":"Раздел3!H105","v":0},{"$f":"SUM(Раздел6!D106:AY106)","v":0}]
[null,"Настольный теннис","106",8,0,155,0,0,0,0,0,0,0,0,0,0,0,0,0,0,56,0,99,0,{"$f":"Раздел3!F106","v":16},{"$f":"Раздел3!G106","v":0},{"$f":"Раздел3!H106","v":0},{"$f":"SUM(Раздел6!D107:AY107)","v":0}]
[null,"Парашютный спорт","107",0,0,0,0,0,0,0,0,0,0,0,0,0,0,0,0,0,0,0,0,0,{"$f":"Раздел3!F107","v":0},{"$f":"Раздел3!G107","v":0},{"$f":"Раздел3!H107","v":0},{"$f":"SUM(Раздел6!D108:AY108)","v":0}]
[null,"Парусный спорт","108",0,0,0,0,0,0,0,0,0,0,0,0,0,0,0,0,0,0,0,0,0,{"$f":"Раздел3!F108","v":0},{"$f":"Раздел3!G108","v":0},{"$f":"Раздел3!H108","v":0},{"$f":"SUM(Раздел6!D109:AY109)","v":0}]
[null,"Пауэрлифтинг","109",1,0,8,0,0,0,0,0,0,0,0,0,0,0,0,0,0,8,0,0,0,{"$f":"Раздел3!F109","v":0},{"$f":"Раздел3!G109","v":0},{"$f":"Раздел3!H109","v":0},{"$f":"SUM(Раздел6!D110:AY110)","v":0}]
[null,"Перетягивание каната","110",0,0,0,0,0,0,0,0,0,0,0,0,0,0,0,0,0,0,0,0,0,{"$f":"Раздел3!F110","v":0},{"$f":"Раздел3!G110","v":0},{"$f":"Раздел3!H110","v":0},{"$f":"SUM(Раздел6!D111:AY111)","v":0}]
[null,"Петанк","111",0,0,0,0,0,0,0,0,0,0,0,0,0,0,0,0,0,0,0,0,0,{"$f":"Раздел3!F111","v":0},{"$f":"Раздел3!G111","v":0},{"$f":"Раздел3!H111","v":0},{"$f":"SUM(Раздел6!D112:AY112)","v":0}]
[null,"Плавание - всего","112",2,0,139,0,0,0,0,0,0,0,0,0,0,0,0,0,0,90,0,49,0,{"$f":"Раздел3!F112","v":0},{"$f":"Раздел3!G112","v":0},{"$f":"Раздел3!H112","v":0},{"$f":"SUM(Раздел6!D113:AY113)","v":0}]
[null,"в том числе:\nПлавание ","113",2,0,139,0,0,0,0,0,0,0,0,0,0,0,0,0,0,90,0,49,0,{"$f":"Раздел3!F113","v":0},{"$f":"Раздел3!G113","v":0},{"$f":"Раздел3!H113","v":0},{"$f":"SUM(Раздел6!D114:AY114)","v":0}]
[null,"Открытая вода","114",0,0,0,0,0,0,0,0,0,0,0,0,0,0,0,0,0,0,0,0,0,{"$f":"Раздел3!F114","v":0},{"$f":"Раздел3!G114","v":0},{"$f":"Раздел3!H114","v":0},{"$f":"SUM(Раздел6!D115:AY115)","v":0}]
[null,"Планерный спорт","115",0,0,0,0,0,0,0,0,0,0,0,0,0,0,0,0,0,0,0,0,0,{"$f":"Раздел3!F115","v":0},{"$f":"Раздел3!G115","v":0},{"$f":"Раздел3!H115","v":0},{"$f":"SUM(Раздел6!D116:AY116)","v":0}]
[null,"Подводный спорт","116",0,0,0,0,0,0,0,0,0,0,0,0,0,0,0,0,0,0,0,0,0,{"$f":"Раздел3!F116","v":0},{"$f":"Раздел3!G116","v":0},{"$f":"Раздел3!H116","v":0},{"$f":"SUM(Раздел6!D117:AY117)","v":0}]
[null,"Пожарно-спасательный спорт","117",0,0,0,0,0,0,0,0,0,0,0,0,0,0,0,0,0,0,0,0,0,{"$f":"Раздел3!F117","v":0},{"$f":"Раздел3!G117","v":0},{"$f":"Раздел3!H117","v":0},{"$f":"SUM(Раздел6!D118:AY118)","v":0}]
[null,"Полиатлон","118",0,0,0,0,0,0,0,0,0,0,0,0,0,0,0,0,0,0,0,0,0,{"$f":"Раздел3!F118","v":0},{"$f":"Раздел3!G118","v":0},{"$f":"Раздел3!H118","v":0},{"$f":"SUM(Раздел6!D119:AY119)","v":0}]
[null,"Практическая стрельба","119",0,0,0,0,0,0,0,0,0,0,0,0,0,0,0,0,0,0,0,0,0,{"$f":"Раздел3!F119","v":0},{"$f":"Раздел3!G119","v":0},{"$f":"Раздел3!H119","v":0},{"$f":"SUM(Раздел6!D120:AY120)","v":0}]
[null,"Прыжки в воду - всего","120",0,0,0,0,0,0,0,0,0,0,0,0,0,0,0,0,0,0,0,0,0,{"$f":"Раздел3!F120","v":0},{"$f":"Раздел3!G120","v":0},{"$f":"Раздел3!H120","v":0},{"$f":"SUM(Раздел6!D121:AY121)","v":0}]
[null,"в том числе:\nПрыжки в воду","121",0,0,0,0,0,0,0,0,0,0,0,0,0,0,0,0,0,0,0,0,0,{"$f":"Раздел3!F121","v":0},{"$f":"Раздел3!G121","v":0},{"$f":"Раздел3!H121","v":0},{"$f":"SUM(Раздел6!D122:AY122)","v":0}]
[null,"Прыжки в открытый водоем","122",0,0,0,0,0,0,0,0,0,0,0,0,0,0,0,0,0,0,0,0,0,{"$f":"Раздел3!F122","v":0},{"$f":"Раздел3!G122","v":0},{"$f":"Раздел3!H122","v":0},{"$f":"SUM(Раздел6!D123:AY123)","v":0}]
[null,"Прыжки на батуте - всего","123",1,0,100,0,0,0,0,0,0,0,0,0,0,0,0,0,0,0,0,100,0,{"$f":"Раздел3!F123","v":0},{"$f":"Раздел3!G123","v":0},{"$f":"Раздел3!H123","v":0},{"$f":"SUM(Раздел6!D124:AY124)","v":0}]
[null,"в том числе:\nАкробатическая дорожка","124",1,0,20,0,0,0,0,0,0,0,0,0,0,0,0,0,0,0,0,20,0,{"$f":"Раздел3!F124","v":0},{"$f":"Раздел3!G124","v":0},{"$f":"Раздел3!H124","v":0},{"$f":"SUM(Раздел6!D125:AY125)","v":0}]
[null,"Двойной минитрамп","125",1,0,20,0,0,0,0,0,0,0,0,0,0,0,0,0,0,0,0,20,0,{"$f":"Раздел3!F125","v":0},{"$f":"Раздел3!G125","v":0},{"$f":"Раздел3!H125","v":0},{"$f":"SUM(Раздел6!D126:AY126)","v":0}]
[null,"Индивидуальные прыжки","126",1,0,60,0,0,0,0,0,0,0,0,0,0,0,0,0,0,0,0,60,0,{"$f":"Раздел3!F126","v":0},{"$f":"Раздел3!G126","v":0},{"$f":"Раздел3!H126","v":0},{"$f":"SUM(Раздел6!D127:AY127)","v":0}]
[null,"Синхронные прыжки","127",0,0,0,0,0,0,0,0,0,0,0,0,0,0,0,0,0,0,0,0,0,{"$f":"Раздел3!F127","v":0},{"$f":"Раздел3!G127","v":0},{"$f":"Раздел3!H127","v":0},{"$f":"SUM(Раздел6!D128:AY128)","v":0}]
[null,"Прыжки на лыжах с трамплина","128",0,0,0,0,0,0,0,0,0,0,0,0,0,0,0,0,0,0,0,0,0,{"$f":"Раздел3!F128","v":0},{"$f":"Раздел3!G128","v":0},{"$f":"Раздел3!H128","v":0},{"$f":"SUM(Раздел6!D129:AY129)","v":0}]
[null,"Пулевая стрельба - всего","129",0,0,0,0,0,0,0,0,0,0,0,0,0,0,0,0,0,0,0,0,0,{"$f":"Раздел3!F129","v":0},{"$f":"Раздел3!G129","v":0},{"$f":"Раздел3!H129","v":0},{"$f":"SUM(Раздел6!D130:AY130)","v":0}]
[null,"в том числе:\nПневматическая винтовка","130",0,0,0,0,0,0,0,0,0,0,0,0,0,0,0,0,0,0,0,0,0,{"$f":"Раздел3!F130","v":0},{"$f":"Раздел3!G130","v":0},{"$f":"Раздел3!H130","v":0},{"$f":"SUM(Раздел6!D131:AY131)","v":0}]
[null,"Пневматический пистолет","131",0,0,0,0,0,0,0,0,0,0,0,0,0,0,0,0,0,0,0,0,0,{"$f":"Раздел3!F131","v":0},{"$f":"Раздел3!G131","v":0},{"$f":"Раздел3!H131","v":0},{"$f":"SUM(Раздел6!D132:AY132)","v":0}]
[null,"Малокалиберная винтовка","132",0,0,0,0,0,0,0,0,0,0,0,0,0,0,0,0,0,0,0,0,0,{"$f":"Раздел3!F132","v":0},{"$f":"Раздел3!G132","v":0},{"$f":"Раздел3!H132","v":0},{"$f":"SUM(Раздел6!D133:AY133)","v":0}]
[null,"Малокалиберный пистолет","133",0,0,0,0,0,0,0,0,0,0,0,0,0,0,0,0,0,0,0,0,0,{"$f":"Раздел3!F133","v":0},{"$f":"Раздел3!G133","v":0},{"$f":"Раздел3!H133","v":0},{"$f":"SUM(Раздел6!D134:AY134)","v":0}]
[null,"Движущаяся мишень","134",0,0,0,0,0,0,0,0,0,0,0,0,0,0,0,0,0,0,0,0,0,{"$f":"Раздел3!F134","v":0},{"$f":"Раздел3!G134","v":0},{"$f":"Раздел3!H134","v":0},{"$f":"SUM(Раздел6!D135:AY135)","v":0}]
[null,"Пэйнтбол","135",0,0,0,0,0,0,0,0,0,0,0,0,0,0,0,0,0,0,0,0,0,{"$f":"Раздел3!F135","v":0},{"$f":"Раздел3!G135","v":0},{"$f":"Раздел3!H135","v":0},{"$f":"SUM(Раздел6!D136:AY136)","v":0}]
[null,"Радиоспорт","136",0,0,0,0,0,0,0,0,0,0,0,0,0,0,0,0,0,0,0,0,0,{"$f":"Раздел3!F136","v":0},{"$f":"Раздел3!G136","v":0},{"$f":"Раздел3!H136","v":0},{"$f":"SUM(Раздел6!D137:AY137)","v":0}]
[null,"Рафтинг","137",0,0,0,0,0,0,0,0,0,0,0,0,0,0,0,0,0,0,0,0,0,{"$f":"Раздел3!F137","v":0},{"$f":"Раздел3!G137","v":0},{"$f":"Раздел3!H137","v":0},{"$f":"SUM(Раздел6!D138:AY138)","v":0}]
[null,"Регби - всего","138",0,0,0,0,0,0,0,0,0,0,0,0,0,0,0,0,0,0,0,0,0,{"$f":"Раздел3!F138","v":0},{"$f":"Раздел3!G138","v":0},{"$f":"Раздел3!H138","v":0},{"$f":"SUM(Раздел6!D139:AY139)","v":0}]
[null,"в том числе:\nРегби","139",0,0,0,0,0,0,0,0,0,0,0,0,0,0,0,0,0,0,0,0,0,{"$f":"Раздел3!F139","v":0},{"$f":"Раздел3!G139","v":0},{"$f":"Раздел3!H139","v":0},{"$f":"SUM(Раздел6!D140:AY140)","v":0}]
[null,"Регби 7 (муж.)","140",0,0,0,0,0,0,0,0,0,0,0,0,0,0,0,0,0,0,0,0,0,{"$f":"Раздел3!F140","v":0},{"$f":"Раздел3!G140","v":0},{"$f":"Раздел3!H140","v":0},{"$f":"SUM(Раздел6!D141:AY141)","v":0}]
[null,"Регби 7 (жен.)","141",0,0,0,0,0,0,0,0,0,0,0,0,0,0,0,0,0,0,0,0,0,{"$f":"Раздел3!F141","v":0},{"$f":"Раздел3!G141","v":0},{"$f":"Раздел3!H141","v":0},{"$f":"SUM(Раздел6!D142:AY142)","v":0}]
[null,"Регби - пляжное","142",0,0,0,0,0,0,0,0,0,0,0,0,0,0,0,0,0,0,0,0,0,{"$f":"Раздел3!F142","v":0},{"$f":"Раздел3!G142","v":0},{"$f":"Раздел3!H142","v":0},{"$f":"SUM(Раздел6!D143:AY143)","v":0}]
[null,"Регбол","143",0,0,0,0,0,0,0,0,0,0,0,0,0,0,0,0,0,0,0,0,0,{"$f":"Раздел3!F143","v":0},{"$f":"Раздел3!G143","v":0},{"$f":"Раздел3!H143","v":0},{"$f":"SUM(Раздел6!D144:AY144)","v":0}]
[null,"Роллер спорт","144",0,0,0,0,0,0,0,0,0,0,0,0,0,0,0,0,0,0,0,0,0,{"$f":"Раздел3!F144","v":0},{"$f":"Раздел3!G144","v":0},{"$f":"Раздел3!H144","v":0},{"$f":"SUM(Раздел6!D145:AY145)","v":0}]
[null,"Рукопашный бой","145",0,0,0,0,0,0,0,0,0,0,0,0,0,0,0,0,0,0,0,0,0,{"$f":"Раздел3!F145","v":0},{"$f":"Раздел3!G145","v":0},{"$f":"Раздел3!H145","v":0},{"$f":"SUM(Раздел6!D146:AY146)","v":0}]
[null,"Рыболовный спорт","146",0,0,0,0,0,0,0,0,0,0,0,0,0,0,0,0,0,0,0,0,0,{"$f":"Раздел3!F146","v":0},{"$f":"Раздел3!G146","v":0},{"$f":"Раздел3!H146","v":0},{"$f":"SUM(Раздел6!D147:AY147)","v":0}]
[null,"Сават","147",0,0,0,0,0,0,0,0,0,0,0,0,0,0,0,0,0,0,0,0,0,{"$f":"Раздел3!F147","v":0},{"$f":"Раздел3!G147","v":0},{"$f":"Раздел3!H147","v":0},{"$f":"SUM(Раздел6!D148:AY148)","v":0}]
[null,"Самбо","148",11,0,1359,0,88,74,76,8,0,44,148,50,4,148,10,0,0,83,0,1030,0,{"$f":"Раздел3!F148","v":0},{"$f":"Раздел3!G148","v":0},{"$f":"Раздел3!H148","v":0},{"$f":"SUM(Раздел6!D149:AY149)","v":0}]
[null,"Самолетный спорт","149",0,0,0,0,0,0,0,0,0,0,0,0,0,0,0,0,0,0,0,0,0,{"$f":"Раздел3!F149","v":0},{"$f":"Раздел3!G149","v":0},{"$f":"Раздел3!H149","v":0},{"$f":"SUM(Раздел6!D150:AY150)","v":0}]
[null,"Санный спорт","150",0,0,0,0,0,0,0,0,0,0,0,0,0,0,0,0,0,0,0,0,0,{"$f":"Раздел3!F150","v":0},{"$f":"Раздел3!G150","v":0},{"$f":"Раздел3!H150","v":0},{"$f":"SUM(Раздел6!D151:AY151)","v":0}]
[null,"Северное многоборье","151",0,0,0,0,0,0,0,0,0,0,0,0,0,0,0,0,0,0,0,0,0,{"$f":"Раздел3!F151","v":0},{"$f":"Раздел3!G151","v":0},{"$f":"Раздел3!H151","v":0},{"$f":"SUM(Раздел6!D152:AY152)","v":0}]
[null,"Серфинг","152",0,0,0,0,0,0,0,0,0,0,0,0,0,0,0,0,0,0,0,0,0,{"$f":"Раздел3!F152","v":0},{"$f":"Раздел3!G152","v":0},{"$f":"Раздел3!H152","v":0},{"$f":"SUM(Раздел6!D153:AY153)","v":0}]
[null,"Синхронное плавание","153",0,0,0,0,0,0,0,0,0,0,0,0,0,0,0,0,0,0,0,0,0,{"$f":"Раздел3!F153","v":0},{"$f":"Раздел3!G153","v":0},{"$f":"Раздел3!H153","v":0},{"$f":"SUM(Раздел6!D154:AY154)","v":0}]
[null,"Скалолазание","154",0,0,0,0,0,0,0,0,0,0,0,0,0,0,0,0,0,0,0,0,0,{"$f":"Раздел3!F154","v":0},{"$f":"Раздел3!G154","v":0},{"$f":"Раздел3!H154","v":0},{"$f":"SUM(Раздел6!D155:AY155)","v":0}]
[null,"Сквош","155",0,0,0,0,0,0,0,0,0,0,0,0,0,0,0,0,0,0,0,0,0,{"$f":"Раздел3!F155","v":74},{"$f":"Раздел3!G155","v":76},{"$f":"Раздел3!H155","v":8},{"$f":"SUM(Раздел6!D156:AY156)","v":2}]
[null,"Скейтбординг","156",0,0,0,0,0,0,0,0,0,0,0,0,0,0,0,0,0,0,0,0,0,{"$f":"Раздел3!F156","v":0},{"$f":"Раздел3!G156","v":0},{"$f":"Раздел3!H156","v":0},{"$f":"SUM(Раздел6!D157:AY157)","v":0}]
[null,"Служебно-прикладной спорт","157",0,0,0,0,0,0,0,0,0,0,0,0,0,0,0,0,0,0,0,0,0,{"$f":"Раздел3!F157","v":0},{"$f":"Раздел3!G157","v":0},{"$f":"Раздел3!H157","v":0},{"$f":"SUM(Раздел6!D158:AY158)","v":0}]
[null,"Служебно-прикладной спорт ФСО России","158",0,0,0,0,0,0,0,0,0,0,0,0,0,0,0,0,0,0,0,0,0,{"$f":"Раздел3!F158","v":0},{"$f":"Раздел3!G158","v":0},{"$f":"Раздел3!H158","v":0},{"$f":"SUM(Раздел6!D159:AY159)","v":0}]
[null,"Служебно-прикладной спорт ФТС России","159",0,0,0,0,0,0,0,0,0,0,0,0,0,0,0,0,0,0,0,0,0,{"$f":"Раздел3!F159","v":0},{"$f":"Раздел3!G159","v":0},{"$f":"Раздел3!H159","v":0},{"$f":"SUM(Раздел6!D160:AY160)","v":0}]
[null,"Служебное двоеборье","160",0,0,0,0,0,0,0,0,0,0,0,0,0,0,0,0,0,0,0,0,0,{"$f":"Раздел3!F160","v":0},{"$f":"Раздел3!G160","v":0},{"$f":"Раздел3!H160","v":0},{"$f":"SUM(Раздел6!D161:AY161)","v":0}]
[null,"Служебное единоборство","161",0,0,0,0,0,0,0,0,0,0,0,0,0,0,0,0,0,0,0,0,0,{"$f":"Раздел3!F161","v":0},{"$f":"Раздел3!G161","v":0},{"$f":"Раздел3!H161","v":0},{"$f":"SUM(Раздел6!D162:AY162)","v":0}]
[null,"Служебное многоборье","162",0,0,0,0,0,0,0,0,0,0,0,0,0,0,0,0,0,0,0,0,0,{"$f":"Раздел3!F162","v":0},{"$f":"Раздел3!G162","v":0},{"$f":"Раздел3!H162","v":0},{"$f":"SUM(Раздел6!D163:AY163)","v":0}]
[null,"Служебный биатлон","163",0,0,0,0,0,0,0,0,0,0,0,0,0,0,0,0,0,0,0,0,0,{"$f":"Раздел3!F163","v":0},{"$f":"Раздел3!G163","v":0},{"$f":"Раздел3!H163","v":0},{"$f":"SUM(Раздел6!D164:AY164)","v":0}]
[null,"Спасательный спорт","164",0,0,0,0,0,0,0,0,0,0,0,0,0,0,0,0,0,0,0,0,0,{"$f":"Раздел3!F164","v":0},{"$f":"Раздел3!G164","v":0},{"$f":"Раздел3!H164","v":0},{"$f":"SUM(Раздел6!D165:AY165)","v":0}]
[null,"Стрельба из боевого ручного стрелкового оружия","165",0,0,0,0,0,0,0,0,0,0,0,0,0,0,0,0,0,0,0,0,0,{"$f":"Раздел3!F165","v":0},{"$f":"Раздел3!G165","v":0},{"$f":"Раздел3!H165","v":0},{"$f":"SUM(Раздел6!D166:AY166)","v":0}]
[null,"Стрельба из штатного или табельного оружия","166",0,0,0,0,0,0,0,0,0,0,0,0,0,0,0,0,0,0,0,0,0,{"$f":"Раздел3!F166","v":0},{"$f":"Раздел3!G166","v":0},{"$f":"Раздел3!H166","v":0},{"$f":"SUM(Раздел6!D167:AY167)","v":0}]
[null,"Смешанное боевое единоборство (ММА)","167",0,0,0,0,0,0,0,0,0,0,0,0,0,0,0,0,0,0,0,0,0,{"$f":"Раздел3!F167","v":0},{"$f":"Раздел3!G167","v":0},{"$f":"Раздел3!H167","v":0},{"$f":"SUM(Раздел6!D168:AY168)","v":0}]
[null,"Сноуборд","168",1,0,30,0,15,0,0,0,0,10,5,0,0,0,0,0,0,0,0,15,0,{"$f":"Раздел3!F168","v":0},{"$f":"Раздел3!G168","v":0},{"$f":"Раздел3!H168","v":0},{"$f":"SUM(Раздел6!D169:AY169)","v":0}]
[null,"Современное пятиборье","169",0,0,0,0,0,0,0,0,0,0,0,0,0,0,0,0,0,0,0,0,0,{"$f":"Раздел3!F169","v":0},{"$f":"Раздел3!G169","v":0},{"$f":"Раздел3!H169","v":0},{"$f":"SUM(Раздел6!D170:AY170)","v":0}]
[null,"Софтбол","170",0,0,0,0,0,0,0,0,0,0,0,0,0,0,0,0,0,0,0,0,0,{"$f":"Раздел3!F170","v":0},{"$f":"Раздел3!G170","v":0},{"$f":"Раздел3!H170","v":0},{"$f":"SUM(Раздел6!D171:AY171)","v":0}]
[null,"Спорт сверхлегкой авиации","171",0,0,0,0,0,0,0,0,0,0,0,0,0,0,0,0,0,0,0,0,0,{"$f":"Раздел3!F171","v":0},{"$f":"Раздел3!G171","v":0},{"$f":"Раздел3!H171","v":0},{"$f":"SUM(Раздел6!D172:AY172)","v":0}]
[null,"Спортивная акробатика","172",1,0,226,0,0,0,0,0,0,0,0,0,0,0,0,0,0,0,0,226,0,{"$f":"Раздел3!F172","v":0},{"$f":"Раздел3!G172","v":0},{"$f":"Раздел3!H172","v":0},{"$f":"SUM(Раздел6!D173:AY173)","v":0}]
[null,"Спортивная аэробика","173",0,0,0,0,0,0,0,0,0,0,0,0,0,0,0,0,0,0,0,0,0,{"$f":"Раздел3!F173","v":0},{"$f":"Раздел3!G173","v":0},{"$f":"Раздел3!H173","v":0},{"$f":"SUM(Раздел6!D174:AY174)","v":0}]
[null,"Спортивная борьба - всего","174",8,0,1194,0,106,77,85,7,0,147,98,30,0,180,0,0,0,49,0,870,0,{"$f":"Раздел3!F174","v":0},{"$f":"Раздел3!G174","v":0},{"$f":"Раздел3!H174","v":0},{"$f":"SUM(Раздел6!D175:AY175)","v":0}]
[null,"в том числе:\nВольная борьба","175",2,0,78,0,0,0,0,0,0,0,0,0,0,0,0,0,0,29,0,49,0,{"$f":"Раздел3!F175","v":0},{"$f":"Раздел3!G175","v":0},{"$f":"Раздел3!H175","v":0},{"$f":"SUM(Раздел6!D176:AY176)","v":0}]
[null,"Греко-римская борьба","176",8,0,1116,0,106,77,85,7,0,147,98,30,0,180,0,0,0,20,0,821,0,{"$f":"Раздел3!F176","v":0},{"$f":"Раздел3!G176","v":0},{"$f":"Раздел3!H176","v":0},{"$f":"SUM(Раздел6!D177:AY177)","v":0}]
[null,"Грэпплинг","177",0,0,0,0,0,0,0,0,0,0,0,0,0,0,0,0,0,0,0,0,0,{"$f":"Раздел3!F177","v":0},{"$f":"Раздел3!G177","v":0},{"$f":"Раздел3!H177","v":0},{"$f":"SUM(Раздел6!D178:AY178)","v":0}]
[null,"Грэпплинг-ги","178",0,0,0,0,0,0,0,0,0,0,0,0,0,0,0,0,0,0,0,0,0,{"$f":"Раздел3!F178","v":0},{"$f":"Раздел3!G178","v":0},{"$f":"Раздел3!H178","v":0},{"$f":"SUM(Раздел6!D179:AY179)","v":0}]
[null,"Панкратион","179",0,0,0,0,0,0,0,0,0,0,0,0,0,0,0,0,0,0,0,0,0,{"$f":"Раздел3!F179","v":0},{"$f":"Раздел3!G179","v":0},{"$f":"Раздел3!H179","v":0},{"$f":"SUM(Раздел6!D180:AY180)","v":0}]
[null,"Спортивная гимнастика","180",0,0,0,0,0,0,0,0,0,0,0,0,0,0,0,0,0,0,0,0,0,{"$f":"Раздел3!F180","v":0},{"$f":"Раздел3!G180","v":0},{"$f":"Раздел3!H180","v":0},{"$f":"SUM(Раздел6!D181:AY181)","v":0}]
[null,"Спортивная йога","181",0,0,0,0,0,0,0,0,0,0,0,0,0,0,0,0,0,0,0,0,0,{"$f":"Раздел3!F181","v":77},{"$f":"Раздел3!G181","v":85},{"$f":"Раздел3!H181","v":7},{"$f":"SUM(Раздел6!D182:AY182)","v":6}]
[null,"Спортивно-прикладное собаководство","182",0,0,0,0,0,0,0,0,0,0,0,0,0,0,0,0,0,0,0,0,0,{"$f":"Раздел3!F182","v":0},{"$f":"Раздел3!G182","v":0},{"$f":"Раздел3!H182","v":0},{"$f":"SUM(Раздел6!D183:AY183)","v":1}]
[null,"Спортивное ориентирование","183",6,0,114,0,13,5,0,0,0,18,0,0,0,0,8,0,0,84,0,12,0,{"$f":"Раздел3!F183","v":77},{"$f":"Раздел3!G183","v":85},{"$f":"Раздел3!H183","v":7},{"$f":"SUM(Раздел6!D184:AY184)","v":5}]
[null,"Спортивный бридж","184",0,0,0,0,0,0,0,0,0,0,0,0,0,0,0,0,0,0,0,0,0,{"$f":"Раздел3!F184","v":0},{"$f":"Раздел3!G184","v":0},{"$f":"Раздел3!H184","v":0},{"$f":"SUM(Раздел6!D185:AY185)","v":0}]
[null,"Спортивный туризм","185",0,0,0,0,0,0,0,0,0,0,0,0,0,0,0,0,0,0,0,0,0,{"$f":"Раздел3!F185","v":0},{"$f":"Раздел3!G185","v":0},{"$f":"Раздел3!H185","v":0},{"$f":"SUM(Раздел6!D186:AY186)","v":0}]
[null,"Стендовая стрельба - всего","186",0,0,0,0,0,0,0,0,0,0,0,0,0,0,0,0,0,0,0,0,0,{"$f":"Раздел3!F186","v":0},{"$f":"Раздел3!G186","v":0},{"$f":"Раздел3!H186","v":0},{"$f":"SUM(Раздел6!D187:AY187)","v":0}]
[null,"в том числе:\nТрап","187",0,0,0,0,0,0,0,0,0,0,0,0,0,0,0,0,0,0,0,0,0,{"$f":"Раздел3!F187","v":0},{"$f":"Раздел3!G187","v":0},{"$f":"Раздел3!H187","v":0},{"$f":"SUM(Раздел6!D188:AY188)","v":0}]
[null,"Скит","188",0,0,0,0,0,0,0,0,0,0,0,0,0,0,0,0,0,0,0,0,0,{"$f":"Раздел3!F188","v":0},{"$f":"Раздел3!G188","v":0},{"$f":"Раздел3!H188","v":0},{"$f":"SUM(Раздел6!D189:AY189)","v":0}]
[null,"Дубль-трап","189",0,0,0,0,0,0,0,0,0,0,0,0,0,0,0,0,0,0,0,0,0,{"$f":"Раздел3!F189","v":0},{"$f":"Раздел3!G189","v":0},{"$f":"Раздел3!H189","v":0},{"$f":"SUM(Раздел6!D190:AY190)","v":0}]
[null,"Спортинг","190",0,0,0,0,0,0,0,0,0,0,0,0,0,0,0,0,0,0,0,0,0,{"$f":"Раздел3!F190","v":5},{"$f":"Раздел3!G190","v":0},{"$f":"Раздел3!H190","v":0},{"$f":"SUM(Раздел6!D191:AY191)","v":0}]
[null,"Стрельба из арбалета","191",0,0,0,0,0,0,0,0,0,0,0,0,0,0,0,0,0,0,0,0,0,{"$f":"Раздел3!F191","v":0},{"$f":"Раздел3!G191","v":0},{"$f":"Раздел3!H191","v":0},{"$f":"SUM(Раздел6!D192:AY192)","v":0}]
[null,"Стрельба из лука - всего","192",1,0,16,0,0,0,0,0,0,0,0,0,0,0,0,0,0,16,0,0,0,{"$f":"Раздел3!F192","v":0},{"$f":"Раздел3!G192","v":0},{"$f":"Раздел3!H192","v":0},{"$f":"SUM(Раздел6!D193:AY193)","v":0}]
[null,"в том числе:\nКлассический лук","193",1,0,16,0,0,0,0,0,0,0,0,0,0,0,0,0,0,16,0,0,0,{"$f":"Раздел3!F193","v":0},{"$f":"Раздел3!G193","v":0},{"$f":"Раздел3!H193","v":0},{"$f":"SUM(Раздел6!D194:AY194)","v":0}]
[null,"   Блочный лук","194",0,0,0,0,0,0,0,0,0,0,0,0,0,0,0,0,0,0,0,0,0,{"$f":"Раздел3!F194","v":0},{"$f":"Раздел3!G194","v":0},{"$f":"Раздел3!H194","v":0},{"$f":"SUM(Раздел6!D195:AY195)","v":0}]
[null,"   Ачери ","195",0,0,0,0,0,0,0,0,0,0,0,0,0,0,0,0,0,0,0,0,0,{"$f":"Раздел3!F195","v":0},{"$f":"Раздел3!G195","v":0},{"$f":"Раздел3!H195","v":0},{"$f":"SUM(Раздел6!D196:AY196)","v":0}]
[null,"Судомодельный спорт","196",0,0,0,0,0,0,0,0,0,0,0,0,0,0,0,0,0,0,0,0,0,{"$f":"Раздел3!F196","v":0},{"$f":"Раздел3!G196","v":0},{"$f":"Раздел3!H196","v":0},{"$f":"SUM(Раздел6!D197:AY197)","v":0}]
[null,"Сумо","197",0,0,0,0,0,0,0,0,0,0,0,0,0,0,0,0,0,0,0,0,0,{"$f":"Раздел3!F197","v":0},{"$f":"Раздел3!G197","v":0},{"$f":"Раздел3!H197","v":0},{"$f":"SUM(Раздел6!D198:AY198)","v":0}]
[null,"Тайский бокс","198",0,0,0,0,0,0,0,0,0,0,0,0,0,0,0,0,0,0,0,0,0,{"$f":"Раздел3!F198","v":0},{"$f":"Раздел3!G198","v":0},{"$f":"Раздел3!H198","v":0},{"$f":"SUM(Раздел6!D199:AY199)","v":0}]
[null,"Танцевальный спорт","199",0,0,0,0,0,0,0,0,0,0,0,0,0,0,0,0,0,0,0,0,0,{"$f":"Раздел3!F199","v":0},{"$f":"Раздел3!G199","v":0},{"$f":"Раздел3!H199","v":0},{"$f":"SUM(Раздел6!D200:AY200)","v":0}]
[null,"Теннис","200",0,0,0,0,0,0,0,0,0,0,0,0,0,0,0,0,0,0,0,0,0,{"$f":"Раздел3!F200","v":0},{"$f":"Раздел3!G200","v":0},{"$f":"Раздел3!H200","v":0},{"$f":"SUM(Раздел6!D201:AY201)","v":0}]
[null,"Триатлон","201",0,0,0,0,0,0,0,0,0,0,0,0,0,0,0,0,0,0,0,0,0,{"$f":"Раздел3!F201","v":0},{"$f":"Раздел3!G201","v":0},{"$f":"Раздел3!H201","v":0},{"$f":"SUM(Раздел6!D202:AY202)","v":0}]
[null,"Тхэквондо - всего","202",0,0,0,0,0,0,0,0,0,0,0,0,0,0,0,0,0,0,0,0,0,{"$f":"Раздел3!F202","v":0},{"$f":"Раздел3!G202","v":0},{"$f":"Раздел3!H202","v":0},{"$f":"SUM(Раздел6!D203:AY203)","v":0}]
[null,"в том числе:\nТхэквондо (ГТФ, ИТФ, МФТ)","203",0,0,0,0,0,0,0,0,0,0,0,0,0,0,0,0,0,0,0,0,0,{"$f":"Раздел3!F203","v":0},{"$f":"Раздел3!G203","v":0},{"$f":"Раздел3!H203","v":0},{"$f":"SUM(Раздел6!D204:AY204)","v":0}]
[null,"Тхэквондо (ВТФ)","204",0,0,0,0,0,0,0,0,0,0,0,0,0,0,0,0,0,0,0,0,0,{"$f":"Раздел3!F204","v":0},{"$f":"Раздел3!G204","v":0},{"$f":"Раздел3!H204","v":0},{"$f":"SUM(Раздел6!D205:AY205)","v":0}]
[null,"Тяжелая атлетика","205",0,0,0,0,0,0,0,0,0,0,0,0,0,0,0,0,0,0,0,0,0,{"$f":"Раздел3!F205","v":0},{"$f":"Раздел3!G205","v":0},{"$f":"Раздел3!H205","v":0},{"$f":"SUM(Раздел6!D206:AY206)","v":0}]
[null,"Универсальный бой","206",0,0,0,0,0,0,0,0,0,0,0,0,0,0,0,0,0,0,0,0,0,{"$f":"Раздел3!F206","v":0},{"$f":"Раздел3!G206","v":0},{"$f":"Раздел3!H206","v":0},{"$f":"SUM(Раздел6!D207:AY207)","v":0}]
[null,"Ушу","207",0,0,0,0,0,0,0,0,0,0,0,0,0,0,0,0,0,0,0,0,0,{"$f":"Раздел3!F207","v":0},{"$f":"Раздел3!G207","v":0},{"$f":"Раздел3!H207","v":0},{"$f":"SUM(Раздел6!D208:AY208)","v":0}]
[null,"Фехтование - всего","208",0,0,0,0,0,0,0,0,0,0,0,0,0,0,0,0,0,0,0,0,0,{"$f":"Раздел3!F208","v":0},{"$f":"Раздел3!G208","v":0},{"$f":"Раздел3!H208","v":0},{"$f":"SUM(Раздел6!D209:AY209)","v":0}]
[null,"в том числе:\nРапира","209",0,0,0,0,0,0,0,0,0,0,0,0,0,0,0,0,0,0,0,0,0,{"$f":"Раздел3!F209","v":0},{"$f":"Раздел3!G209","v":0},{"$f":"Раздел3!H209","v":0},{"$f":"SUM(Раздел6!D210:AY210)","v":0}]
[null,"Сабля","210",0,0,0,0,0,0,0,0,0,0,0,0,0,0,0,0,0,0,0,0,0,{"$f":"Раздел3!F210","v":0},{"$f":"Раздел3!G210","v":0},{"$f":"Раздел3!H210","v":0},{"$f":"SUM(Раздел6!D211:AY211)","v":0}]
[null,"Шпага","211",0,0,0,0,0,0,0,0,0,0,0,0,0,0,0,0,0,0,0,0,0,{"$f":"Раздел3!F211","v":0},{"$f":"Раздел3!G211","v":0},{"$f":"Раздел3!H211","v":0},{"$f":"SUM(Раздел6!D212:AY212)","v":0},null,null,null,"Частично перешли",{"$f":"SUM(Раздел3!E212:H212)","v":0}]
[null,"Арт-фехтование","212",0,0,0,0,0,0,0,0,0,0,0,0,0,0,0,0,0,0,0,0,0,{"$f":"Раздел3!F212","v":0},{"$f":"Раздел3!G212","v":0},{"$f":"Раздел3!H212","v":0},{"$f":"SUM(Раздел6!D213:AY213)","v":0},{"$f":"Раздел10!D16","v":12},null,null,{"$f":"Раздел1!G18","v":0}]
[null,"Фигурное катание на коньках","213",0,0,0,0,0,0,0,0,0,0,0,0,0,0,0,0,0,0,0,0,0,{"$f":"Раздел3!F213","v":0},{"$f":"Раздел3!G213","v":0},{"$f":"Раздел3!H213","v":0},null,null,null,null,"Перешли"]
[null,"Фитнес-аэробика","214",0,0,0,0,0,0,0,0,0,0,0,0,0,0,0,0,0,0,0,0,0,{"$f":"Раздел3!F214","v":0},{"$f":"Раздел3!G214","v":0},{"$f":"Раздел3!H214","v":0},null,null,null,null,{"$f":"Раздел1!J18","v":0}]
[null,"Флаинг диск","215",0,0,0,0,0,0,0,0,0,0,0,0,0,0,0,0,0,0,0,0,0,{"$f":"Раздел3!F215","v":0},{"$f":"Раздел3!G215","v":0},{"$f":"Раздел3!H215","v":0}]
[null,"Флорбол","216",0,0,0,0,0,0,0,0,0,0,0,0,0,0,0,0,0,0,0,0,0,{"$f":"Раздел3!F216","v":0},{"$f":"Раздел3!G216","v":0},{"$f":"Раздел3!H216","v":0}]
[null,"Фристайл - всего","217",0,0,0,0,0,0,0,0,0,0,0,0,0,0,0,0,0,0,0,0,0,{"$f":"Раздел3!F217","v":0},{"$f":"Раздел3!G217","v":0},{"$f":"Раздел3!H217","v":0}]
[null,"в том числе:\nАкробатика","218",0,0,0,0,0,0,0,0,0,0,0,0,0,0,0,0,0,0,0,0,0,{"$f":"Раздел3!F218","v":0},{"$f":"Раздел3!G218","v":0},{"$f":"Раздел3!H218","v":0}]
[null,"Могул","219",0,0,0,0,0,0,0,0,0,0,0,0,0,0,0,0,0,0,0,0,0,{"$f":"Раздел3!F219","v":0},{"$f":"Раздел3!G219","v":0},{"$f":"Раздел3!H219","v":0}]
[null,"Ски-кросс","220",0,0,0,0,0,0,0,0,0,0,0,0,0,0,0,0,0,0,0,0,0,{"$f":"Раздел3!F220","v":0},{"$f":"Раздел3!G220","v":0},{"$f":"Раздел3!H220","v":0}]
[null,"Хаф-пайп","221",0,0,0,0,0,0,0,0,0,0,0,0,0,0,0,0,0,0,0,0,0,{"$f":"Раздел3!F221","v":0},{"$f":"Раздел3!G221","v":0},{"$f":"Раздел3!H221","v":0}]
[null,"Слоуп-стайл","222",0,0,0,0,0,0,0,0,0,0,0,0,0,0,0,0,0,0,0,0,0,{"$f":"Раздел3!F222","v":0},{"$f":"Раздел3!G222","v":0},{"$f":"Раздел3!H222","v":0}]
[null,"Функциональное многоборье","223",0,0,0,0,0,0,0,0,0,0,0,0,0,0,0,0,0,0,0,0,0,{"$f":"Раздел3!F223","v":0},{"$f":"Раздел3!G223","v":0},{"$f":"Раздел3!H223","v":0}]
[null,"Футбол - всего","224",8,0,596,0,0,0,0,0,0,0,0,0,0,0,0,0,0,151,0,445,0,{"$f":"Раздел3!F224","v":0},{"$f":"Раздел3!G224","v":0},{"$f":"Раздел3!H224","v":0}]
[null,"в том числе:\nФутбол (муж.)","225",7,0,585,0,0,0,0,0,0,0,0,0,0,0,0,0,0,140,0,445,0,{"$f":"Раздел3!F225","v":0},{"$f":"Раздел3!G225","v":0},{"$f":"Раздел3!H225","v":0}]
[null,"Футбол (жен.)","226",0,0,0,0,0,0,0,0,0,0,0,0,0,0,0,0,0,0,0,0,0,{"$f":"Раздел3!F226","v":0},{"$f":"Раздел3!G226","v":0},{"$f":"Раздел3!H226","v":0}]
[null,"Мини-футбол (футзал)","227",1,0,11,0,0,0,0,0,0,0,0,0,0,0,0,0,0,11,0,0,0,{"$f":"Раздел3!F227","v":0},{"$f":"Раздел3!G227","v":0},{"$f":"Раздел3!H227","v":0}]
[null,"Пляжный футбол","228",0,0,0,0,0,0,0,0,0,0,0,0,0,0,0,0,0,0,0,0,0,{"$f":"Раздел3!F228","v":0},{"$f":"Раздел3!G228","v":0},{"$f":"Раздел3!H228","v":0}]
[null,"Хапсагай","229",0,0,0,0,0,0,0,0,0,0,0,0,0,0,0,0,0,0,0,0,0,{"$f":"Раздел3!F229","v":0},{"$f":"Раздел3!G229","v":0},{"$f":"Раздел3!H229","v":0}]
[null,"Хоккей - всего","230",3,0,100,0,0,0,0,0,0,0,0,0,0,0,0,0,0,48,0,52,0,{"$f":"Раздел3!F230","v":0},{"$f":"Раздел3!G230","v":0},{"$f":"Раздел3!H230","v":0}]
[null,"в том числе:\nХоккей (муж.)","231",3,0,100,0,0,0,0,0,0,0,0,0,0,0,0,0,0,48,0,52,0,{"$f":"Раздел3!F231","v":0},{"$f":"Раздел3!G231","v":0},{"$f":"Раздел3!H231","v":0}]
[null,"Хоккей (жен.)","232",0,0,0,0,0,0,0,0,0,0,0,0,0,0,0,0,0,0,0,0,0,{"$f":"Раздел3!F232","v":0},{"$f":"Раздел3!G232","v":0},{"$f":"Раздел3!H232","v":0}]
[null,"Хоккей на траве - всего","233",0,0,0,0,0,0,0,0,0,0,0,0,0,0,0,0,0,0,0,0,0]
[null,"в том числе:\nХоккей на траве (муж.)","234",0,0,0,0,0,0,0,0,0,0,0,0,0,0,0,0,0,0,0,0,0]
[null,"Хоккей на траве (жен.)","235",0,0,0,0,0,0,0,0,0,0,0,0,0,0,0,0,0,0,0,0,0]
[null,"Индорхоккей","236",0,0,0,0,0,0,0,0,0,0,0,0,0,0,0,0,0,0,0,0,0]
[null,"Хоккей с мячом","237",4,0,166,0,10,10,0,0,0,20,0,0,0,0,0,0,0,32,0,114,0]
[null,"Художественная гимнастика","238",3,0,232,0,0,0,0,0,0,0,0,0,0,0,0,0,0,13,0,219,0]
[null,"Хуреш","239",0,0,0,0,0,0,0,0,0,0,0,0,0,0,0,0,0,0,0,0,0]
[null,"Чир спорт","240",0,0,0,0,0,0,0,0,0,0,0,0,0,0,0,0,0,0,0,0,0]
[null,"Шахматы","241",2,0,30,0,0,0,0,0,0,0,0,0,0,0,0,0,0,10,0,20,0]
[null,"Шашки","242",0,0,0,0,0,0,0,0,0,0,0,0,0,0,0,0,0,0,0,0,0]
[null,"Шодсанлат","243",0,0,0,0,0,0,0,0,0,0,0,0,0,0,0,0,0,0,0,0,0]
[null,"Эстетическая гимнастика","244",0,0,0,0,0,0,0,0,0,0,0,0,0,0,0,0,0,0,0,0,0]
[null,"Якутские национальные прыжки","245",0,0,0,0,0,0,0,0,0,0,0,0,0,0,0,0,0,0,0,0,0]
[null,"ИТОГО","246",121,1,8496,0,468,349,173,22,0,612,302,93,5,523,33,0,0,1649,0,5835,0]
[null,"ИТОГО по олимпийским видам спорта","247",93,1,6519,0,357,260,97,14,0,530,154,43,1,375,15,0,0,1358,0,4433,0]
[null,"  в том числе: \n  по летним видам спорта","248",77,1,5696,0,219,165,97,14,0,308,143,43,1,375,10,0,0,1159,0,4042,0]
[null,"  по зимним видам спорта","249",16,0,823,0,138,95,0,0,0,222,11,0,0,0,5,0,0,199,0,391,0]
[null,"ИТОГО по неолимпийским видам спорта","250",28,0,1977,0,111,89,76,8,0,82,148,50,4,148,18,0,0,291,0,1402,0]
[null,"ИТОГО по национальным видам спорта","251",0,0,0,0,0,0,0,0,0,0,0,0,0,0,0,0,0,0,0,0,0]
[null,"ИТОГО по прикладным видам спорта","252",0,0,0,0,0,0,0,0,0,0,0,0,0,0,0,0,0,0,0,0,0]
[null,"        По виду организации: \nДЮСШ - отделения, не соответствующие Перечню \"Олимпийский\"","253",110,0,7565,0,161,110,0,0,0,260,11,0,0,0,13,0,0,1459,0,5835,0]
[null,"     из них по \n     ведомственной\n     принадлежности: \nорганы управления в сфере образования","254",92,0,6101,0,0,0,0,0,0,0,0,0,0,0,0,0,0,1459,0,4642,0]
[null,"органы управления в сфере физической культуры и \nспорта","255",18,0,1464,0,161,110,0,0,0,260,11,0,0,0,13,0,0,0,0,1193,0]
[null,"другая ведомственная принадлежность","256",0,0,0,0,0,0,0,0,0,0,0,0,0,0,0,0,0,0,0,0,0]
[null,"СШ - отделения, не соответствующие Перечню \"Олимпийский\"","257",3,0,704,0,307,221,161,15,0,336,278,86,4,498,15,0,0,0,0,0,0]
[null,"     из них по \n     ведомственной\n     принадлежности: \nорганы управления в сфере образования","258",0,0,0,0,0,0,0,0,0,0,0,0,0,0,0,0,0,0,0,0,0]
[null,"органы управления в сфере физической культуры и \nспорта","259",3,0,704,0,307,221,161,15,0,336,278,86,4,498,15,0,0,0,0,0,0]
[null,"другая ведомственная принадлежность","260",0,0,0,0,0,0,0,0,0,0,0,0,0,0,0,0,0,0,0,0,0]
[null,"СДЮСШОР - отделения, соответствующие Перечню \"Олимпийский\"","261",0,0,0,0,0,0,0,0,0,0,0,0,0,0,0,0,0,0,0,0,0]
[null,"     из них по \n     ведомственной\n     принадлежности:\nорганы управления в сфере образования","262",0,0,0,0,0,0,0,0,0,0,0,0,0,0,0,0,0,0,0,0,0]
[null,"органы управления в сфере физической культуры и спорта","263",0,0,0,0,0,0,0,0,0,0,0,0,0,0,0,0,0,0,0,0,0]
[null,"другая ведомственная принадлежность","264",0,0,0,0,0,0,0,0,0,0,0,0,0,0,0,0,0,0,0,0,0]
[null,"СШОР - отделения, соответствующие Перечню \"Олимпийский\"","265",1,1,37,0,0,18,12,7,0,16,13,7,1,25,5,0,0,0,0,0,0]
[null,"     из них по \n     ведомственной\n     принадлежности:\nорганы управления в сфере образования","266",0,0,0,0,0,0,0,0,0,0,0,0,0,0,0,0,0,0,0,0,0]
[null,"органы управления в сфере физической культуры и спорта","267",1,1,37,0,0,18,12,7,0,16,13,7,1,25,5,0,0,0,0,0,0]
[null,"другая ведомственная принадлежность","268",0,0,0,0,0,0,0,0,0,0,0,0,0,0,0,0,0,0,0,0,0]
[null,"УОР","269",0,0,0,0,0,0,0,0,0,0,0,0,0,0,0,0,0,0,0,0,0]
[null,"     из них по\n     ведомственной\n     принадлежности:\nорганы управления в сфере образования","270",0,0,0,0,0,0,0,0,0,0,0,0,0,0,0,0,0,0,0,0,0]
[null,"органы управления в сфере физической культуры и спорта","271",0,0,0,0,0,0,0,0,0,0,0,0,0,0,0,0,0,0,0,0,0]
[null,"другая ведомственная принадлежность","272",0,0,0,0,0,0,0,0,0,0,0,0,0,0,0,0,0,0,0,0,0]
[null,"ЦСП","273",0,0,0,0,0,0,0,0,0,0,0,0,0,0,0,0,0,0,0,0,0]
[null,"     из них по\n     ведомственной\n     принадлежности:\nорганы управления в сфере образования","274",0,0,0,0,0,0,0,0,0,0,0,0,0,0,0,0,0,0,0,0,0]
[null,"органы управления в сфере физической культуры и спорта","275",0,0,0,0,0,0,0,0,0,0,0,0,0,0,0,0,0,0,0,0,0]
[null,"другая ведомственная принадлежность","276",0,0,0,0,0,0,0,0,0,0,0,0,0,0,0,0,0,0,0,0,0]
[null,"ЦОП","277",0,0,0,0,0,0,0,0,0,0,0,0,0,0,0,0,0,0,0,0,0]
[null,"     из них по\n     ведомственной\n     принадлежности:\nорганы управления в сфере образования","278",0,0,0,0,0,0,0,0,0,0,0,0,0,0,0,0,0,0,0,0,0]
[null,"органы управления в сфере физической культуры и спорта","279",0,0,0,0,0,0,0,0,0,0,0,0,0,0,0,0,0,0,0,0,0]
[null,"другая ведомственная принадлежность","280",0,0,0,0,0,0,0,0,0,0,0,0,0,0,0,0,0,0,0,0,0]
[null,"Другие организации","281",7,0,190,0,0,0,0,0,0,0,0,0,0,0,0,0,0,190,0,0,0]
[null,"     из них по\n     ведомственной\n     принадлежности:\nорганы управления в сфере образования","282",7,0,190,0,0,0,0,0,0,0,0,0,0,0,0,0,0,190,0,0,0]
[null,"органы управления в сфере физической культуры и спорта","283",0,0,0,0,0,0,0,0,0,0,0,0,0,0,0,0,0,0,0,0,0]
[null,"другая ведомственная принадлежность","284",0,0,0,0,0,0,0,0,0,0,0,0,0,0,0,0,0,0,0,0,0]

{"sheet":"Раздел3","index":3,"n_rows":292,"n_cols":31,"rows_kept":292,"cut":false,"hidden":false,"merged":[[2,21,5,21],[3,3,5,3],[2,8,2,12],[2,13,2,17],[3,8,5,8],[3,13,5,13],[2,19,5,19],[2,20,5,20],[0,18,122,18],[3,4,4,7],[3,9,4,12],[3,14,4,17],[0,0,122,0],[0,1,0,17],[2,1,5,1],[2,2,5,2],[1,13,1,17],[2,3,2,7]]}
[null,"Раздел III. Численность занимающихся по программам спортивной подготовки"]
[null,null,null,null,null,null,null,null,null,null,null,null,null,"Код по ОКЕИ: человек – 792"]
[null,"Виды спорта","№ строки","Число занимающихся по программам спортивной подготовки на 31 декабря отчетного года (из гр. 7-10 раздела II)",null,null,null,null,"Число занимающихся, зачисленных на программы \nспортивной подготовки в отчетном году",null,null,null,null,"Число занимающихся, отчисленных с программ \nспортивной подготовки в отчетном году",null,null,null,null,null,null,"Раздел2 графа3\nЧисло отделений","Раздел2 графа5\nЧисло отделений"]
[null,null,null,"всего","в том числе по этапам подготовки",null,null,null,"всего","в том числе по этапам подготовки",null,null,null,"всего","в том числе по этапам подготовки"]
[]
[null,null,null,null,"начальной подготовки","трениро-вочный","совершен-ствования спортивного мастерства","высшего спортивного мастерства",null,"начальной подготовки","трениро-вочный","совершен-ствования спортивного мастерства","высшего спортивного мастерства",null,"начальной подготовки","трениро-вочный","совершен-ствования спортивного мастерства","высшего спортивного мастерства",null,null,null,null,"2-7","2-8","2-9","2-10"]
[null,1,2,3,4,5,6,7,8,9,10,11,12,13,14,15,16,17]
[null,"Авиамодельный спорт","01",0,0,0,0,0,0,0,0,0,0,0,0,0,0,0,null,null,{"$f":"Раздел2!F9","v":0},{"$f":"Раздел2!F9","v":0},{"$f":"Раздел2!H9","v":0},{"$f":"Раздел2!I9","v":0},{"$f":"Раздел2!J9","v":0},{"$f":"Раздел2!K9","v":0},null,null,0]
[null,"Автомобильный спорт","02",0,0,0,0,0,0,0,0,0,0,0,0,0,0,0,null,null,{"$f":"Раздел2!F10","v":0},{"$f":"Раздел2!F10","v":0},{"$f":"Раздел2!H10","v":0},{"$f":"Раздел2!I10","v":0},{"$f":"Раздел2!J10","v":0},{"$f":"Раздел2!K10","v":0}]
[null,"Автомодельный спорт","03",0,0,0,0,0,0,0,0,0,0,0,0,0,0,0,null,null,{"$f":"Раздел2!F12","v":0},{"$f":"Раздел2!F12","v":0},{"$f":"Раздел2!H12","v":0},{"$f":"Раздел2!I12","v":0},{"$f":"Раздел2!J12","v":0},{"$f":"Раздел2!K12","v":0}]
[null,"Айкидо","04",0,0,0,0,0,0,0,0,0,0,0,0,0,0,0,null,null,{"$f":"Раздел2!F14","v":0},{"$f":"Раздел2!F14","v":0},{"$f":"Раздел2!H14","v":0},{"$f":"Раздел2!I14","v":0},{"$f":"Раздел2!J14","v":0},{"$f":"Раздел2!K14","v":0}]
[null,"Айсшток","05",0,0,0,0,0,0,0,0,0,0,0,0,0,0,0,null,null,{"$f":"Раздел2!F15","v":0},{"$f":"Раздел2!F15","v":0},{"$f":"Раздел2!H15","v":0},{"$f":"Раздел2!I15","v":0},{"$f":"Раздел2!J15","v":0},{"$f":"Раздел2!K15","v":0}]
[null,"Акробатический рок-н-ролл","06",0,0,0,0,0,0,0,0,0,0,0,0,0,0,0,null,null,{"$f":"Раздел2!F16","v":0},{"$f":"Раздел2!F16","v":0},{"$f":"Раздел2!H16","v":0},{"$f":"Раздел2!I16","v":0},{"$f":"Раздел2!J16","v":0},{"$f":"Раздел2!K16","v":0}]
[null,"Альпинизм","07",0,0,0,0,0,0,0,0,0,0,0,0,0,0,0,null,null,{"$f":"Раздел2!F18","v":0},{"$f":"Раздел2!F18","v":0},{"$f":"Раздел2!H18","v":0},{"$f":"Раздел2!I18","v":0},{"$f":"Раздел2!J18","v":0},{"$f":"Раздел2!K18","v":0}]
[null,"Американский футбол","08",0,0,0,0,0,0,0,0,0,0,0,0,0,0,0,null,null,{"$f":"Раздел2!F19","v":0},{"$f":"Раздел2!F19","v":0},{"$f":"Раздел2!H19","v":0},{"$f":"Раздел2!I19","v":0},{"$f":"Раздел2!J19","v":0},{"$f":"Раздел2!K19","v":0}]
[null,"Армейский рукопашный бой","09",0,0,0,0,0,0,0,0,0,0,0,0,0,0,0,null,null,{"$f":"Раздел2!F20","v":96},{"$f":"Раздел2!F20","v":96},{"$f":"Раздел2!H20","v":0},{"$f":"Раздел2!I20","v":0},{"$f":"Раздел2!J20","v":0},{"$f":"Раздел2!K20","v":0}]
[null,"Армрестлинг","10",0,0,0,0,0,0,0,0,0,0,0,0,0,0,0,null,null,{"$f":"Раздел2!F21","v":52},{"$f":"Раздел2!F21","v":52},{"$f":"Раздел2!H21","v":0},{"$f":"Раздел2!I21","v":0},{"$f":"Раздел2!J21","v":0},{"$f":"Раздел2!K21","v":0}]
[null,"Бадминтон","11",0,0,0,0,0,0,0,0,0,0,0,0,0,0,0,null,null,{"$f":"Раздел2!F22","v":44},{"$f":"Раздел2!F22","v":44},{"$f":"Раздел2!H22","v":0},{"$f":"Раздел2!I22","v":0},{"$f":"Раздел2!J22","v":0},{"$f":"Раздел2!K22","v":0}]
[null,"Баскетбол - всего","12",0,0,0,0,0,0,0,0,0,0,0,0,0,0,0,null,null,{"$f":"Раздел2!F23","v":0},{"$f":"Раздел2!F23","v":0},{"$f":"Раздел2!H23","v":0},{"$f":"Раздел2!I23","v":0},{"$f":"Раздел2!J23","v":0},{"$f":"Раздел2!K23","v":0}]
[null,"в том числе:\nБаскетбол (муж.)","13",0,0,0,0,0,0,0,0,0,0,0,0,0,0,0,null,null,{"$f":"Раздел2!F24","v":50},{"$f":"Раздел2!F24","v":50},{"$f":"Раздел2!H24","v":27},{"$f":"Раздел2!I24","v":0},{"$f":"Раздел2!J24","v":0},{"$f":"Раздел2!K24","v":0}]
[null,"Баскетбол (жен.)","14",0,0,0,0,0,0,0,0,0,0,0,0,0,0,0,null,null,{"$f":"Раздел2!F25","v":0},{"$f":"Раздел2!F25","v":0},{"$f":"Раздел2!H25","v":0},{"$f":"Раздел2!I25","v":0},{"$f":"Раздел2!J25","v":0},{"$f":"Раздел2!K25","v":0}]
[null,"Бейсбол","15",0,0,0,0,0,0,0,0,0,0,0,0,0,0,0,null,null,{"$f":"Раздел2!F26","v":0},{"$f":"Раздел2!F26","v":0},{"$f":"Раздел2!H26","v":0},{"$f":"Раздел2!I26","v":0},{"$f":"Раздел2!J26","v":0},{"$f":"Раздел2!K26","v":0}]
[null,"Биатлон","16",27,27,0,0,0,0,0,0,0,0,0,0,0,0,0,null,null,{"$f":"Раздел2!F27","v":0},{"$f":"Раздел2!F27","v":0},{"$f":"Раздел2!H27","v":0},{"$f":"Раздел2!I27","v":0},{"$f":"Раздел2!J27","v":0},{"$f":"Раздел2!K27","v":0}]
[null,"Бильярдный спорт","17",0,0,0,0,0,0,0,0,0,0,0,0,0,0,0,null,null,{"$f":"Раздел2!F28","v":0},{"$f":"Раздел2!F28","v":0},{"$f":"Раздел2!H28","v":0},{"$f":"Раздел2!I28","v":0},{"$f":"Раздел2!J28","v":0},{"$f":"Раздел2!K28","v":0}]
[null,"Бобслей - всего","18",0,0,0,0,0,0,0,0,0,0,0,0,0,0,0,null,null,{"$f":"Раздел2!F29","v":0},{"$f":"Раздел2!F29","v":0},{"$f":"Раздел2!H29","v":0},{"$f":"Раздел2!I29","v":0},{"$f":"Раздел2!J29","v":0},{"$f":"Раздел2!K29","v":0}]
[null,"в том числе:\nБобслей","19",0,0,0,0,0,0,0,0,0,0,0,0,0,0,0,null,null,{"$f":"Раздел2!F30","v":382},{"$f":"Раздел2!F30","v":382},{"$f":"Раздел2!H30","v":0},{"$f":"Раздел2!I30","v":0},{"$f":"Раздел2!J30","v":0},{"$f":"Раздел2!K30","v":0}]
[null,"Скелетон","20",0,0,0,0,0,0,0,0,0,0,0,0,0,0,0,null,null,{"$f":"Раздел2!F31","v":0},{"$f":"Раздел2!F31","v":0},{"$f":"Раздел2!H31","v":0},{"$f":"Раздел2!I31","v":0},{"$f":"Раздел2!J31","v":0},{"$f":"Раздел2!K31","v":0}]
[null,"Бодибилдинг","21",0,0,0,0,0,0,0,0,0,0,0,0,0,0,0,null,null,{"$f":"Раздел2!F32","v":0},{"$f":"Раздел2!F32","v":0},{"$f":"Раздел2!H32","v":0},{"$f":"Раздел2!I32","v":0},{"$f":"Раздел2!J32","v":0},{"$f":"Раздел2!K32","v":0}]
[null,"Бокс","22",0,0,0,0,0,0,0,0,0,0,0,0,0,0,0,null,null,{"$f":"Раздел2!F33","v":0},{"$f":"Раздел2!F33","v":0},{"$f":"Раздел2!H33","v":0},{"$f":"Раздел2!I33","v":0},{"$f":"Раздел2!J33","v":0},{"$f":"Раздел2!K33","v":0}]
[null,"Борьба на поясах","23",0,0,0,0,0,0,0,0,0,0,0,0,0,0,0,null,null,{"$f":"Раздел2!F38","v":0},{"$f":"Раздел2!F38","v":0},{"$f":"Раздел2!H38","v":0},{"$f":"Раздел2!I38","v":0},{"$f":"Раздел2!J38","v":0},{"$f":"Раздел2!K38","v":0}]
[null,"Боулинг","24",0,0,0,0,0,0,0,0,0,0,0,0,0,0,0,null,null,{"$f":"Раздел2!F39","v":0},{"$f":"Раздел2!F39","v":0},{"$f":"Раздел2!H39","v":0},{"$f":"Раздел2!I39","v":0},{"$f":"Раздел2!J39","v":0},{"$f":"Раздел2!K39","v":0}]
[null,"Велосипедный спорт - всего","25",0,0,0,0,0,0,0,0,0,0,0,0,0,0,0,null,null,{"$f":"Раздел2!F40","v":0},{"$f":"Раздел2!F40","v":0},{"$f":"Раздел2!H40","v":0},{"$f":"Раздел2!I40","v":0},{"$f":"Раздел2!J40","v":0},{"$f":"Раздел2!K40","v":0}]
[null,"в том числе:\nBMX","26",0,0,0,0,0,0,0,0,0,0,0,0,0,0,0]
[null,"Маунтинбайк","27",0,0,0,0,0,0,0,0,0,0,0,0,0,0,0]
[null,"Трек","28",0,0,0,0,0,0,0,0,0,0,0,0,0,0,0]
[null,"Шоссе","29",0,0,0,0,0,0,0,0,0,0,0,0,0,0,0]
[null,"Вертолетный спорт","30",0,0,0,0,0,0,0,0,0,0,0,0,0,0,0,null,null,{"$f":"Раздел2!F41","v":0},{"$f":"Раздел2!F41","v":0},{"$f":"Раздел2!H41","v":0},{"$f":"Раздел2!I41","v":0},{"$f":"Раздел2!J41","v":0},{"$f":"Раздел2!K41","v":0}]
[null,"Водно-моторный спорт","31",0,0,0,0,0,0,0,0,0,0,0,0,0,0,0,null,null,{"$f":"Раздел2!F42","v":0},{"$f":"Раздел2!F42","v":0},{"$f":"Раздел2!H42","v":0},{"$f":"Раздел2!I42","v":0},{"$f":"Раздел2!J42","v":0},{"$f":"Раздел2!K42","v":0}]
[null,"Водно-спасательное многоборье","32",0,0,0,0,0,0,0,0,0,0,0,0,0,0,0,null,null,{"$f":"Раздел2!F43","v":0},{"$f":"Раздел2!F43","v":0},{"$f":"Раздел2!H43","v":0},{"$f":"Раздел2!I43","v":0},{"$f":"Раздел2!J43","v":0},{"$f":"Раздел2!K43","v":0}]
[null,"Водное поло - всего ","33",0,0,0,0,0,0,0,0,0,0,0,0,0,0,0,null,null,{"$f":"Раздел2!F44","v":0},{"$f":"Раздел2!F44","v":0},{"$f":"Раздел2!H44","v":0},{"$f":"Раздел2!I44","v":0},{"$f":"Раздел2!J44","v":0},{"$f":"Раздел2!K44","v":0}]
[null,"в том числе:\nВодное поло (муж.)","34",0,0,0,0,0,0,0,0,0,0,0,0,0,0,0,null,null,{"$f":"Раздел2!F45","v":0},{"$f":"Раздел2!F45","v":0},{"$f":"Раздел2!H45","v":0},{"$f":"Раздел2!I45","v":0},{"$f":"Раздел2!J45","v":0},{"$f":"Раздел2!K45","v":0}]
[null,"Водное поло (жен.)","35",0,0,0,0,0,0,0,0,0,0,0,0,0,0,0,null,null,{"$f":"Раздел2!F46","v":0},{"$f":"Раздел2!F46","v":0},{"$f":"Раздел2!H46","v":0},{"$f":"Раздел2!I46","v":0},{"$f":"Раздел2!J46","v":0},{"$f":"Раздел2!K46","v":0}]
[null,"Воднолыжный спорт","36",0,0,0,0,0,0,0,0,0,0,0,0,0,0,0,null,null,{"$f":"Раздел2!F49","v":517},{"$f":"Раздел2!F49","v":517},{"$f":"Раздел2!H49","v":0},{"$f":"Раздел2!I49","v":0},{"$f":"Раздел2!J49","v":0},{"$f":"Раздел2!K49","v":0}]
[null,"Военно-прикладной спорт","37",0,0,0,0,0,0,0,0,0,0,0,0,0,0,0,null,null,{"$f":"Раздел2!F50","v":563},{"$f":"Раздел2!F50","v":563},{"$f":"Раздел2!H50","v":0},{"$f":"Раздел2!I50","v":0},{"$f":"Раздел2!J50","v":0},{"$f":"Раздел2!K50","v":0}]
[null,"Военно-спортивное многоборье","38",0,0,0,0,0,0,0,0,0,0,0,0,0,0,0,null,null,{"$f":"Раздел2!F51","v":0},{"$f":"Раздел2!F51","v":0},{"$f":"Раздел2!H51","v":0},{"$f":"Раздел2!I51","v":0},{"$f":"Раздел2!J51","v":0},{"$f":"Раздел2!K51","v":0}]
[null,"Воздухоплавательный спорт","39",0,0,0,0,0,0,0,0,0,0,0,0,0,0,0,null,null,{"$f":"Раздел2!F52","v":0},{"$f":"Раздел2!F52","v":0},{"$f":"Раздел2!H52","v":0},{"$f":"Раздел2!I52","v":0},{"$f":"Раздел2!J52","v":0},{"$f":"Раздел2!K52","v":0}]
[null,"Волейбол - всего","40",0,0,0,0,0,0,0,0,0,0,0,0,0,0,0,null,null,{"$f":"Раздел2!F53","v":0},{"$f":"Раздел2!F53","v":0},{"$f":"Раздел2!H53","v":0},{"$f":"Раздел2!I53","v":0},{"$f":"Раздел2!J53","v":0},{"$f":"Раздел2!K53","v":0}]
[null,"в том числе:\nВолейбол (муж.)","41",0,0,0,0,0,0,0,0,0,0,0,0,0,0,0,null,null,{"$f":"Раздел2!F54","v":0},{"$f":"Раздел2!F54","v":0},{"$f":"Раздел2!H54","v":0},{"$f":"Раздел2!I54","v":0},{"$f":"Раздел2!J54","v":0},{"$f":"Раздел2!K54","v":0}]
[null,"Волейбол (жен.)","42",0,0,0,0,0,0,0,0,0,0,0,0,0,0,0,null,null,{"$f":"Раздел2!F55","v":428},{"$f":"Раздел2!F55","v":428},{"$f":"Раздел2!H55","v":0},{"$f":"Раздел2!I55","v":0},{"$f":"Раздел2!J55","v":0},{"$f":"Раздел2!K55","v":0}]
[null,"Пляжный волейбол (муж.)","43",0,0,0,0,0,0,0,0,0,0,0,0,0,0,0,null,null,{"$f":"Раздел2!F56","v":205},{"$f":"Раздел2!F56","v":205},{"$f":"Раздел2!H56","v":0},{"$f":"Раздел2!I56","v":0},{"$f":"Раздел2!J56","v":0},{"$f":"Раздел2!K56","v":0}]
[null,"Пляжный волейбол (жен.)","44",0,0,0,0,0,0,0,0,0,0,0,0,0,0,0,null,null,{"$f":"Раздел2!F57","v":223},{"$f":"Раздел2!F57","v":223},{"$f":"Раздел2!H57","v":0},{"$f":"Раздел2!I57","v":0},{"$f":"Раздел2!J57","v":0},{"$f":"Раздел2!K57","v":0}]
[null,"Восточное боевое единоборство","45",0,0,0,0,0,0,0,0,0,0,0,0,0,0,0,null,null,{"$f":"Раздел2!F58","v":0},{"$f":"Раздел2!F58","v":0},{"$f":"Раздел2!H58","v":0},{"$f":"Раздел2!I58","v":0},{"$f":"Раздел2!J58","v":0},{"$f":"Раздел2!K58","v":0}]
[null,"Всестилевое каратэ","46",0,0,0,0,0,0,0,0,0,0,0,0,0,0,0,null,null,{"$f":"Раздел2!F59","v":35},{"$f":"Раздел2!F59","v":35},{"$f":"Раздел2!H59","v":0},{"$f":"Раздел2!I59","v":0},{"$f":"Раздел2!J59","v":0},{"$f":"Раздел2!K59","v":0}]
[null,"Гандбол - всего","47",0,0,0,0,0,0,0,0,0,0,0,0,0,0,0,null,null,{"$f":"Раздел2!F61","v":0},{"$f":"Раздел2!F61","v":0},{"$f":"Раздел2!H61","v":0},{"$f":"Раздел2!I61","v":0},{"$f":"Раздел2!J61","v":0},{"$f":"Раздел2!K61","v":0}]
[null,"в том числе:\nГандбол (муж.)","48",0,0,0,0,0,0,0,0,0,0,0,0,0,0,0,null,null,{"$f":"Раздел2!F62","v":0},{"$f":"Раздел2!F62","v":0},{"$f":"Раздел2!H62","v":0},{"$f":"Раздел2!I62","v":0},{"$f":"Раздел2!J62","v":0},{"$f":"Раздел2!K62","v":0}]
[null,"Гандбол (жен.)","49",0,0,0,0,0,0,0,0,0,0,0,0,0,0,0,null,null,{"$f":"Раздел2!F63","v":350},{"$f":"Раздел2!F63","v":350},{"$f":"Раздел2!H63","v":96},{"$f":"Раздел2!I63","v":79},{"$f":"Раздел2!J63","v":0},{"$f":"Раздел2!K63","v":0}]
[null,"Пляжный гандбол","50",0,0,0,0,0,0,0,0,0,0,0,0,0,0,0,null,null,{"$f":"Раздел2!F64","v":0},{"$f":"Раздел2!F64","v":0},{"$f":"Раздел2!H64","v":0},{"$f":"Раздел2!I64","v":0},{"$f":"Раздел2!J64","v":0},{"$f":"Раздел2!K64","v":0}]
[null,"Гиревой спорт","51",0,0,0,0,0,0,0,0,0,0,0,0,0,0,0,null,null,{"$f":"Раздел2!F65","v":0},{"$f":"Раздел2!F65","v":0},{"$f":"Раздел2!H65","v":0},{"$f":"Раздел2!I65","v":0},{"$f":"Раздел2!J65","v":0},{"$f":"Раздел2!K65","v":0}]
[null,"Го","52",0,0,0,0,0,0,0,0,0,0,0,0,0,0,0,null,null,{"$f":"Раздел2!F66","v":0},{"$f":"Раздел2!F66","v":0},{"$f":"Раздел2!H66","v":0},{"$f":"Раздел2!I66","v":0},{"$f":"Раздел2!J66","v":0},{"$f":"Раздел2!K66","v":0}]
[null,"Гольф","53",0,0,0,0,0,0,0,0,0,0,0,0,0,0,0,null,null,{"$f":"Раздел2!F68","v":0},{"$f":"Раздел2!F68","v":0},{"$f":"Раздел2!H68","v":0},{"$f":"Раздел2!I68","v":0},{"$f":"Раздел2!J68","v":0},{"$f":"Раздел2!K68","v":0}]
[null,"Гонки на охотничьих лыжах","54",0,0,0,0,0,0,0,0,0,0,0,0,0,0,0,null,null,{"$f":"Раздел2!F69","v":0},{"$f":"Раздел2!F69","v":0},{"$f":"Раздел2!H69","v":0},{"$f":"Раздел2!I69","v":0},{"$f":"Раздел2!J69","v":0},{"$f":"Раздел2!K69","v":0}]
[null,"Горнолыжный спорт","55",175,96,79,0,0,175,96,79,0,0,0,0,0,0,0,null,null,{"$f":"Раздел2!F70","v":0},{"$f":"Раздел2!F70","v":0},{"$f":"Раздел2!H70","v":0},{"$f":"Раздел2!I70","v":0},{"$f":"Раздел2!J70","v":0},{"$f":"Раздел2!K70","v":0}]
[null,"Городошный спорт","56",0,0,0,0,0,0,0,0,0,0,0,0,0,0,0,null,null,{"$f":"Раздел2!F71","v":0},{"$f":"Раздел2!F71","v":0},{"$f":"Раздел2!H71","v":0},{"$f":"Раздел2!I71","v":0},{"$f":"Раздел2!J71","v":0},{"$f":"Раздел2!K71","v":0}]
[null,"Гребля на байдарках и каноэ","57",0,0,0,0,0,0,0,0,0,0,0,0,0,0,0,null,null,{"$f":"Раздел2!F72","v":0},{"$f":"Раздел2!F72","v":0},{"$f":"Раздел2!H72","v":0},{"$f":"Раздел2!I72","v":0},{"$f":"Раздел2!J72","v":0},{"$f":"Раздел2!K72","v":0}]
[null,"Гребля на шлюпках","58",0,0,0,0,0,0,0,0,0,0,0,0,0,0,0,null,null,{"$f":"Раздел2!F73","v":0},{"$f":"Раздел2!F73","v":0},{"$f":"Раздел2!H73","v":0},{"$f":"Раздел2!I73","v":0},{"$f":"Раздел2!J73","v":0},{"$f":"Раздел2!K73","v":0}]
[null,"Гребной слалом","59",37,0,18,12,7,0,0,0,0,0,0,0,0,0,0,null,null,{"$f":"Раздел2!F74","v":0},{"$f":"Раздел2!F74","v":0},{"$f":"Раздел2!H74","v":0},{"$f":"Раздел2!I74","v":0},{"$f":"Раздел2!J74","v":0},{"$f":"Раздел2!K74","v":0}]
[null,"Гребной спорт - всего","60",0,0,0,0,0,0,0,0,0,0,0,0,0,0,0,null,null,{"$f":"Раздел2!F75","v":0},{"$f":"Раздел2!F75","v":0},{"$f":"Раздел2!H75","v":0},{"$f":"Раздел2!I75","v":0},{"$f":"Раздел2!J75","v":0},{"$f":"Раздел2!K75","v":0}]
[null,"в том числе:\nАкадемическая гребля","61",0,0,0,0,0,0,0,0,0,0,0,0,0,0,0,null,null,{"$f":"Раздел2!F76","v":674},{"$f":"Раздел2!F76","v":674},{"$f":"Раздел2!H76","v":113},{"$f":"Раздел2!I76","v":70},{"$f":"Раздел2!J76","v":0},{"$f":"Раздел2!K76","v":0}]
[null,"Гребля-индор","62",0,0,0,0,0,0,0,0,0,0,0,0,0,0,0,null,null,{"$f":"Раздел2!F77","v":0},{"$f":"Раздел2!F77","v":0},{"$f":"Раздел2!H77","v":0},{"$f":"Раздел2!I77","v":0},{"$f":"Раздел2!J77","v":0},{"$f":"Раздел2!K77","v":0}]
[null,"Народная гребля","63",0,0,0,0,0,0,0,0,0,0,0,0,0,0,0,null,null,{"$f":"Раздел2!F78","v":0},{"$f":"Раздел2!F78","v":0},{"$f":"Раздел2!H78","v":0},{"$f":"Раздел2!I78","v":0},{"$f":"Раздел2!J78","v":0},{"$f":"Раздел2!K78","v":0}]
[null,"Прибрежная гребля","64",0,0,0,0,0,0,0,0,0,0,0,0,0,0,0,null,null,{"$f":"Раздел2!F79","v":0},{"$f":"Раздел2!F79","v":0},{"$f":"Раздел2!H79","v":0},{"$f":"Раздел2!I79","v":0},{"$f":"Раздел2!J79","v":0},{"$f":"Раздел2!K79","v":0}]
[null,"Гребно-парусное двоеборье","65",0,0,0,0,0,0,0,0,0,0,0,0,0,0,0,null,null,{"$f":"Раздел2!F80","v":0},{"$f":"Раздел2!F80","v":0},{"$f":"Раздел2!H80","v":0},{"$f":"Раздел2!I80","v":0},{"$f":"Раздел2!J80","v":0},{"$f":"Раздел2!K80","v":0}]
[null,"Дартс","66",0,0,0,0,0,0,0,0,0,0,0,0,0,0,0,null,null,{"$f":"Раздел2!F81","v":0},{"$f":"Раздел2!F81","v":0},{"$f":"Раздел2!H81","v":0},{"$f":"Раздел2!I81","v":0},{"$f":"Раздел2!J81","v":0},{"$f":"Раздел2!K81","v":0}]
[null,"Джиу-джитсу","67",0,0,0,0,0,0,0,0,0,0,0,0,0,0,0,null,null,{"$f":"Раздел2!F82","v":0},{"$f":"Раздел2!F82","v":0},{"$f":"Раздел2!H82","v":0},{"$f":"Раздел2!I82","v":0},{"$f":"Раздел2!J82","v":0},{"$f":"Раздел2!K82","v":0}]
[null,"Дзюдо","68",183,113,70,0,0,0,0,0,0,0,0,0,0,0,0,null,null,{"$f":"Раздел2!F83","v":0},{"$f":"Раздел2!F83","v":0},{"$f":"Раздел2!H83","v":0},{"$f":"Раздел2!I83","v":0},{"$f":"Раздел2!J83","v":0},{"$f":"Раздел2!K83","v":0}]
[null,"Ездовой спорт","69",0,0,0,0,0,0,0,0,0,0,0,0,0,0,0,null,null,{"$f":"Раздел2!F84","v":0},{"$f":"Раздел2!F84","v":0},{"$f":"Раздел2!H84","v":0},{"$f":"Раздел2!I84","v":0},{"$f":"Раздел2!J84","v":0},{"$f":"Раздел2!K84","v":0}]
[null,"Капоэйра","70",0,0,0,0,0,0,0,0,0,0,0,0,0,0,0,null,null,{"$f":"Раздел2!F85","v":39},{"$f":"Раздел2!F85","v":39},{"$f":"Раздел2!H85","v":0},{"$f":"Раздел2!I85","v":0},{"$f":"Раздел2!J85","v":0},{"$f":"Раздел2!K85","v":0}]
[null,"Каратэ","71",0,0,0,0,0,0,0,0,0,0,0,0,0,0,0,null,null,{"$f":"Раздел2!F86","v":0},{"$f":"Раздел2!F86","v":0},{"$f":"Раздел2!H86","v":0},{"$f":"Раздел2!I86","v":0},{"$f":"Раздел2!J86","v":0},{"$f":"Раздел2!K86","v":0}]
[null,"Кендо","72",0,0,0,0,0,0,0,0,0,0,0,0,0,0,0,null,null,{"$f":"Раздел2!F87","v":0},{"$f":"Раздел2!F87","v":0},{"$f":"Раздел2!H87","v":0},{"$f":"Раздел2!I87","v":0},{"$f":"Раздел2!J87","v":0},{"$f":"Раздел2!K87","v":0}]
[null,"Керешу","73",0,0,0,0,0,0,0,0,0,0,0,0,0,0,0,null,null,{"$f":"Раздел2!F88","v":0},{"$f":"Раздел2!F88","v":0},{"$f":"Раздел2!H88","v":0},{"$f":"Раздел2!I88","v":0},{"$f":"Раздел2!J88","v":0},{"$f":"Раздел2!K88","v":0}]
[null,"Кёрлинг - всего","74",0,0,0,0,0,0,0,0,0,0,0,0,0,0,0,null,null,{"$f":"Раздел2!F89","v":0},{"$f":"Раздел2!F89","v":0},{"$f":"Раздел2!H89","v":0},{"$f":"Раздел2!I89","v":0},{"$f":"Раздел2!J89","v":0},{"$f":"Раздел2!K89","v":0}]
[null,"в том числе:\nКерлинг (муж.)","75",0,0,0,0,0,0,0,0,0,0,0,0,0,0,0,null,null,{"$f":"Раздел2!F90","v":105},{"$f":"Раздел2!F90","v":105},{"$f":"Раздел2!H90","v":0},{"$f":"Раздел2!I90","v":0},{"$f":"Раздел2!J90","v":0},{"$f":"Раздел2!K90","v":0}]
[null,"Керлинг (жен.)","76",0,0,0,0,0,0,0,0,0,0,0,0,0,0,0,null,null,{"$f":"Раздел2!F91","v":0},{"$f":"Раздел2!F91","v":0},{"$f":"Раздел2!H91","v":0},{"$f":"Раздел2!I91","v":0},{"$f":"Раздел2!J91","v":0},{"$f":"Раздел2!K91","v":0}]
[null,"Кикбоксинг","77",0,0,0,0,0,0,0,0,0,0,0,0,0,0,0,null,null,{"$f":"Раздел2!F92","v":0},{"$f":"Раздел2!F92","v":0},{"$f":"Раздел2!H92","v":0},{"$f":"Раздел2!I92","v":0},{"$f":"Раздел2!J92","v":0},{"$f":"Раздел2!K92","v":0}]
[null,"Кинологический спорт","78",0,0,0,0,0,0,0,0,0,0,0,0,0,0,0,null,null,{"$f":"Раздел2!F93","v":0},{"$f":"Раздел2!F93","v":0},{"$f":"Раздел2!H93","v":0},{"$f":"Раздел2!I93","v":0},{"$f":"Раздел2!J93","v":0},{"$f":"Раздел2!K93","v":0}]
[null,"Киокусинкай","79",0,0,0,0,0,0,0,0,0,0,0,0,0,0,0,null,null,{"$f":"Раздел2!F94","v":0},{"$f":"Раздел2!F94","v":0},{"$f":"Раздел2!H94","v":0},{"$f":"Раздел2!I94","v":0},{"$f":"Раздел2!J94","v":0},{"$f":"Раздел2!K94","v":0}]
[null,"Комплексное единоборство","80",0,0,0,0,0,0,0,0,0,0,0,0,0,0,0,null,null,{"$f":"Раздел2!F95","v":0},{"$f":"Раздел2!F95","v":0},{"$f":"Раздел2!H95","v":0},{"$f":"Раздел2!I95","v":0},{"$f":"Раздел2!J95","v":0},{"$f":"Раздел2!K95","v":0}]
[null,"Компьютерный спорт","81",0,0,0,0,0,0,0,0,0,0,0,0,0,0,0,null,null,{"$f":"Раздел2!F96","v":0},{"$f":"Раздел2!F96","v":0},{"$f":"Раздел2!H96","v":0},{"$f":"Раздел2!I96","v":0},{"$f":"Раздел2!J96","v":0},{"$f":"Раздел2!K96","v":0}]
[null,"Конный спорт","82",0,0,0,0,0,0,0,0,0,0,0,0,0,0,0,null,null,{"$f":"Раздел2!F97","v":0},{"$f":"Раздел2!F97","v":0},{"$f":"Раздел2!H97","v":0},{"$f":"Раздел2!I97","v":0},{"$f":"Раздел2!J97","v":0},{"$f":"Раздел2!K97","v":0}]
[null,"Конькобежный спорт - всего","83",0,0,0,0,0,0,0,0,0,0,0,0,0,0,0,null,null,{"$f":"Раздел2!F98","v":462},{"$f":"Раздел2!F98","v":462},{"$f":"Раздел2!H98","v":0},{"$f":"Раздел2!I98","v":0},{"$f":"Раздел2!J98","v":0},{"$f":"Раздел2!K98","v":0}]
[null,"в том числе:\nКонькобежный спорт","84",0,0,0,0,0,0,0,0,0,0,0,0,0,0,0,null,null,{"$f":"Раздел2!F99","v":162},{"$f":"Раздел2!F99","v":162},{"$f":"Раздел2!H99","v":0},{"$f":"Раздел2!I99","v":0},{"$f":"Раздел2!J99","v":0},{"$f":"Раздел2!K99","v":0}]
[null,"Шорт-трек","85",0,0,0,0,0,0,0,0,0,0,0,0,0,0,0,null,null,{"$f":"Раздел2!F100","v":112},{"$f":"Раздел2!F100","v":112},{"$f":"Раздел2!H100","v":0},{"$f":"Раздел2!I100","v":0},{"$f":"Раздел2!J100","v":0},{"$f":"Раздел2!K100","v":0}]
[null,"Корэш","86",0,0,0,0,0,0,0,0,0,0,0,0,0,0,0,null,null,{"$f":"Раздел2!F101","v":53},{"$f":"Раздел2!F101","v":53},{"$f":"Раздел2!H101","v":0},{"$f":"Раздел2!I101","v":0},{"$f":"Раздел2!J101","v":0},{"$f":"Раздел2!K101","v":0}]
[null,"Корфбол","87",0,0,0,0,0,0,0,0,0,0,0,0,0,0,0,null,null,{"$f":"Раздел2!F102","v":87},{"$f":"Раздел2!F102","v":87},{"$f":"Раздел2!H102","v":0},{"$f":"Раздел2!I102","v":0},{"$f":"Раздел2!J102","v":0},{"$f":"Раздел2!K102","v":0}]
[null,"Кудо","88",0,0,0,0,0,0,0,0,0,0,0,0,0,0,0,null,null,{"$f":"Раздел2!F103","v":26},{"$f":"Раздел2!F103","v":26},{"$f":"Раздел2!H103","v":0},{"$f":"Раздел2!I103","v":0},{"$f":"Раздел2!J103","v":0},{"$f":"Раздел2!K103","v":0}]
[null,"Лапта","89",0,0,0,0,0,0,0,0,0,0,0,0,0,0,0,null,null,{"$f":"Раздел2!F104","v":10},{"$f":"Раздел2!F104","v":10},{"$f":"Раздел2!H104","v":0},{"$f":"Раздел2!I104","v":0},{"$f":"Раздел2!J104","v":0},{"$f":"Раздел2!K104","v":0}]
[null,"Легкая атлетика - всего","90",0,0,0,0,0,0,0,0,0,0,0,0,0,0,0,null,null,{"$f":"Раздел2!F105","v":12},{"$f":"Раздел2!F105","v":12},{"$f":"Раздел2!H105","v":0},{"$f":"Раздел2!I105","v":0},{"$f":"Раздел2!J105","v":0},{"$f":"Раздел2!K105","v":0}]
[null,"в том числе:\nСпринтерский и барьерный бег","91",0,0,0,0,0,0,0,0,0,0,0,0,0,0,0,null,null,{"$f":"Раздел2!F106","v":0},{"$f":"Раздел2!F106","v":0},{"$f":"Раздел2!H106","v":0},{"$f":"Раздел2!I106","v":0},{"$f":"Раздел2!J106","v":0},{"$f":"Раздел2!K106","v":0}]
[null,"Бег на средние дистанции и бег с препятствиями","92",0,0,0,0,0,0,0,0,0,0,0,0,0,0,0,null,null,{"$f":"Раздел2!F107","v":293},{"$f":"Раздел2!F107","v":293},{"$f":"Раздел2!H107","v":0},{"$f":"Раздел2!I107","v":16},{"$f":"Раздел2!J107","v":0},{"$f":"Раздел2!K107","v":0}]
[null,"Бег на длинные и сверхдлинные дистанции","93",0,0,0,0,0,0,0,0,0,0,0,0,0,0,0,null,null,{"$f":"Раздел2!F108","v":0},{"$f":"Раздел2!F108","v":0},{"$f":"Раздел2!H108","v":0},{"$f":"Раздел2!I108","v":0},{"$f":"Раздел2!J108","v":0},{"$f":"Раздел2!K108","v":0}]
[null,"Многоборья","94",0,0,0,0,0,0,0,0,0,0,0,0,0,0,0,null,null,{"$f":"Раздел2!F109","v":0},{"$f":"Раздел2!F109","v":0},{"$f":"Раздел2!H109","v":0},{"$f":"Раздел2!I109","v":0},{"$f":"Раздел2!J109","v":0},{"$f":"Раздел2!K109","v":0}]
[null,"Прыжки","95",0,0,0,0,0,0,0,0,0,0,0,0,0,0,0,null,null,{"$f":"Раздел2!F110","v":0},{"$f":"Раздел2!F110","v":0},{"$f":"Раздел2!H110","v":0},{"$f":"Раздел2!I110","v":0},{"$f":"Раздел2!J110","v":0},{"$f":"Раздел2!K110","v":0}]
[null,"Метания","96",0,0,0,0,0,0,0,0,0,0,0,0,0,0,0,null,null,{"$f":"Раздел2!F111","v":0},{"$f":"Раздел2!F111","v":0},{"$f":"Раздел2!H111","v":0},{"$f":"Раздел2!I111","v":0},{"$f":"Раздел2!J111","v":0},{"$f":"Раздел2!K111","v":0}]
[null,"Спортивная ходьба","97",0,0,0,0,0,0,0,0,0,0,0,0,0,0,0,null,null,{"$f":"Раздел2!F112","v":0},{"$f":"Раздел2!F112","v":0},{"$f":"Раздел2!H112","v":0},{"$f":"Раздел2!I112","v":0},{"$f":"Раздел2!J112","v":0},{"$f":"Раздел2!K112","v":0}]
[null,"Лыжное двоеборье","98",0,0,0,0,0,0,0,0,0,0,0,0,0,0,0,null,null,{"$f":"Раздел2!F113","v":0},{"$f":"Раздел2!F113","v":0},{"$f":"Раздел2!H113","v":0},{"$f":"Раздел2!I113","v":0},{"$f":"Раздел2!J113","v":0},{"$f":"Раздел2!K113","v":0}]
[null,"Лыжные гонки","99",16,0,16,0,0,0,0,0,0,0,0,0,0,0,0,null,null,{"$f":"Раздел2!F114","v":155},{"$f":"Раздел2!F114","v":155},{"$f":"Раздел2!H114","v":0},{"$f":"Раздел2!I114","v":0},{"$f":"Раздел2!J114","v":0},{"$f":"Раздел2!K114","v":0}]
[null,"Мас-рестлинг","100",0,0,0,0,0,0,0,0,0,0,0,0,0,0,0,null,null,{"$f":"Раздел2!F115","v":0},{"$f":"Раздел2!F115","v":0},{"$f":"Раздел2!H115","v":0},{"$f":"Раздел2!I115","v":0},{"$f":"Раздел2!J115","v":0},{"$f":"Раздел2!K115","v":0}]
[null,"Международное военно-спортивное многоборье","101",0,0,0,0,0,0,0,0,0,0,0,0,0,0,0,null,null,{"$f":"Раздел2!F116","v":0},{"$f":"Раздел2!F116","v":0},{"$f":"Раздел2!H116","v":0},{"$f":"Раздел2!I116","v":0},{"$f":"Раздел2!J116","v":0},{"$f":"Раздел2!K116","v":0}]
[null,"Многоборье кинологов","102",0,0,0,0,0,0,0,0,0,0,0,0,0,0,0,null,null,{"$f":"Раздел2!F117","v":8},{"$f":"Раздел2!F117","v":8},{"$f":"Раздел2!H117","v":0},{"$f":"Раздел2!I117","v":0},{"$f":"Раздел2!J117","v":0},{"$f":"Раздел2!K117","v":0}]
[null,"Многоборье спасателей МЧС России","103",0,0,0,0,0,0,0,0,0,0,0,0,0,0,0,null,null,{"$f":"Раздел2!F118","v":0},{"$f":"Раздел2!F118","v":0},{"$f":"Раздел2!H118","v":0},{"$f":"Раздел2!I118","v":0},{"$f":"Раздел2!J118","v":0},{"$f":"Раздел2!K118","v":0}]
[null,"Морское многоборье","104",0,0,0,0,0,0,0,0,0,0,0,0,0,0,0,null,null,{"$f":"Раздел2!F119","v":0},{"$f":"Раздел2!F119","v":0},{"$f":"Раздел2!H119","v":0},{"$f":"Раздел2!I119","v":0},{"$f":"Раздел2!J119","v":0},{"$f":"Раздел2!K119","v":0}]
[null,"Мотоциклетный спорт","105",0,0,0,0,0,0,0,0,0,0,0,0,0,0,0,null,null,{"$f":"Раздел2!F120","v":139},{"$f":"Раздел2!F120","v":139},{"$f":"Раздел2!H120","v":0},{"$f":"Раздел2!I120","v":0},{"$f":"Раздел2!J120","v":0},{"$f":"Раздел2!K120","v":0}]
[null,"Настольный теннис","106",0,0,0,0,0,0,0,0,0,0,0,0,0,0,0,null,null,{"$f":"Раздел2!F121","v":139},{"$f":"Раздел2!F121","v":139},{"$f":"Раздел2!H121","v":0},{"$f":"Раздел2!I121","v":0},{"$f":"Раздел2!J121","v":0},{"$f":"Раздел2!K121","v":0}]
[null,"Парашютный спорт","107",0,0,0,0,0,0,0,0,0,0,0,0,0,0,0,null,null,{"$f":"Раздел2!F122","v":0},{"$f":"Раздел2!F122","v":0},{"$f":"Раздел2!H122","v":0},{"$f":"Раздел2!I122","v":0},{"$f":"Раздел2!J122","v":0},{"$f":"Раздел2!K122","v":0}]
[null,"Парусный спорт","108",0,0,0,0,0,0,0,0,0,0,0,0,0,0,0,null,null,{"$f":"Раздел2!F123","v":0},{"$f":"Раздел2!F123","v":0},{"$f":"Раздел2!H123","v":0},{"$f":"Раздел2!I123","v":0},{"$f":"Раздел2!J123","v":0},{"$f":"Раздел2!K123","v":0}]
[null,"Пауэрлифтинг","109",0,0,0,0,0,0,0,0,0,0,0,0,0,0,0,null,null,{"$f":"Раздел2!F124","v":0},{"$f":"Раздел2!F124","v":0},{"$f":"Раздел2!H124","v":0},{"$f":"Раздел2!I124","v":0},{"$f":"Раздел2!J124","v":0},{"$f":"Раздел2!K124","v":0}]
[null,"Перетягивание каната","110",0,0,0,0,0,0,0,0,0,0,0,0,0,0,0,null,null,{"$f":"Раздел2!F125","v":0},{"$f":"Раздел2!F125","v":0},{"$f":"Раздел2!H125","v":0},{"$f":"Раздел2!I125","v":0},{"$f":"Раздел2!J125","v":0},{"$f":"Раздел2!K125","v":0}]
[null,"Петанк","111",0,0,0,0,0,0,0,0,0,0,0,0,0,0,0,null,null,{"$f":"Раздел2!F126","v":0},{"$f":"Раздел2!F126","v":0},{"$f":"Раздел2!H126","v":0},{"$f":"Раздел2!I126","v":0},{"$f":"Раздел2!J126","v":0},{"$f":"Раздел2!K126","v":0}]
[null,"Плавание - всего","112",0,0,0,0,0,0,0,0,0,0,0,0,0,0,0,null,null,{"$f":"Раздел2!F127","v":0},{"$f":"Раздел2!F127","v":0},{"$f":"Раздел2!H127","v":0},{"$f":"Раздел2!I127","v":0},{"$f":"Раздел2!J127","v":0},{"$f":"Раздел2!K127","v":0}]
[null,"в том числе:\nПлавание ","113",0,0,0,0,0,0,0,0,0,0,0,0,0,0,0,null,null,{"$f":"Раздел2!F128","v":0},{"$f":"Раздел2!F128","v":0},{"$f":"Раздел2!H128","v":0},{"$f":"Раздел2!I128","v":0},{"$f":"Раздел2!J128","v":0},{"$f":"Раздел2!K128","v":0}]
[null,"Открытая вода","114",0,0,0,0,0,0,0,0,0,0,0,0,0,0,0,null,null,{"$f":"Раздел2!F129","v":0},{"$f":"Раздел2!F129","v":0},{"$f":"Раздел2!H129","v":0},{"$f":"Раздел2!I129","v":0},{"$f":"Раздел2!J129","v":0},{"$f":"Раздел2!K129","v":0}]
[null,"Планерный спорт","115",0,0,0,0,0,0,0,0,0,0,0,0,0,0,0,null,null,{"$f":"Раздел2!F130","v":0},{"$f":"Раздел2!F130","v":0},{"$f":"Раздел2!H130","v":0},{"$f":"Раздел2!I130","v":0},{"$f":"Раздел2!J130","v":0},{"$f":"Раздел2!K130","v":0}]
[null,"Подводный спорт","116",0,0,0,0,0,0,0,0,0,0,0,0,0,0,0,null,null,{"$f":"Раздел2!F131","v":100},{"$f":"Раздел2!F131","v":100},{"$f":"Раздел2!H131","v":0},{"$f":"Раздел2!I131","v":0},{"$f":"Раздел2!J131","v":0},{"$f":"Раздел2!K131","v":0}]
[null,"Пожарно-спасательный спорт","117",0,0,0,0,0,0,0,0,0,0,0,0,0,0,0,null,null,{"$f":"Раздел2!F132","v":20},{"$f":"Раздел2!F132","v":20},{"$f":"Раздел2!H132","v":0},{"$f":"Раздел2!I132","v":0},{"$f":"Раздел2!J132","v":0},{"$f":"Раздел2!K132","v":0}]
[null,"Полиатлон","118",0,0,0,0,0,0,0,0,0,0,0,0,0,0,0,null,null,{"$f":"Раздел2!F133","v":20},{"$f":"Раздел2!F133","v":20},{"$f":"Раздел2!H133","v":0},{"$f":"Раздел2!I133","v":0},{"$f":"Раздел2!J133","v":0},{"$f":"Раздел2!K133","v":0}]
[null,"Практическая стрельба","119",0,0,0,0,0,0,0,0,0,0,0,0,0,0,0,null,null,{"$f":"Раздел2!F134","v":60},{"$f":"Раздел2!F134","v":60},{"$f":"Раздел2!H134","v":0},{"$f":"Раздел2!I134","v":0},{"$f":"Раздел2!J134","v":0},{"$f":"Раздел2!K134","v":0}]
[null,"Прыжки в воду - всего","120",0,0,0,0,0,0,0,0,0,0,0,0,0,0,0,null,null,{"$f":"Раздел2!F135","v":0},{"$f":"Раздел2!F135","v":0},{"$f":"Раздел2!H135","v":0},{"$f":"Раздел2!I135","v":0},{"$f":"Раздел2!J135","v":0},{"$f":"Раздел2!K135","v":0}]
[null,"в том числе:\nПрыжки в воду","121",0,0,0,0,0,0,0,0,0,0,0,0,0,0,0,null,null,{"$f":"Раздел2!F136","v":0},{"$f":"Раздел2!F136","v":0},{"$f":"Раздел2!H136","v":0},{"$f":"Раздел2!I136","v":0},{"$f":"Раздел2!J136","v":0},{"$f":"Раздел2!K136","v":0}]
[null,"Прыжки в открытый водоем","122",0,0,0,0,0,0,0,0,0,0,0,0,0,0,0,null,null,{"$f":"Раздел2!F137","v":0},{"$f":"Раздел2!F137","v":0},{"$f":"Раздел2!H137","v":0},{"$f":"Раздел2!I137","v":0},{"$f":"Раздел2!J137","v":0},{"$f":"Раздел2!K137","v":0}]
[null,"Прыжки на батуте - всего","123",0,0,0,0,0,0,0,0,0,0,0,0,0,0,0,null,null,{"$f":"Раздел2!F138","v":0},{"$f":"Раздел2!F138","v":0},{"$f":"Раздел2!H138","v":0},{"$f":"Раздел2!I138","v":0},{"$f":"Раздел2!J138","v":0},{"$f":"Раздел2!K138","v":0}]
[null,"в том числе:\nАкробатическая дорожка","124",0,0,0,0,0,0,0,0,0,0,0,0,0,0,0,null,null,{"$f":"Раздел2!F139","v":0},{"$f":"Раздел2!F139","v":0},{"$f":"Раздел2!H139","v":0},{"$f":"Раздел2!I139","v":0},{"$f":"Раздел2!J139","v":0},{"$f":"Раздел2!K139","v":0}]
[null,"Двойной минитрамп","125",0,0,0,0,0,0,0,0,0,0,0,0,0,0,0,null,null,{"$f":"Раздел2!F140","v":0},{"$f":"Раздел2!F140","v":0},{"$f":"Раздел2!H140","v":0},{"$f":"Раздел2!I140","v":0},{"$f":"Раздел2!J140","v":0},{"$f":"Раздел2!K140","v":0}]
[null,"Индивидуальные прыжки","126",0,0,0,0,0,0,0,0,0,0,0,0,0,0,0,null,null,{"$f":"Раздел2!F141","v":0},{"$f":"Раздел2!F141","v":0},{"$f":"Раздел2!H141","v":0},{"$f":"Раздел2!I141","v":0},{"$f":"Раздел2!J141","v":0},{"$f":"Раздел2!K141","v":0}]
[null,"Синхронные прыжки","127",0,0,0,0,0,0,0,0,0,0,0,0,0,0,0,null,null,{"$f":"Раздел2!F142","v":0},{"$f":"Раздел2!F142","v":0},{"$f":"Раздел2!H142","v":0},{"$f":"Раздел2!I142","v":0},{"$f":"Раздел2!J142","v":0},{"$f":"Раздел2!K142","v":0}]
[null,"Прыжки на лыжах с трамплина","128",0,0,0,0,0,0,0,0,0,0,0,0,0,0,0,null,null,{"$f":"Раздел2!F143","v":0},{"$f":"Раздел2!F143","v":0},{"$f":"Раздел2!H143","v":0},{"$f":"Раздел2!I143","v":0},{"$f":"Раздел2!J143","v":0},{"$f":"Раздел2!K143","v":0}]
[null,"Пулевая стрельба - всего","129",0,0,0,0,0,0,0,0,0,0,0,0,0,0,0,null,null,{"$f":"Раздел2!F144","v":0},{"$f":"Раздел2!F144","v":0},{"$f":"Раздел2!H144","v":0},{"$f":"Раздел2!I144","v":0},{"$f":"Раздел2!J144","v":0},{"$f":"Раздел2!K144","v":0}]
[null,"в том числе:\nПневматическая винтовка","130",0,0,0,0,0,0,0,0,0,0,0,0,0,0,0,null,null,{"$f":"Раздел2!F145","v":0},{"$f":"Раздел2!F145","v":0},{"$f":"Раздел2!H145","v":0},{"$f":"Раздел2!I145","v":0},{"$f":"Раздел2!J145","v":0},{"$f":"Раздел2!K145","v":0}]
[null,"Пневматический пистолет","131",0,0,0,0,0,0,0,0,0,0,0,0,0,0,0,null,null,{"$f":"Раздел2!F146","v":0},{"$f":"Раздел2!F146","v":0},{"$f":"Раздел2!H146","v":0},{"$f":"Раздел2!I146","v":0},{"$f":"Раздел2!J146","v":0},{"$f":"Раздел2!K146","v":0}]
[null,"Малокалиберная винтовка","132",0,0,0,0,0,0,0,0,0,0,0,0,0,0,0,null,null,{"$f":"Раздел2!F147","v":0},{"$f":"Раздел2!F147","v":0},{"$f":"Раздел2!H147","v":0},{"$f":"Раздел2!I147","v":0},{"$f":"Раздел2!J147","v":0},{"$f":"Раздел2!K147","v":0}]
[null,"Малокалиберный пистолет","133",0,0,0,0,0,0,0,0,0,0,0,0,0,0,0,null,null,{"$f":"Раздел2!F148","v":0},{"$f":"Раздел2!F148","v":0},{"$f":"Раздел2!H148","v":0},{"$f":"Раздел2!I148","v":0},{"$f":"Раздел2!J148","v":0},{"$f":"Раздел2!K148","v":0}]
[null,"Движущаяся мишень","134",0,0,0,0,0,0,0,0,0,0,0,0,0,0,0,null,null,{"$f":"Раздел2!F149","v":0},{"$f":"Раздел2!F149","v":0},{"$f":"Раздел2!H149","v":0},{"$f":"Раздел2!I149","v":0},{"$f":"Раздел2!J149","v":0},{"$f":"Раздел2!K149","v":0}]
[null,"Пэйнтбол","135",0,0,0,0,0,0,0,0,0,0,0,0,0,0,0,null,null,{"$f":"Раздел2!F150","v":0},{"$f":"Раздел2!F150","v":0},{"$f":"Раздел2!H150","v":0},{"$f":"Раздел2!I150","v":0},{"$f":"Раздел2!J150","v":0},{"$f":"Раздел2!K150","v":0}]
[null,"Радиоспорт","136",0,0,0,0,0,0,0,0,0,0,0,0,0,0,0,null,null,{"$f":"Раздел2!F151","v":0},{"$f":"Раздел2!F151","v":0},{"$f":"Раздел2!H151","v":0},{"$f":"Раздел2!I151","v":0},{"$f":"Раздел2!J151","v":0},{"$f":"Раздел2!K151","v":0}]
[null,"Рафтинг","137",0,0,0,0,0,0,0,0,0,0,0,0,0,0,0,null,null,{"$f":"Раздел2!F152","v":0},{"$f":"Раздел2!F152","v":0},{"$f":"Раздел2!H152","v":0},{"$f":"Раздел2!I152","v":0},{"$f":"Раздел2!J152","v":0},{"$f":"Раздел2!K152","v":0}]
[null,"Регби - всего","138",0,0,0,0,0,0,0,0,0,0,0,0,0,0,0,null,null,{"$f":"Раздел2!F153","v":0},{"$f":"Раздел2!F153","v":0},{"$f":"Раздел2!H153","v":0},{"$f":"Раздел2!I153","v":0},{"$f":"Раздел2!J153","v":0},{"$f":"Раздел2!K153","v":0}]
[null,"в том числе:\nРегби","139",0,0,0,0,0,0,0,0,0,0,0,0,0,0,0,null,null,{"$f":"Раздел2!F154","v":0},{"$f":"Раздел2!F154","v":0},{"$f":"Раздел2!H154","v":0},{"$f":"Раздел2!I154","v":0},{"$f":"Раздел2!J154","v":0},{"$f":"Раздел2!K154","v":0}]
[null,"Регби 7 (муж.)","140",0,0,0,0,0,0,0,0,0,0,0,0,0,0,0,null,null,{"$f":"Раздел2!F155","v":0},{"$f":"Раздел2!F155","v":0},{"$f":"Раздел2!H155","v":0},{"$f":"Раздел2!I155","v":0},{"$f":"Раздел2!J155","v":0},{"$f":"Раздел2!K155","v":0}]
[null,"Регби 7 (жен.)","141",0,0,0,0,0,0,0,0,0,0,0,0,0,0,0,null,null,{"$f":"Раздел2!F156","v":1359},{"$f":"Раздел2!F156","v":1359},{"$f":"Раздел2!H156","v":88},{"$f":"Раздел2!I156","v":74},{"$f":"Раздел2!J156","v":76},{"$f":"Раздел2!K156","v":8}]
[null,"Регби - пляжное","142",0,0,0,0,0,0,0,0,0,0,0,0,0,0,0,null,null,{"$f":"Раздел2!F157","v":0},{"$f":"Раздел2!F157","v":0},{"$f":"Раздел2!H157","v":0},{"$f":"Раздел2!I157","v":0},{"$f":"Раздел2!J157","v":0},{"$f":"Раздел2!K157","v":0}]
[null,"Регбол","143",0,0,0,0,0,0,0,0,0,0,0,0,0,0,0,null,null,{"$f":"Раздел2!F158","v":0},{"$f":"Раздел2!F158","v":0},{"$f":"Раздел2!H158","v":0},{"$f":"Раздел2!I158","v":0},{"$f":"Раздел2!J158","v":0},{"$f":"Раздел2!K158","v":0}]
[null,"Роллер спорт","144",0,0,0,0,0,0,0,0,0,0,0,0,0,0,0,null,null,{"$f":"Раздел2!F159","v":0},{"$f":"Раздел2!F159","v":0},{"$f":"Раздел2!H159","v":0},{"$f":"Раздел2!I159","v":0},{"$f":"Раздел2!J159","v":0},{"$f":"Раздел2!K159","v":0}]
[null,"Рукопашный бой","145",0,0,0,0,0,0,0,0,0,0,0,0,0,0,0,null,null,{"$f":"Раздел2!F160","v":0},{"$f":"Раздел2!F160","v":0},{"$f":"Раздел2!H160","v":0},{"$f":"Раздел2!I160","v":0},{"$f":"Раздел2!J160","v":0},{"$f":"Раздел2!K160","v":0}]
[null,"Рыболовный спорт","146",0,0,0,0,0,0,0,0,0,0,0,0,0,0,0,null,null,{"$f":"Раздел2!F161","v":0},{"$f":"Раздел2!F161","v":0},{"$f":"Раздел2!H161","v":0},{"$f":"Раздел2!I161","v":0},{"$f":"Раздел2!J161","v":0},{"$f":"Раздел2!K161","v":0}]
[null,"Сават","147",0,0,0,0,0,0,0,0,0,0,0,0,0,0,0,null,null,{"$f":"Раздел2!F162","v":0},{"$f":"Раздел2!F162","v":0},{"$f":"Раздел2!H162","v":0},{"$f":"Раздел2!I162","v":0},{"$f":"Раздел2!J162","v":0},{"$f":"Раздел2!K162","v":0}]
[null,"Самбо","148",246,88,74,76,8,0,0,0,0,0,0,0,0,0,0,null,null,{"$f":"Раздел2!F163","v":0},{"$f":"Раздел2!F163","v":0},{"$f":"Раздел2!H163","v":0},{"$f":"Раздел2!I163","v":0},{"$f":"Раздел2!J163","v":0},{"$f":"Раздел2!K163","v":0}]
[null,"Самолетный спорт","149",0,0,0,0,0,0,0,0,0,0,0,0,0,0,0,null,null,{"$f":"Раздел2!F164","v":0},{"$f":"Раздел2!F164","v":0},{"$f":"Раздел2!H164","v":0},{"$f":"Раздел2!I164","v":0},{"$f":"Раздел2!J164","v":0},{"$f":"Раздел2!K164","v":0}]
[null,"Санный спорт","150",0,0,0,0,0,0,0,0,0,0,0,0,0,0,0,null,null,{"$f":"Раздел2!F165","v":0},{"$f":"Раздел2!F165","v":0},{"$f":"Раздел2!H165","v":0},{"$f":"Раздел2!I165","v":0},{"$f":"Раздел2!J165","v":0},{"$f":"Раздел2!K165","v":0}]
[null,"Северное многоборье","151",0,0,0,0,0,0,0,0,0,0,0,0,0,0,0,null,null,{"$f":"Раздел2!F166","v":0},{"$f":"Раздел2!F166","v":0},{"$f":"Раздел2!H166","v":0},{"$f":"Раздел2!I166","v":0},{"$f":"Раздел2!J166","v":0},{"$f":"Раздел2!K166","v":0}]
[null,"Серфинг","152",0,0,0,0,0,0,0,0,0,0,0,0,0,0,0,null,null,{"$f":"Раздел2!F167","v":0},{"$f":"Раздел2!F167","v":0},{"$f":"Раздел2!H167","v":0},{"$f":"Раздел2!I167","v":0},{"$f":"Раздел2!J167","v":0},{"$f":"Раздел2!K167","v":0}]
[null,"Синхронное плавание","153",0,0,0,0,0,0,0,0,0,0,0,0,0,0,0,null,null,{"$f":"Раздел2!F168","v":0},{"$f":"Раздел2!F168","v":0},{"$f":"Раздел2!H168","v":0},{"$f":"Раздел2!I168","v":0},{"$f":"Раздел2!J168","v":0},{"$f":"Раздел2!K168","v":0}]
[null,"Скалолазание","154",0,0,0,0,0,0,0,0,0,0,0,0,0,0,0,null,null,{"$f":"Раздел2!F169","v":0},{"$f":"Раздел2!F169","v":0},{"$f":"Раздел2!H169","v":0},{"$f":"Раздел2!I169","v":0},{"$f":"Раздел2!J169","v":0},{"$f":"Раздел2!K169","v":0}]
[null,"Сквош","155",0,0,0,0,0,0,0,0,0,0,0,0,0,0,0,null,null,{"$f":"Раздел2!F170","v":0},{"$f":"Раздел2!F170","v":0},{"$f":"Раздел2!H170","v":0},{"$f":"Раздел2!I170","v":0},{"$f":"Раздел2!J170","v":0},{"$f":"Раздел2!K170","v":0}]
[null,"Скейтбординг","156",0,0,0,0,0,0,0,0,0,0,0,0,0,0,0,null,null,{"$f":"Раздел2!F171","v":0},{"$f":"Раздел2!F171","v":0},{"$f":"Раздел2!H171","v":0},{"$f":"Раздел2!I171","v":0},{"$f":"Раздел2!J171","v":0},{"$f":"Раздел2!K171","v":0}]
[null,"Служебно-прикладной спорт","157",0,0,0,0,0,0,0,0,0,0,0,0,0,0,0,null,null,{"$f":"Раздел2!F172","v":0},{"$f":"Раздел2!F172","v":0},{"$f":"Раздел2!H172","v":0},{"$f":"Раздел2!I172","v":0},{"$f":"Раздел2!J172","v":0},{"$f":"Раздел2!K172","v":0}]
[null,"Служебно-прикладной спорт ФСО России","158",0,0,0,0,0,0,0,0,0,0,0,0,0,0,0,null,null,{"$f":"Раздел2!F173","v":0},{"$f":"Раздел2!F173","v":0},{"$f":"Раздел2!H173","v":0},{"$f":"Раздел2!I173","v":0},{"$f":"Раздел2!J173","v":0},{"$f":"Раздел2!K173","v":0}]
[null,"Служебно-прикладной спорт ФТС России","159",0,0,0,0,0,0,0,0,0,0,0,0,0,0,0,null,null,{"$f":"Раздел2!F174","v":0},{"$f":"Раздел2!F174","v":0},{"$f":"Раздел2!H174","v":0},{"$f":"Раздел2!I174","v":0},{"$f":"Раздел2!J174","v":0},{"$f":"Раздел2!K174","v":0}]
[null,"Служебное двоеборье","160",0,0,0,0,0,0,0,0,0,0,0,0,0,0,0,null,null,{"$f":"Раздел2!F175","v":0},{"$f":"Раздел2!F175","v":0},{"$f":"Раздел2!H175","v":0},{"$f":"Раздел2!I175","v":0},{"$f":"Раздел2!J175","v":0},{"$f":"Раздел2!K175","v":0}]
[null,"Служебное единоборство","161",0,0,0,0,0,0,0,0,0,0,0,0,0,0,0,null,null,{"$f":"Раздел2!F176","v":30},{"$f":"Раздел2!F176","v":30},{"$f":"Раздел2!H176","v":15},{"$f":"Раздел2!I176","v":0},{"$f":"Раздел2!J176","v":0},{"$f":"Раздел2!K176","v":0}]
[null,"Служебное многоборье","162",0,0,0,0,0,0,0,0,0,0,0,0,0,0,0,null,null,{"$f":"Раздел2!F177","v":0},{"$f":"Раздел2!F177","v":0},{"$f":"Раздел2!H177","v":0},{"$f":"Раздел2!I177","v":0},{"$f":"Раздел2!J177","v":0},{"$f":"Раздел2!K177","v":0}]
[null,"Служебный биатлон","163",0,0,0,0,0,0,0,0,0,0,0,0,0,0,0,null,null,{"$f":"Раздел2!F178","v":0},{"$f":"Раздел2!F178","v":0},{"$f":"Раздел2!H178","v":0},{"$f":"Раздел2!I178","v":0},{"$f":"Раздел2!J178","v":0},{"$f":"Раздел2!K178","v":0}]
[null,"Спасательный спорт","164",0,0,0,0,0,0,0,0,0,0,0,0,0,0,0,null,null,{"$f":"Раздел2!F179","v":0},{"$f":"Раздел2!F179","v":0},{"$f":"Раздел2!H179","v":0},{"$f":"Раздел2!I179","v":0},{"$f":"Раздел2!J179","v":0},{"$f":"Раздел2!K179","v":0}]
[null,"Стрельба из боевого ручного стрелкового оружия","165",0,0,0,0,0,0,0,0,0,0,0,0,0,0,0,null,null,{"$f":"Раздел2!F180","v":226},{"$f":"Раздел2!F180","v":226},{"$f":"Раздел2!H180","v":0},{"$f":"Раздел2!I180","v":0},{"$f":"Раздел2!J180","v":0},{"$f":"Раздел2!K180","v":0}]
[null,"Стрельба из штатного или табельного оружия","166",0,0,0,0,0,0,0,0,0,0,0,0,0,0,0,null,null,{"$f":"Раздел2!F181","v":0},{"$f":"Раздел2!F181","v":0},{"$f":"Раздел2!H181","v":0},{"$f":"Раздел2!I181","v":0},{"$f":"Раздел2!J181","v":0},{"$f":"Раздел2!K181","v":0}]
[null,"Смешанное боевое единоборство (ММА)","167",0,0,0,0,0,0,0,0,0,0,0,0,0,0,0,null,null,{"$f":"Раздел2!F182","v":1194},{"$f":"Раздел2!F182","v":1194},{"$f":"Раздел2!H182","v":106},{"$f":"Раздел2!I182","v":77},{"$f":"Раздел2!J182","v":85},{"$f":"Раздел2!K182","v":7}]
[null,"Сноуборд","168",15,15,0,0,0,15,15,0,0,0,0,0,0,0,0,null,null,{"$f":"Раздел2!F183","v":78},{"$f":"Раздел2!F183","v":78},{"$f":"Раздел2!H183","v":0},{"$f":"Раздел2!I183","v":0},{"$f":"Раздел2!J183","v":0},{"$f":"Раздел2!K183","v":0}]
[null,"Современное пятиборье","169",0,0,0,0,0,0,0,0,0,0,0,0,0,0,0,null,null,{"$f":"Раздел2!F184","v":1116},{"$f":"Раздел2!F184","v":1116},{"$f":"Раздел2!H184","v":106},{"$f":"Раздел2!I184","v":77},{"$f":"Раздел2!J184","v":85},{"$f":"Раздел2!K184","v":7}]
[null,"Софтбол","170",0,0,0,0,0,0,0,0,0,0,0,0,0,0,0,null,null,{"$f":"Раздел2!F185","v":0},{"$f":"Раздел2!F185","v":0},{"$f":"Раздел2!H185","v":0},{"$f":"Раздел2!I185","v":0},{"$f":"Раздел2!J185","v":0},{"$f":"Раздел2!K185","v":0}]
[null,"Спорт сверхлегкой авиации","171",0,0,0,0,0,0,0,0,0,0,0,0,0,0,0,null,null,{"$f":"Раздел2!F186","v":0},{"$f":"Раздел2!F186","v":0},{"$f":"Раздел2!H186","v":0},{"$f":"Раздел2!I186","v":0},{"$f":"Раздел2!J186","v":0},{"$f":"Раздел2!K186","v":0}]
[null,"Спортивная акробатика","172",0,0,0,0,0,0,0,0,0,0,0,0,0,0,0,null,null,{"$f":"Раздел2!F187","v":0},{"$f":"Раздел2!F187","v":0},{"$f":"Раздел2!H187","v":0},{"$f":"Раздел2!I187","v":0},{"$f":"Раздел2!J187","v":0},{"$f":"Раздел2!K187","v":0}]
[null,"Спортивная аэробика","173",0,0,0,0,0,0,0,0,0,0,0,0,0,0,0,null,null,{"$f":"Раздел2!F188","v":0},{"$f":"Раздел2!F188","v":0},{"$f":"Раздел2!H188","v":0},{"$f":"Раздел2!I188","v":0},{"$f":"Раздел2!J188","v":0},{"$f":"Раздел2!K188","v":0}]
[null,"Спортивная борьба - всего","174",275,106,77,85,7,0,0,0,0,0,0,0,0,0,0,null,null,{"$f":"Раздел2!F189","v":0},{"$f":"Раздел2!F189","v":0},{"$f":"Раздел2!H189","v":0},{"$f":"Раздел2!I189","v":0},{"$f":"Раздел2!J189","v":0},{"$f":"Раздел2!K189","v":0}]
[null,"в том числе:\nВольная борьба","175",0,0,0,0,0,0,0,0,0,0,0,0,0,0,0,null,null,{"$f":"Раздел2!F190","v":0},{"$f":"Раздел2!F190","v":0},{"$f":"Раздел2!H190","v":0},{"$f":"Раздел2!I190","v":0},{"$f":"Раздел2!J190","v":0},{"$f":"Раздел2!K190","v":0}]
[null,"Греко-римская борьба","176",275,106,77,85,7,0,0,0,0,0,0,0,0,0,0,null,null,{"$f":"Раздел2!F191","v":114},{"$f":"Раздел2!F191","v":114},{"$f":"Раздел2!H191","v":13},{"$f":"Раздел2!I191","v":5},{"$f":"Раздел2!J191","v":0},{"$f":"Раздел2!K191","v":0}]
[null,"Грэпплинг","177",0,0,0,0,0,0,0,0,0,0,0,0,0,0,0,null,null,{"$f":"Раздел2!F192","v":0},{"$f":"Раздел2!F192","v":0},{"$f":"Раздел2!H192","v":0},{"$f":"Раздел2!I192","v":0},{"$f":"Раздел2!J192","v":0},{"$f":"Раздел2!K192","v":0}]
[null,"Грэпплинг-ги","178",0,0,0,0,0,0,0,0,0,0,0,0,0,0,0,null,null,{"$f":"Раздел2!F193","v":0},{"$f":"Раздел2!F193","v":0},{"$f":"Раздел2!H193","v":0},{"$f":"Раздел2!I193","v":0},{"$f":"Раздел2!J193","v":0},{"$f":"Раздел2!K193","v":0}]
[null,"Панкратион","179",0,0,0,0,0,0,0,0,0,0,0,0,0,0,0,null,null,{"$f":"Раздел2!F194","v":0},{"$f":"Раздел2!F194","v":0},{"$f":"Раздел2!H194","v":0},{"$f":"Раздел2!I194","v":0},{"$f":"Раздел2!J194","v":0},{"$f":"Раздел2!K194","v":0}]
[null,"Спортивная гимнастика","180",0,0,0,0,0,0,0,0,0,0,0,0,0,0,0,null,null,{"$f":"Раздел2!F195","v":0},{"$f":"Раздел2!F195","v":0},{"$f":"Раздел2!H195","v":0},{"$f":"Раздел2!I195","v":0},{"$f":"Раздел2!J195","v":0},{"$f":"Раздел2!K195","v":0}]
[null,"Спортивная йога","181",0,0,0,0,0,0,0,0,0,0,0,0,0,0,0,null,null,{"$f":"Раздел2!F196","v":0},{"$f":"Раздел2!F196","v":0},{"$f":"Раздел2!H196","v":0},{"$f":"Раздел2!I196","v":0},{"$f":"Раздел2!J196","v":0},{"$f":"Раздел2!K196","v":0}]
[null,"Спортивно-прикладное собаководство","182",0,0,0,0,0,0,0,0,0,0,0,0,0,0,0,null,null,{"$f":"Раздел2!F197","v":0},{"$f":"Раздел2!F197","v":0},{"$f":"Раздел2!H197","v":0},{"$f":"Раздел2!I197","v":0},{"$f":"Раздел2!J197","v":0},{"$f":"Раздел2!K197","v":0}]
[null,"Спортивное ориентирование","183",18,13,5,0,0,0,0,0,0,0,0,0,0,0,0,null,null,{"$f":"Раздел2!F198","v":0},{"$f":"Раздел2!F198","v":0},{"$f":"Раздел2!H198","v":0},{"$f":"Раздел2!I198","v":0},{"$f":"Раздел2!J198","v":0},{"$f":"Раздел2!K198","v":0}]
[null,"Спортивный бридж","184",0,0,0,0,0,0,0,0,0,0,0,0,0,0,0,null,null,{"$f":"Раздел2!F199","v":0},{"$f":"Раздел2!F199","v":0},{"$f":"Раздел2!H199","v":0},{"$f":"Раздел2!I199","v":0},{"$f":"Раздел2!J199","v":0},{"$f":"Раздел2!K199","v":0}]
[null,"Спортивный туризм","185",0,0,0,0,0,0,0,0,0,0,0,0,0,0,0,null,null,{"$f":"Раздел2!F200","v":16},{"$f":"Раздел2!F200","v":16},{"$f":"Раздел2!H200","v":0},{"$f":"Раздел2!I200","v":0},{"$f":"Раздел2!J200","v":0},{"$f":"Раздел2!K200","v":0}]
[null,"Стендовая стрельба - всего","186",0,0,0,0,0,0,0,0,0,0,0,0,0,0,0,null,null,{"$f":"Раздел2!F201","v":16},{"$f":"Раздел2!F201","v":16},{"$f":"Раздел2!H201","v":0},{"$f":"Раздел2!I201","v":0},{"$f":"Раздел2!J201","v":0},{"$f":"Раздел2!K201","v":0}]
[null,"в том числе:\nТрап","187",0,0,0,0,0,0,0,0,0,0,0,0,0,0,0,null,null,{"$f":"Раздел2!F202","v":0},{"$f":"Раздел2!F202","v":0},{"$f":"Раздел2!H202","v":0},{"$f":"Раздел2!I202","v":0},{"$f":"Раздел2!J202","v":0},{"$f":"Раздел2!K202","v":0}]
[null,"Скит","188",0,0,0,0,0,0,0,0,0,0,0,0,0,0,0,null,null,{"$f":"Раздел2!F203","v":0},{"$f":"Раздел2!F203","v":0},{"$f":"Раздел2!H203","v":0},{"$f":"Раздел2!I203","v":0},{"$f":"Раздел2!J203","v":0},{"$f":"Раздел2!K203","v":0}]
[null,"Дубль-трап","189",0,0,0,0,0,0,0,0,0,0,0,0,0,0,0,null,null,{"$f":"Раздел2!F204","v":0},{"$f":"Раздел2!F204","v":0},{"$f":"Раздел2!H204","v":0},{"$f":"Раздел2!I204","v":0},{"$f":"Раздел2!J204","v":0},{"$f":"Раздел2!K204","v":0}]
[null,"Спортинг","190",0,0,0,0,0,0,0,0,0,0,0,0,0,0,0,null,null,{"$f":"Раздел2!F205","v":0},{"$f":"Раздел2!F205","v":0},{"$f":"Раздел2!H205","v":0},{"$f":"Раздел2!I205","v":0},{"$f":"Раздел2!J205","v":0},{"$f":"Раздел2!K205","v":0}]
[null,"Стрельба из арбалета","191",0,0,0,0,0,0,0,0,0,0,0,0,0,0,0,null,null,{"$f":"Раздел2!F206","v":0},{"$f":"Раздел2!F206","v":0},{"$f":"Раздел2!H206","v":0},{"$f":"Раздел2!I206","v":0},{"$f":"Раздел2!J206","v":0},{"$f":"Раздел2!K206","v":0}]
[null,"Стрельба из лука - всего","192",0,0,0,0,0,0,0,0,0,0,0,0,0,0,0,null,null,{"$f":"Раздел2!F207","v":0},{"$f":"Раздел2!F207","v":0},{"$f":"Раздел2!H207","v":0},{"$f":"Раздел2!I207","v":0},{"$f":"Раздел2!J207","v":0},{"$f":"Раздел2!K207","v":0}]
[null,"в том числе:\nКлассический лук","193",0,0,0,0,0,0,0,0,0,0,0,0,0,0,0,null,null,{"$f":"Раздел2!F208","v":0},{"$f":"Раздел2!F208","v":0},{"$f":"Раздел2!H208","v":0},{"$f":"Раздел2!I208","v":0},{"$f":"Раздел2!J208","v":0},{"$f":"Раздел2!K208","v":0}]
[null,"   Блочный лук","194",0,0,0,0,0,0,0,0,0,0,0,0,0,0,0,null,null,{"$f":"Раздел2!F209","v":0},{"$f":"Раздел2!F209","v":0},{"$f":"Раздел2!H209","v":0},{"$f":"Раздел2!I209","v":0},{"$f":"Раздел2!J209","v":0},{"$f":"Раздел2!K209","v":0}]
[null,"   Ачери ","195",0,0,0,0,0,0,0,0,0,0,0,0,0,0,0,null,null,{"$f":"Раздел2!F210","v":0},{"$f":"Раздел2!F210","v":0},{"$f":"Раздел2!H210","v":0},{"$f":"Раздел2!I210","v":0},{"$f":"Раздел2!J210","v":0},{"$f":"Раздел2!K210","v":0}]
[null,"Судомодельный спорт","196",0,0,0,0,0,0,0,0,0,0,0,0,0,0,0,null,null,{"$f":"Раздел2!F211","v":0},{"$f":"Раздел2!F211","v":0},{"$f":"Раздел2!H211","v":0},{"$f":"Раздел2!I211","v":0},{"$f":"Раздел2!J211","v":0},{"$f":"Раздел2!K211","v":0}]
[null,"Сумо","197",0,0,0,0,0,0,0,0,0,0,0,0,0,0,0,null,null,{"$f":"Раздел2!F212","v":0},{"$f":"Раздел2!F212","v":0},{"$f":"Раздел2!H212","v":0},{"$f":"Раздел2!I212","v":0},{"$f":"Раздел2!J212","v":0},{"$f":"Раздел2!K212","v":0}]
[null,"Тайский бокс","198",0,0,0,0,0,0,0,0,0,0,0,0,0,0,0,null,null,{"$f":"Раздел2!F213","v":0},{"$f":"Раздел2!F213","v":0},{"$f":"Раздел2!H213","v":0},{"$f":"Раздел2!I213","v":0},{"$f":"Раздел2!J213","v":0},{"$f":"Раздел2!K213","v":0}]
[null,"Танцевальный спорт","199",0,0,0,0,0,0,0,0,0,0,0,0,0,0,0,null,null,{"$f":"Раздел2!F214","v":0},{"$f":"Раздел2!F214","v":0},{"$f":"Раздел2!H214","v":0},{"$f":"Раздел2!I214","v":0},{"$f":"Раздел2!J214","v":0},{"$f":"Раздел2!K214","v":0}]
[null,"Теннис","200",0,0,0,0,0,0,0,0,0,0,0,0,0,0,0,null,null,{"$f":"Раздел2!F215","v":0},{"$f":"Раздел2!F215","v":0},{"$f":"Раздел2!H215","v":0},{"$f":"Раздел2!I215","v":0},{"$f":"Раздел2!J215","v":0},{"$f":"Раздел2!K215","v":0}]
[null,"Триатлон","201",0,0,0,0,0,0,0,0,0,0,0,0,0,0,0,null,null,{"$f":"Раздел2!F216","v":0},{"$f":"Раздел2!F216","v":0},{"$f":"Раздел2!H216","v":0},{"$f":"Раздел2!I216","v":0},{"$f":"Раздел2!J216","v":0},{"$f":"Раздел2!K216","v":0}]
[null,"Тхэквондо - всего","202",0,0,0,0,0,0,0,0,0,0,0,0,0,0,0,null,null,{"$f":"Раздел2!F217","v":0},{"$f":"Раздел2!F217","v":0},{"$f":"Раздел2!H217","v":0},{"$f":"Раздел2!I217","v":0},{"$f":"Раздел2!J217","v":0},{"$f":"Раздел2!K217","v":0}]
[null,"в том числе:\nТхэквондо (ГТФ, ИТФ, МФТ)","203",0,0,0,0,0,0,0,0,0,0,0,0,0,0,0,null,null,{"$f":"Раздел2!F218","v":0},{"$f":"Раздел2!F218","v":0},{"$f":"Раздел2!H218","v":0},{"$f":"Раздел2!I218","v":0},{"$f":"Раздел2!J218","v":0},{"$f":"Раздел2!K218","v":0}]
[null,"Тхэквондо (ВТФ)","204",0,0,0,0,0,0,0,0,0,0,0,0,0,0,0,null,null,{"$f":"Раздел2!F219","v":0},{"$f":"Раздел2!F219","v":0},{"$f":"Раздел2!H219","v":0},{"$f":"Раздел2!I219","v":0},{"$f":"Раздел2!J219","v":0},{"$f":"Раздел2!K219","v":0},null,null,null,"Частично перешли",{"$f":"SUM(Раздел2!H220:K220)","v":0}]
[null,"Тяжелая атлетика","205",0,0,0,0,0,0,0,0,0,0,0,0,0,0,0,null,null,{"$f":"Раздел2!F220","v":0},{"$f":"Раздел2!F220","v":0},{"$f":"Раздел2!H220","v":0},{"$f":"Раздел2!I220","v":0},{"$f":"Раздел2!J220","v":0},{"$f":"Раздел2!K220","v":0},null,null,null,{"$f":"Раздел1!G18","v":0}]
[null,"Универсальный бой","206",0,0,0,0,0,0,0,0,0,0,0,0,0,0,0,null,null,{"$f":"Раздел2!F221","v":0},{"$f":"Раздел2!F221","v":0},{"$f":"Раздел2!H221","v":0},{"$f":"Раздел2!I221","v":0},{"$f":"Раздел2!J221","v":0},{"$f":"Раздел2!K221","v":0},null,null,null,"Полностью перешли"]
[null,"Ушу","207",0,0,0,0,0,0,0,0,0,0,0,0,0,0,0,null,null,{"$f":"Раздел2!F222","v":0},{"$f":"Раздел2!F222","v":0},{"$f":"Раздел2!H222","v":0},{"$f":"Раздел2!I222","v":0},{"$f":"Раздел2!J222","v":0},{"$f":"Раздел2!K222","v":0},null,null,null,{"$f":"Раздел1!J18","v":0}]
[null,"Фехтование - всего","208",0,0,0,0,0,0,0,0,0,0,0,0,0,0,0,null,null,{"$f":"Раздел2!F223","v":0},{"$f":"Раздел2!F223","v":0},{"$f":"Раздел2!H223","v":0},{"$f":"Раздел2!I223","v":0},{"$f":"Раздел2!J223","v":0},{"$f":"Раздел2!K223","v":0}]
[null,"в том числе:\nРапира","209",0,0,0,0,0,0,0,0,0,0,0,0,0,0,0,null,null,{"$f":"Раздел2!F224","v":0},{"$f":"Раздел2!F224","v":0},{"$f":"Раздел2!H224","v":0},{"$f":"Раздел2!I224","v":0},{"$f":"Раздел2!J224","v":0},{"$f":"Раздел2!K224","v":0}]
[null,"Сабля","210",0,0,0,0,0,0,0,0,0,0,0,0,0,0,0,null,null,{"$f":"Раздел2!F225","v":0},{"$f":"Раздел2!F225","v":0},{"$f":"Раздел2!H225","v":0},{"$f":"Раздел2!I225","v":0},{"$f":"Раздел2!J225","v":0},{"$f":"Раздел2!K225","v":0}]
[null,"Шпага","211",0,0,0,0,0,0,0,0,0,0,0,0,0,0,0,null,null,{"$f":"Раздел2!F226","v":0},{"$f":"Раздел2!F226","v":0},{"$f":"Раздел2!H226","v":0},{"$f":"Раздел2!I226","v":0},{"$f":"Раздел2!J226","v":0},{"$f":"Раздел2!K226","v":0}]
[null,"Арт-фехтование","212",0,0,0,0,0,0,0,0,0,0,0,0,0,0,0,null,null,{"$f":"Раздел2!F227","v":0},{"$f":"Раздел2!F227","v":0},{"$f":"Раздел2!H227","v":0},{"$f":"Раздел2!I227","v":0},{"$f":"Раздел2!J227","v":0},{"$f":"Раздел2!K227","v":0}]
[null,"Фигурное катание на коньках","213",0,0,0,0,0,0,0,0,0,0,0,0,0,0,0,null,null,{"$f":"Раздел2!F228","v":0},{"$f":"Раздел2!F228","v":0},{"$f":"Раздел2!H228","v":0},{"$f":"Раздел2!I228","v":0},{"$f":"Раздел2!J228","v":0},{"$f":"Раздел2!K228","v":0}]
[null,"Фитнес-аэробика","214",0,0,0,0,0,0,0,0,0,0,0,0,0,0,0,null,null,{"$f":"Раздел2!F229","v":0},{"$f":"Раздел2!F229","v":0},{"$f":"Раздел2!H229","v":0},{"$f":"Раздел2!I229","v":0},{"$f":"Раздел2!J229","v":0},{"$f":"Раздел2!K229","v":0}]
[null,"Флаинг диск","215",0,0,0,0,0,0,0,0,0,0,0,0,0,0,0,null,null,{"$f":"Раздел2!F230","v":0},{"$f":"Раздел2!F230","v":0},{"$f":"Раздел2!H230","v":0},{"$f":"Раздел2!I230","v":0},{"$f":"Раздел2!J230","v":0},{"$f":"Раздел2!K230","v":0}]
[null,"Флорбол","216",0,0,0,0,0,0,0,0,0,0,0,0,0,0,0,null,null,{"$f":"Раздел2!F231","v":0},{"$f":"Раздел2!F231","v":0},{"$f":"Раздел2!H231","v":0},{"$f":"Раздел2!I231","v":0},{"$f":"Раздел2!J231","v":0},{"$f":"Раздел2!K231","v":0}]
[null,"Фристайл - всего","217",0,0,0,0,0,0,0,0,0,0,0,0,0,0,0,null,null,{"$f":"Раздел2!F232","v":596},{"$f":"Раздел2!F232","v":596},{"$f":"Раздел2!H232","v":0},{"$f":"Раздел2!I232","v":0},{"$f":"Раздел2!J232","v":0},{"$f":"Раздел2!K232","v":0}]
[null,"в том числе:\nАкробатика","218",0,0,0,0,0,0,0,0,0,0,0,0,0,0,0,null,null,{"$f":"Раздел2!F233","v":585},{"$f":"Раздел2!F233","v":585},{"$f":"Раздел2!H233","v":0},{"$f":"Раздел2!I233","v":0},{"$f":"Раздел2!J233","v":0},{"$f":"Раздел2!K233","v":0}]
[null,"Могул","219",0,0,0,0,0,0,0,0,0,0,0,0,0,0,0,null,null,{"$f":"Раздел2!F234","v":0},{"$f":"Раздел2!F234","v":0},{"$f":"Раздел2!H234","v":0},{"$f":"Раздел2!I234","v":0},{"$f":"Раздел2!J234","v":0},{"$f":"Раздел2!K234","v":0}]
[null,"Ски-кросс","220",0,0,0,0,0,0,0,0,0,0,0,0,0,0,0,null,null,{"$f":"Раздел2!F235","v":11},{"$f":"Раздел2!F235","v":11},{"$f":"Раздел2!H235","v":0},{"$f":"Раздел2!I235","v":0},{"$f":"Раздел2!J235","v":0},{"$f":"Раздел2!K235","v":0}]
[null,"Хаф-пайп","221",0,0,0,0,0,0,0,0,0,0,0,0,0,0,0,null,null,{"$f":"Раздел2!F236","v":0},{"$f":"Раздел2!F236","v":0},{"$f":"Раздел2!H236","v":0},{"$f":"Раздел2!I236","v":0},{"$f":"Раздел2!J236","v":0},{"$f":"Раздел2!K236","v":0}]
[null,"Слоуп-стайл","222",0,0,0,0,0,0,0,0,0,0,0,0,0,0,0,null,null,{"$f":"Раздел2!F237","v":0},{"$f":"Раздел2!F237","v":0},{"$f":"Раздел2!H237","v":0},{"$f":"Раздел2!I237","v":0},{"$f":"Раздел2!J237","v":0},{"$f":"Раздел2!K237","v":0}]
[null,"Функциональное многоборье","223",0,0,0,0,0,0,0,0,0,0,0,0,0,0,0,null,null,{"$f":"Раздел2!F238","v":100},{"$f":"Раздел2!F238","v":100},{"$f":"Раздел2!H238","v":0},{"$f":"Раздел2!I238","v":0},{"$f":"Раздел2!J238","v":0},{"$f":"Раздел2!K238","v":0}]
[null,"Футбол - всего","224",0,0,0,0,0,0,0,0,0,0,0,0,0,0,0,null,null,{"$f":"Раздел2!F239","v":100},{"$f":"Раздел2!F239","v":100},{"$f":"Раздел2!H239","v":0},{"$f":"Раздел2!I239","v":0},{"$f":"Раздел2!J239","v":0},{"$f":"Раздел2!K239","v":0}]
[null,"в том числе:\nФутбол (муж.)","225",0,0,0,0,0,0,0,0,0,0,0,0,0,0,0,null,null,{"$f":"Раздел2!F240","v":0},{"$f":"Раздел2!F240","v":0},{"$f":"Раздел2!H240","v":0},{"$f":"Раздел2!I240","v":0},{"$f":"Раздел2!J240","v":0},{"$f":"Раздел2!K240","v":0}]
[null,"Футбол (жен.)","226",0,0,0,0,0,0,0,0,0,0,0,0,0,0,0]
[null,"Мини-футбол (футзал)","227",0,0,0,0,0,0,0,0,0,0,0,0,0,0,0]
[null,"Пляжный футбол","228",0,0,0,0,0,0,0,0,0,0,0,0,0,0,0]
[null,"Хапсагай","229",0,0,0,0,0,0,0,0,0,0,0,0,0,0,0]
[null,"Хоккей - всего","230",0,0,0,0,0,0,0,0,0,0,0,0,0,0,0]
[null,"в том числе:\nХоккей (муж.)","231",0,0,0,0,0,0,0,0,0,0,0,0,0,0,0]
[null,"Хоккей (жен.)","232",0,0,0,0,0,0,0,0,0,0,0,0,0,0,0]
[null,"Хоккей на траве - всего","233",0,0,0,0,0,0,0,0,0,0,0,0,0,0,0]
[null,"в том числе:\nХоккей на траве (муж.)","234",0,0,0,0,0,0,0,0,0,0,0,0,0,0,0]
[null,"Хоккей на траве (жен.)","235",0,0,0,0,0,0,0,0,0,0,0,0,0,0,0]
[null,"Индорхоккей","236",0,0,0,0,0,0,0,0,0,0,0,0,0,0,0]
[null,"Хоккей с мячом","237",20,10,10,0,0,0,0,0,0,0,0,0,0,0,0]
[null,"Художественная гимнастика","238",0,0,0,0,0,0,0,0,0,0,0,0,0,0,0]
[null,"Хуреш","239",0,0,0,0,0,0,0,0,0,0,0,0,0,0,0]
[null,"Чир спорт","240",0,0,0,0,0,0,0,0,0,0,0,0,0,0,0]
[null,"Шахматы","241",0,0,0,0,0,0,0,0,0,0,0,0,0,0,0]
[null,"Шашки","242",0,0,0,0,0,0,0,0,0,0,0,0,0,0,0]
[null,"Шодсанлат","243",0,0,0,0,0,0,0,0,0,0,0,0,0,0,0]
[null,"Эстетическая гимнастика","244",0,0,0,0,0,0,0,0,0,0,0,0,0,0,0]
[null,"Якутские национальные прыжки","245",0,0,0,0,0,0,0,0,0,0,0,0,0,0,0]
[null,"ИТОГО","246",1012,468,349,173,22,190,111,79,0,0,0,0,0,0,0]
[null,"ИТОГО по олимпийским видам спорта","247",728,357,260,97,14,190,111,79,0,0,0,0,0,0,0]
[null,"  в том числе: \n  по летним видам спорта","248",495,219,165,97,14,0,0,0,0,0,0,0,0,0,0]
[null,"  по зимним видам спорта","249",233,138,95,0,0,190,111,79,0,0,0,0,0,0,0]
[null,"ИТОГО по неолимпийским видам спорта","250",284,111,89,76,8,0,0,0,0,0,0,0,0,0,0]
[null,"ИТОГО по национальным видам спорта","251",0,0,0,0,0,0,0,0,0,0,0,0,0,0,0]
[null,"ИТОГО по прикладным видам спорта","252",0,0,0,0,0,0,0,0,0,0,0,0,0,0,0]
[null,"        По виду организации: \nДЮСШ - отделения, не соответствующие Перечню \"Олимпийский\"","253",271,161,110,0,0,190,111,79,0,0,0,0,0,0,0]
[null,"     из них по \n     ведомственной\n     принадлежности: \nорганы управления в сфере образования","254",0,0,0,0,0,0,0,0,0,0,0,0,0,0,0]
[null,"органы управления в сфере физической культуры и \nспорта","255",271,161,110,0,0,190,111,79,0,0,0,0,0,0,0]
[null,"другая ведомственная принадлежность","256",0,0,0,0,0,0,0,0,0,0,0,0,0,0,0]
[null,"СШ - отделения, не соответствующие Перечню \"Олимпийский\"","257",704,307,221,161,15,0,0,0,0,0,0,0,0,0,0]
[null,"     из них по \n     ведомственной\n     принадлежности: \nорганы управления в сфере образования","258",0,0,0,0,0,0,0,0,0,0,0,0,0,0,0]
[null,"органы управления в сфере физической культуры и \nспорта","259",704,307,221,161,15,0,0,0,0,0,0,0,0,0,0]
[null,"другая ведомственная принадлежность","260",0,0,0,0,0,0,0,0,0,0,0,0,0,0,0]
[null,"СДЮСШОР - отделения, соответствующие Перечню \"Олимпийский\"","261",0,0,0,0,0,0,0,0,0,0,0,0,0,0,0]
[null,"     из них по \n     ведомственной\n     принадлежности:\nорганы управления в сфере образования","262",0,0,0,0,0,0,0,0,0,0,0,0,0,0,0]
[null,"органы управления в сфере физической культуры и спорта","263",0,0,0,0,0,0,0,0,0,0,0,0,0,0,0]
[null,"другая ведомственная принадлежность","264",0,0,0,0,0,0,0,0,0,0,0,0,0,0,0]
[null,"СШОР - отделения, соответствующие Перечню \"Олимпийский\"","265",37,0,18,12,7,0,0,0,0,0,0,0,0,0,0]
[null,"     из них по \n     ведомственной\n     принадлежности:\nорганы управления в сфере образования","266",0,0,0,0,0,0,0,0,0,0,0,0,0,0,0]
[null,"органы управления в сфере физической культуры и спорта","267",37,0,18,12,7,0,0,0,0,0,0,0,0,0,0]
[null,"другая ведомственная принадлежность","268",0,0,0,0,0,0,0,0,0,0,0,0,0,0,0]
[null,"УОР","269",0,0,0,0,0,0,0,0,0,0,0,0,0,0,0]
[null,"     из них по\n     ведомственной\n     принадлежности:\nорганы управления в сфере образования","270",0,0,0,0,0,0,0,0,0,0,0,0,0,0,0]
[null,"органы управления в сфере физической культуры и спорта","271",0,0,0,0,0,0,0,0,0,0,0,0,0,0,0]
[null,"другая ведомственная принадлежность","272",0,0,0,0,0,0,0,0,0,0,0,0,0,0,0]
[null,"ЦСП","273",0,0,0,0,0,0,0,0,0,0,0,0,0,0,0]
[null,"     из них по\n     ведомственной\n     принадлежности:\nорганы управления в сфере образования","274",0,0,0,0,0,0,0,0,0,0,0,0,0,0,0]
[null,"органы управления в сфере физической культуры и спорта","275",0,0,0,0,0,0,0,0,0,0,0,0,0,0,0]
[null,"другая ведомственная принадлежность","276",0,0,0,0,0,0,0,0,0,0,0,0,0,0,0]
[null,"ЦОП","277",0,0,0,0,0,0,0,0,0,0,0,0,0,0,0]
[null,"     из них по\n     ведомственной\n     принадлежности:\nорганы управления в сфере образования","278",0,0,0,0,0,0,0,0,0,0,0,0,0,0,0]
[null,"органы управления в сфере физической культуры и спорта","279",0,0,0,0,0,0,0,0,0,0,0,0,0,0,0]
[null,"другая ведомственная принадлежность","280",0,0,0,0,0,0,0,0,0,0,0,0,0,0,0]
[null,"Другие организации","281",0,0,0,0,0,0,0,0,0,0,0,0,0,0,0]
[null,"     из них по\n     ведомственной\n     принадлежности:\nорганы управления в сфере образования","282",0,0,0,0,0,0,0,0,0,0,0,0,0,0,0]
[null,"органы управления в сфере физической культуры и спорта","283",0,0,0,0,0,0,0,0,0,0,0,0,0,0,0]
[null,"другая ведомственная принадлежность","284",0,0,0,0,0,0,0,0,0,0,0,0,0,0,0]
[null,null,null,0,0,0,0,0,0,0,0,0,0,0,0,0,0,0]

{"sheet":"Раздел4","index":4,"n_rows":8,"n_cols":20,"rows_kept":8,"cut":false,"hidden":false,"merged":[[4,8,5,8],[0,0,0,18],[2,0,5,0],[2,1,5,1],[2,2,2,14],[2,15,2,18],[3,2,3,14],[3,15,3,17],[3,18,5,18],[4,2,5,2],[4,3,5,3],[4,4,5,4],[4,5,5,5],[4,6,5,6],[4,7,5,7],[4,15,5,15],[4,16,5,16],[4,17,5,17],[4,9,5,9],[4,10,5,10],[4,11,5,11],[4,12,5,12],[4,13,5,13],[4,14,5,14]]}
["Раздел IV. Численность занимающихся в организациях, осуществляющих реализацию программ спортивной подготовки, в возрасте от 5 до 18 лет"]
[null,null,null,null,null,null,null,null,null,null,null,null,null,null,null,null,null,null,"Код по ОКЕИ: человек - 792"]
["Наименование показателя","№ строки","Возрастной состав занимающихся (число полных лет по состоянию на 31 декабря отчетного года)",null,null,null,null,null,null,null,null,null,null,null,null,"Распределение численности занимающихся по источникам финансирования (из гр. 6-10 раздела II)"]
[null,null,"(из гр. 6-10 раздела II)",null,null,null,null,null,null,null,null,null,null,null,null,"За счет бюджетных ассигнований:",null,null,"По договорам об оказании платных образовательных услуг, услуг по спортивной подготовке"]
[null,null,5,6,7,8,9,10,11,12,13,14,15,16,17,"федерального бюджета","бюджета субъекта РФ","местного бюджета"]
[]
[1,2,3,4,5,6,7,8,9,10,11,12,13,14,15,16,17,18,19]
["Численность занимающихся в организациях, осуществляющих реализацию программ спортивной подготовки, в возрасте от 5 до 18 лет",1,0,0,1,7,29,39,75,76,67,54,48,69,58,0,523,0,0,{"$f":"SUM([3]Раздел2!G254:K254)","v":0}]

{"sheet":"Раздел5","index":5,"n_rows":292,"n_cols":29,"rows_kept":292,"cut":false,"hidden":false,"merged":[[3,21,3,24],[4,14,4,16],[1,16,1,24],[4,21,5,21],[3,4,3,7],[4,18,4,20],[2,28,5,28],[2,3,2,11],[3,12,5,12],[4,22,4,24],[4,8,5,8],[3,13,3,16],[3,8,3,11],[4,5,4,7],[3,3,5,3],[2,27,5,27],[0,25,122,25],[0,1,0,24],[4,13,5,13],[2,12,2,24],[3,17,3,20],[4,17,5,17],[0,0,122,0],[2,1,5,1],[2,2,5,2],[4,4,5,4],[4,9,4,11]]}
[null,"Раздел V. Спортивные разряды, спортивные звания"]
[null,null,null,null,null,null,null,null,null,null,null,null,null,null,null,null,"Код по ОКЕИ: человек – 792, единица – 642        \n"]
[null,"Виды спорта","№ строки","Из числа занимающихся (гр. 5 раздела II)\nспортсменов, имеющих разряды, звания",null,null,null,null,null,null,null,null,"Разряды, звания, присвоенные и подтвержденные в отчетном году",null,null,null,null,null,null,null,null,null,null,null,null,null,null,"Раздел2 графа3\nЧисло отделений","Раздел2 графа5\nЧисло отделений"]
[null,null,null,"Всего","спортивные разряды",null,null,null,"спортивные звания",null,null,null,"Всего","спортивные разряды присвоенные",null,null,null,"спортивные разряды подтвержденные",null,null,null,"спортивные звания присвоенные"]
[null,null,null,null,"Всего","в том числе:",null,null,"Всего","в том числе:",null,null,null,"Всего","в том числе:",null,null,"Всего","в том числе:",null,null,"Всего","в том числе:"]
[null,null,null,null,null,"КМС","1 разряд","другие разряды",null,"ЗМС","МСМК","МС",null,null,"КМС","1 разряд","другие разряды",null,"КМС","1 разряд","другие разряды",null,"ЗМС","МСМК","МС"]
[null,1,2,3,4,5,6,7,8,9,10,11,12,13,14,15,16,17,18,19,20,21,22,23,24]
[null,"Авиамодельный спорт","01",0,0,0,0,0,0,0,0,0,0,0,0,0,0,0,0,0,0,0,0,0,0,null,null,{"$f":"Раздел2!#REF!","v":{"$error":"#REF!"}},{"$f":"Раздел2!F9","v":0}]
[null,"Автомобильный спорт","02",0,0,0,0,0,0,0,0,0,0,0,0,0,0,0,0,0,0,0,0,0,0,null,null,{"$f":"Раздел2!#REF!","v":{"$error":"#REF!"}},{"$f":"Раздел2!F10","v":0}]
[null,"Автомодельный спорт","03",0,0,0,0,0,0,0,0,0,0,0,0,0,0,0,0,0,0,0,0,0,0,null,null,{"$f":"Раздел2!#REF!","v":{"$error":"#REF!"}},{"$f":"Раздел2!F12","v":0}]
[null,"Айкидо","04",0,0,0,0,0,0,0,0,0,0,0,0,0,0,0,0,0,0,0,0,0,0,null,null,{"$f":"Раздел2!#REF!","v":{"$error":"#REF!"}},{"$f":"Раздел2!F14","v":0}]
[null,"Айсшток","05",0,0,0,0,0,0,0,0,0,0,0,0,0,0,0,0,0,0,0,0,0,0,null,null,{"$f":"Раздел2!#REF!","v":{"$error":"#REF!"}},{"$f":"Раздел2!F15","v":0}]
[null,"Акробатический рок-н-ролл","06",0,0,0,0,0,0,0,0,0,0,0,0,0,0,0,0,0,0,0,0,0,0,null,null,{"$f":"Раздел2!#REF!","v":{"$error":"#REF!"}},{"$f":"Раздел2!F16","v":0}]
[null,"Альпинизм","07",0,0,0,0,0,0,0,0,0,0,0,0,0,0,0,0,0,0,0,0,0,0,null,null,{"$f":"Раздел2!#REF!","v":{"$error":"#REF!"}},{"$f":"Раздел2!F18","v":0}]
[null,"Американский футбол","08",0,0,0,0,0,0,0,0,0,0,0,0,0,0,0,0,0,0,0,0,0,0,null,null,{"$f":"Раздел2!#REF!","v":{"$error":"#REF!"}},{"$f":"Раздел2!F19","v":0}]
[null,"Армейский рукопашный бой","09",0,0,0,0,0,0,0,0,0,0,0,0,0,0,0,0,0,0,0,0,0,0,null,null,{"$f":"Раздел2!#REF!","v":{"$error":"#REF!"}},{"$f":"Раздел2!F20","v":96}]
[null,"Армрестлинг","10",0,0,0,0,0,0,0,0,0,0,0,0,0,0,0,0,0,0,0,0,0,0,null,null,{"$f":"Раздел2!#REF!","v":{"$error":"#REF!"}},{"$f":"Раздел2!F21","v":52}]
[null,"Бадминтон","11",0,0,0,0,0,0,0,0,0,0,0,0,0,0,0,0,0,0,0,0,0,0,null,null,{"$f":"Раздел2!#REF!","v":{"$error":"#REF!"}},{"$f":"Раздел2!F22","v":44}]
[null,"Баскетбол - всего","12",0,0,0,0,0,0,0,0,0,0,0,0,0,0,0,0,0,0,0,0,0,0,null,null,{"$f":"Раздел2!#REF!","v":{"$error":"#REF!"}},{"$f":"Раздел2!F23","v":0}]
[null,"в том числе:\nБаскетбол (муж.)","13",0,0,0,0,0,0,0,0,0,0,0,0,0,0,0,0,0,0,0,0,0,0,null,null,{"$f":"Раздел2!#REF!","v":{"$error":"#REF!"}},{"$f":"Раздел2!F24","v":50}]
[null,"Баскетбол (жен.)","14",0,0,0,0,0,0,0,0,0,0,0,0,0,0,0,0,0,0,0,0,0,0,null,null,{"$f":"Раздел2!#REF!","v":{"$error":"#REF!"}},{"$f":"Раздел2!F25","v":0}]
[null,"Бейсбол","15",0,0,0,0,0,0,0,0,0,0,0,0,0,0,0,0,0,0,0,0,0,0,null,null,{"$f":"Раздел2!#REF!","v":{"$error":"#REF!"}},{"$f":"Раздел2!F26","v":0}]
[null,"Биатлон","16",16,16,1,6,9,0,0,0,0,8,8,0,2,6,8,1,4,3,0,0,0,0,null,null,{"$f":"Раздел2!#REF!","v":{"$error":"#REF!"}},{"$f":"Раздел2!F27","v":0}]
[null,"Бильярдный спорт","17",0,0,0,0,0,0,0,0,0,0,0,0,0,0,0,0,0,0,0,0,0,0,null,null,{"$f":"Раздел2!#REF!","v":{"$error":"#REF!"}},{"$f":"Раздел2!F28","v":0}]
[null,"Бобслей - всего","18",0,0,0,0,0,0,0,0,0,0,0,0,0,0,0,0,0,0,0,0,0,0,null,null,{"$f":"Раздел2!#REF!","v":{"$error":"#REF!"}},{"$f":"Раздел2!F29","v":0}]
[null,"в том числе:\nБобслей","19",0,0,0,0,0,0,0,0,0,0,0,0,0,0,0,0,0,0,0,0,0,0,null,null,{"$f":"Раздел2!#REF!","v":{"$error":"#REF!"}},{"$f":"Раздел2!F30","v":382}]
[null,"Скелетон","20",0,0,0,0,0,0,0,0,0,0,0,0,0,0,0,0,0,0,0,0,0,0,null,null,{"$f":"Раздел2!#REF!","v":{"$error":"#REF!"}},{"$f":"Раздел2!F31","v":0}]
[null,"Бодибилдинг","21",0,0,0,0,0,0,0,0,0,0,0,0,0,0,0,0,0,0,0,0,0,0,null,null,{"$f":"Раздел2!#REF!","v":{"$error":"#REF!"}},{"$f":"Раздел2!F32","v":0}]
[null,"Бокс","22",100,100,0,19,81,0,0,0,0,49,49,1,7,41,52,1,9,42,0,0,0,0,null,null,{"$f":"Раздел2!#REF!","v":{"$error":"#REF!"}},{"$f":"Раздел2!F33","v":0}]
[null,"Борьба на поясах","23",0,0,0,0,0,0,0,0,0,0,0,0,0,0,0,0,0,0,0,0,0,0,null,null,{"$f":"Раздел2!#REF!","v":{"$error":"#REF!"}},{"$f":"Раздел2!F38","v":0}]
[null,"Боулинг","24",0,0,0,0,0,0,0,0,0,0,0,0,0,0,0,0,0,0,0,0,0,0,null,null,{"$f":"Раздел2!#REF!","v":{"$error":"#REF!"}},{"$f":"Раздел2!F39","v":0}]
[null,"Велосипедный спорт - всего","25",0,0,0,0,0,0,0,0,0,0,0,0,0,0,0,0,0,0,0,0,0,0,null,null,{"$f":"Раздел2!#REF!","v":{"$error":"#REF!"}},{"$f":"Раздел2!F40","v":0}]
[null,"в том числе:\nBMX","26",0,0,0,0,0,0,0,0,0,0,0,0,0,0,0,0,0,0,0,0,0,0]
[null,"Маунтинбайк","27",0,0,0,0,0,0,0,0,0,0,0,0,0,0,0,0,0,0,0,0,0,0]
[null,"Трек","28",0,0,0,0,0,0,0,0,0,0,0,0,0,0,0,0,0,0,0,0,0,0]
[null,"Шоссе","29",0,0,0,0,0,0,0,0,0,0,0,0,0,0,0,0,0,0,0,0,0,0]
[null,"Вертолетный спорт","30",0,0,0,0,0,0,0,0,0,0,0,0,0,0,0,0,0,0,0,0,0,0,null,null,{"$f":"Раздел2!#REF!","v":{"$error":"#REF!"}},{"$f":"Раздел2!F44","v":0}]
[null,"Водно-моторный спорт","31",0,0,0,0,0,0,0,0,0,0,0,0,0,0,0,0,0,0,0,0,0,0,null,null,{"$f":"Раздел2!#REF!","v":{"$error":"#REF!"}},{"$f":"Раздел2!F45","v":0}]
[null,"Водно-спасательное многоборье","32",0,0,0,0,0,0,0,0,0,0,0,0,0,0,0,0,0,0,0,0,0,0]
[null,"Водное поло - всего ","33",0,0,0,0,0,0,0,0,0,0,0,0,0,0,0,0,0,0,0,0,0,0,null,null,{"$f":"Раздел2!#REF!","v":{"$error":"#REF!"}},{"$f":"Раздел2!F46","v":0}]
[null,"в том числе:\nВодное поло (муж.)","34",0,0,0,0,0,0,0,0,0,0,0,0,0,0,0,0,0,0,0,0,0,0,null,null,{"$f":"Раздел2!#REF!","v":{"$error":"#REF!"}},{"$f":"Раздел2!F49","v":517}]
[null,"Водное поло (жен.)","35",0,0,0,0,0,0,0,0,0,0,0,0,0,0,0,0,0,0,0,0,0,0,null,null,{"$f":"Раздел2!#REF!","v":{"$error":"#REF!"}},{"$f":"Раздел2!F50","v":563}]
[null,"Воднолыжный спорт","36",0,0,0,0,0,0,0,0,0,0,0,0,0,0,0,0,0,0,0,0,0,0,null,null,{"$f":"Раздел2!#REF!","v":{"$error":"#REF!"}},{"$f":"Раздел2!F51","v":0}]
[null,"Военно-прикладной спорт","37",0,0,0,0,0,0,0,0,0,0,0,0,0,0,0,0,0,0,0,0,0,0,null,null,{"$f":"Раздел2!#REF!","v":{"$error":"#REF!"}},{"$f":"Раздел2!F52","v":0}]
[null,"Военно-спортивное многоборье","38",0,0,0,0,0,0,0,0,0,0,0,0,0,0,0,0,0,0,0,0,0,0,null,null,{"$f":"Раздел2!#REF!","v":{"$error":"#REF!"}},{"$f":"Раздел2!F53","v":0}]
[null,"Воздухоплавательный спорт","39",0,0,0,0,0,0,0,0,0,0,0,0,0,0,0,0,0,0,0,0,0,0,null,null,{"$f":"Раздел2!#REF!","v":{"$error":"#REF!"}},{"$f":"Раздел2!F54","v":0}]
[null,"Волейбол - всего","40",222,222,0,6,216,0,0,0,0,137,137,0,3,134,121,0,4,117,0,0,0,0,null,null,{"$f":"Раздел2!#REF!","v":{"$error":"#REF!"}},{"$f":"Раздел2!F55","v":428}]
[null,"в том числе:\nВолейбол (муж.)","41",104,104,0,6,98,0,0,0,0,63,63,0,3,60,64,0,4,60,0,0,0,0,null,null,{"$f":"Раздел2!#REF!","v":{"$error":"#REF!"}},{"$f":"Раздел2!F56","v":205}]
[null,"Волейбол (жен.)","42",118,118,0,0,118,0,0,0,0,74,74,0,0,74,57,0,0,57,0,0,0,0,null,null,{"$f":"Раздел2!#REF!","v":{"$error":"#REF!"}},{"$f":"Раздел2!F57","v":223}]
[null,"Пляжный волейбол (муж.)","43",0,0,0,0,0,0,0,0,0,0,0,0,0,0,0,0,0,0,0,0,0,0,null,null,{"$f":"Раздел2!#REF!","v":{"$error":"#REF!"}},{"$f":"Раздел2!F58","v":0}]
[null,"Пляжный волейбол (жен.)","44",0,0,0,0,0,0,0,0,0,0,0,0,0,0,0,0,0,0,0,0,0,0,null,null,{"$f":"Раздел2!#REF!","v":{"$error":"#REF!"}},{"$f":"Раздел2!F59","v":35}]
[null,"Восточное боевое единоборство","45",0,0,0,0,0,0,0,0,0,0,0,0,0,0,0,0,0,0,0,0,0,0,null,null,{"$f":"Раздел2!#REF!","v":{"$error":"#REF!"}},{"$f":"Раздел2!F61","v":0}]
[null,"Всестилевое каратэ","46",0,0,0,0,0,0,0,0,0,0,0,0,0,0,0,0,0,0,0,0,0,0,null,null,{"$f":"Раздел2!#REF!","v":{"$error":"#REF!"}},{"$f":"Раздел2!F62","v":0}]
[null,"Гандбол - всего","47",92,92,0,35,57,0,0,0,0,62,62,0,26,36,43,0,23,20,0,0,0,0,null,null,{"$f":"Раздел2!#REF!","v":{"$error":"#REF!"}},{"$f":"Раздел2!F63","v":350}]
[null,"в том числе:\nГандбол (муж.)","48",46,46,0,15,31,0,0,0,0,37,37,0,16,21,24,0,13,11,0,0,0,0,null,null,{"$f":"Раздел2!#REF!","v":{"$error":"#REF!"}},{"$f":"Раздел2!F64","v":0}]
[null,"Гандбол (жен.)","49",46,46,0,20,26,0,0,0,0,25,25,0,10,15,19,0,10,9,0,0,0,0,null,null,{"$f":"Раздел2!#REF!","v":{"$error":"#REF!"}},{"$f":"Раздел2!F65","v":0}]
[null,"Пляжный гандбол","50",0,0,0,0,0,0,0,0,0,0,0,0,0,0,0,0,0,0,0,0,0,0,null,null,{"$f":"Раздел2!#REF!","v":{"$error":"#REF!"}},{"$f":"Раздел2!F66","v":0}]
[null,"Гиревой спорт","51",0,0,0,0,0,0,0,0,0,6,6,0,2,4,0,0,0,0,0,0,0,0,null,null,{"$f":"Раздел2!#REF!","v":{"$error":"#REF!"}},{"$f":"Раздел2!F68","v":0}]
[null,"Го","52",0,0,0,0,0,0,0,0,0,0,0,0,0,0,0,0,0,0,0,0,0,0,null,null,{"$f":"Раздел2!#REF!","v":{"$error":"#REF!"}},{"$f":"Раздел2!F69","v":0}]
[null,"Гольф","53",0,0,0,0,0,0,0,0,0,0,0,0,0,0,0,0,0,0,0,0,0,0,null,null,{"$f":"Раздел2!#REF!","v":{"$error":"#REF!"}},{"$f":"Раздел2!F70","v":0}]
[null,"Гонки на охотничьих лыжах","54",0,0,0,0,0,0,0,0,0,0,0,0,0,0,0,0,0,0,0,0,0,0]
[null,"Горнолыжный спорт","55",152,152,0,10,142,0,0,0,0,75,75,0,10,65,0,0,0,0,0,0,0,0,null,null,{"$f":"Раздел2!#REF!","v":{"$error":"#REF!"}},{"$f":"Раздел2!F71","v":0}]
[null,"Городошный спорт","56",0,0,0,0,0,0,0,0,0,0,0,0,0,0,0,0,0,0,0,0,0,0,null,null,{"$f":"Раздел2!#REF!","v":{"$error":"#REF!"}},{"$f":"Раздел2!F72","v":0}]
[null,"Гребля на байдарках и каноэ","57",0,0,0,0,0,0,0,0,0,0,0,0,0,0,0,0,0,0,0,0,0,0,null,null,{"$f":"Раздел2!#REF!","v":{"$error":"#REF!"}},{"$f":"Раздел2!F73","v":0}]
[null,"Гребля на шлюпках","58",0,0,0,0,0,0,0,0,0,0,0,0,0,0,0,0,0,0,0,0,0,0,null,null,{"$f":"Раздел2!#REF!","v":{"$error":"#REF!"}},{"$f":"Раздел2!F74","v":0}]
[null,"Гребной слалом","59",37,24,10,0,14,13,0,3,10,0,0,0,0,0,0,0,0,0,0,0,0,0,null,null,{"$f":"Раздел2!#REF!","v":{"$error":"#REF!"}},{"$f":"Раздел2!F75","v":0}]
[null,"Гребной спорт - всего","60",0,0,0,0,0,0,0,0,0,0,0,0,0,0,0,0,0,0,0,0,0,0,null,null,{"$f":"Раздел2!#REF!","v":{"$error":"#REF!"}},{"$f":"Раздел2!F76","v":674}]
[null,"в том числе:\nАкадемическая гребля","61",0,0,0,0,0,0,0,0,0,0,0,0,0,0,0,0,0,0,0,0,0,0,null,null,{"$f":"Раздел2!#REF!","v":{"$error":"#REF!"}},{"$f":"Раздел2!F77","v":0}]
[null,"Гребля-индор","62",0,0,0,0,0,0,0,0,0,0,0,0,0,0,0,0,0,0,0,0,0,0,null,null,{"$f":"Раздел2!#REF!","v":{"$error":"#REF!"}},{"$f":"Раздел2!F78","v":0}]
[null,"Народная гребля","63",0,0,0,0,0,0,0,0,0,0,0,0,0,0,0,0,0,0,0,0,0,0,null,null,{"$f":"Раздел2!#REF!","v":{"$error":"#REF!"}},{"$f":"Раздел2!F79","v":0}]
[null,"Прибрежная гребля","64",0,0,0,0,0,0,0,0,0,0,0,0,0,0,0,0,0,0,0,0,0,0,null,null,{"$f":"Раздел2!#REF!","v":{"$error":"#REF!"}},{"$f":"Раздел2!F80","v":0}]
[null,"Гребно-парусное двоеборье","65",0,0,0,0,0,0,0,0,0,0,0,0,0,0,0,0,0,0,0,0,0,0,null,null,{"$f":"Раздел2!#REF!","v":{"$error":"#REF!"}},{"$f":"Раздел2!F81","v":0}]
[null,"Дартс","66",0,0,0,0,0,0,0,0,0,0,0,0,0,0,0,0,0,0,0,0,0,0,null,null,{"$f":"Раздел2!#REF!","v":{"$error":"#REF!"}},{"$f":"Раздел2!F82","v":0}]
[null,"Джиу-джитсу","67",0,0,0,0,0,0,0,0,0,0,0,0,0,0,0,0,0,0,0,0,0,0,null,null,{"$f":"Раздел2!#REF!","v":{"$error":"#REF!"}},{"$f":"Раздел2!F83","v":0}]
[null,"Дзюдо","68",263,254,20,38,196,9,0,0,9,99,96,6,9,81,128,7,19,102,3,0,0,3,null,null,{"$f":"Раздел2!#REF!","v":{"$error":"#REF!"}},{"$f":"Раздел2!F84","v":0}]
[null,"Ездовой спорт","69",0,0,0,0,0,0,0,0,0,0,0,0,0,0,0,0,0,0,0,0,0,0,null,null,{"$f":"Раздел2!#REF!","v":{"$error":"#REF!"}},{"$f":"Раздел2!F85","v":39}]
[null,"Капоэйра","70",0,0,0,0,0,0,0,0,0,0,0,0,0,0,0,0,0,0,0,0,0,0,null,null,{"$f":"Раздел2!#REF!","v":{"$error":"#REF!"}},{"$f":"Раздел2!F86","v":0}]
[null,"Каратэ","71",0,0,0,0,0,0,0,0,0,0,0,0,0,0,0,0,0,0,0,0,0,0,null,null,{"$f":"Раздел2!#REF!","v":{"$error":"#REF!"}},{"$f":"Раздел2!F87","v":0}]
[null,"Кендо","72",0,0,0,0,0,0,0,0,0,0,0,0,0,0,0,0,0,0,0,0,0,0,null,null,{"$f":"Раздел2!#REF!","v":{"$error":"#REF!"}},{"$f":"Раздел2!F88","v":0}]
[null,"Керешу","73",0,0,0,0,0,0,0,0,0,0,0,0,0,0,0,0,0,0,0,0,0,0,null,null,{"$f":"Раздел2!#REF!","v":{"$error":"#REF!"}},{"$f":"Раздел2!F89","v":0}]
[null,"Кёрлинг - всего","74",0,0,0,0,0,0,0,0,0,0,0,0,0,0,0,0,0,0,0,0,0,0,null,null,{"$f":"Раздел2!#REF!","v":{"$error":"#REF!"}},{"$f":"Раздел2!F90","v":105}]
[null,"в том числе:\nКерлинг (муж.)","75",0,0,0,0,0,0,0,0,0,0,0,0,0,0,0,0,0,0,0,0,0,0,null,null,{"$f":"Раздел2!#REF!","v":{"$error":"#REF!"}},{"$f":"Раздел2!F91","v":0}]
[null,"Керлинг (жен.)","76",0,0,0,0,0,0,0,0,0,0,0,0,0,0,0,0,0,0,0,0,0,0,null,null,{"$f":"Раздел2!#REF!","v":{"$error":"#REF!"}},{"$f":"Раздел2!F92","v":0}]
[null,"Кикбоксинг","77",8,8,1,2,5,0,0,0,0,4,4,1,1,2,0,0,0,0,0,0,0,0,null,null,{"$f":"Раздел2!#REF!","v":{"$error":"#REF!"}},{"$f":"Раздел2!F93","v":0}]
[null,"Кинологический спорт","78",0,0,0,0,0,0,0,0,0,0,0,0,0,0,0,0,0,0,0,0,0,0,null,null,{"$f":"Раздел2!#REF!","v":{"$error":"#REF!"}},{"$f":"Раздел2!F94","v":0}]
[null,"Киокусинкай","79",0,0,0,0,0,0,0,0,0,0,0,0,0,0,0,0,0,0,0,0,0,0,null,null,{"$f":"Раздел2!#REF!","v":{"$error":"#REF!"}},{"$f":"Раздел2!F95","v":0}]
[null,"Комплексное единоборство","80",0,0,0,0,0,0,0,0,0,0,0,0,0,0,0,0,0,0,0,0,0,0,null,null,{"$f":"Раздел2!#REF!","v":{"$error":"#REF!"}},{"$f":"Раздел2!F96","v":0}]
[null,"Компьютерный спорт","81",0,0,0,0,0,0,0,0,0,0,0,0,0,0,0,0,0,0,0,0,0,0,null,null,{"$f":"Раздел2!#REF!","v":{"$error":"#REF!"}},{"$f":"Раздел2!F97","v":0}]
[null,"Конный спорт","82",26,26,4,2,20,0,0,0,0,18,18,1,2,15,8,3,0,5,0,0,0,0,null,null,{"$f":"Раздел2!#REF!","v":{"$error":"#REF!"}},{"$f":"Раздел2!F98","v":462}]
[null,"Конькобежный спорт - всего","83",0,0,0,0,0,0,0,0,0,0,0,0,0,0,0,0,0,0,0,0,0,0,null,null,{"$f":"Раздел2!#REF!","v":{"$error":"#REF!"}},{"$f":"Раздел2!F99","v":162}]
[null,"в том числе:\nКонькобежный спорт","84",0,0,0,0,0,0,0,0,0,0,0,0,0,0,0,0,0,0,0,0,0,0,null,null,{"$f":"Раздел2!#REF!","v":{"$error":"#REF!"}},{"$f":"Раздел2!F100","v":112}]
[null,"Шорт-трек","85",0,0,0,0,0,0,0,0,0,0,0,0,0,0,0,0,0,0,0,0,0,0,null,null,{"$f":"Раздел2!#REF!","v":{"$error":"#REF!"}},{"$f":"Раздел2!F101","v":53}]
[null,"Корэш","86",0,0,0,0,0,0,0,0,0,0,0,0,0,0,0,0,0,0,0,0,0,0,null,null,{"$f":"Раздел2!#REF!","v":{"$error":"#REF!"}},{"$f":"Раздел2!F102","v":87}]
[null,"Корфбол","87",0,0,0,0,0,0,0,0,0,0,0,0,0,0,0,0,0,0,0,0,0,0,null,null,{"$f":"Раздел2!#REF!","v":{"$error":"#REF!"}},{"$f":"Раздел2!F103","v":26}]
[null,"Кудо","88",0,0,0,0,0,0,0,0,0,0,0,0,0,0,0,0,0,0,0,0,0,0]
[null,"Лапта","89",0,0,0,0,0,0,0,0,0,0,0,0,0,0,0,0,0,0,0,0,0,0,null,null,{"$f":"Раздел2!#REF!","v":{"$error":"#REF!"}},{"$f":"Раздел2!F104","v":10}]
[null,"Легкая атлетика - всего","90",162,162,2,19,141,0,0,0,0,92,92,2,14,76,64,1,7,56,0,0,0,0,null,null,{"$f":"Раздел2!#REF!","v":{"$error":"#REF!"}},{"$f":"Раздел2!F105","v":12}]
[null,"в том числе:\nСпринтерский и барьерный бег","91",95,95,1,12,82,0,0,0,0,58,58,1,11,46,37,1,3,33,0,0,0,0,null,null,{"$f":"Раздел2!#REF!","v":{"$error":"#REF!"}},{"$f":"Раздел2!F106","v":0}]
[null,"Бег на средние дистанции и бег с препятствиями","92",28,28,1,1,26,0,0,0,0,9,9,1,0,8,7,0,0,7,0,0,0,0,null,null,{"$f":"Раздел2!#REF!","v":{"$error":"#REF!"}},{"$f":"Раздел2!F107","v":293}]
[null,"Бег на длинные и сверхдлинные дистанции","93",0,0,0,0,0,0,0,0,0,0,0,0,0,0,0,0,0,0,0,0,0,0,null,null,{"$f":"Раздел2!#REF!","v":{"$error":"#REF!"}},{"$f":"Раздел2!F108","v":0}]
[null,"Многоборья","94",31,31,0,6,25,0,0,0,0,19,19,0,3,16,18,0,4,14,0,0,0,0,null,null,{"$f":"Раздел2!#REF!","v":{"$error":"#REF!"}},{"$f":"Раздел2!F109","v":0}]
[null,"Прыжки","95",8,8,0,0,8,0,0,0,0,6,6,0,0,6,2,0,0,2,0,0,0,0,null,null,{"$f":"Раздел2!#REF!","v":{"$error":"#REF!"}},{"$f":"Раздел2!F110","v":0}]
[null,"Метания","96",0,0,0,0,0,0,0,0,0,0,0,0,0,0,0,0,0,0,0,0,0,0,null,null,{"$f":"Раздел2!#REF!","v":{"$error":"#REF!"}},{"$f":"Раздел2!F111","v":0}]
[null,"Спортивная ходьба","97",0,0,0,0,0,0,0,0,0,0,0,0,0,0,0,0,0,0,0,0,0,0,null,null,{"$f":"Раздел2!#REF!","v":{"$error":"#REF!"}},{"$f":"Раздел2!F112","v":0}]
[null,"Лыжное двоеборье","98",0,0,0,0,0,0,0,0,0,0,0,0,0,0,0,0,0,0,0,0,0,0,null,null,{"$f":"Раздел2!#REF!","v":{"$error":"#REF!"}},{"$f":"Раздел2!F113","v":0}]
[null,"Лыжные гонки","99",89,89,0,13,76,0,0,0,0,59,59,0,7,52,26,0,7,19,0,0,0,0,null,null,{"$f":"Раздел2!#REF!","v":{"$error":"#REF!"}},{"$f":"Раздел2!F114","v":155}]
[null,"Мас-рестлинг","100",0,0,0,0,0,0,0,0,0,0,0,0,0,0,0,0,0,0,0,0,0,0,null,null,{"$f":"Раздел2!#REF!","v":{"$error":"#REF!"}},{"$f":"Раздел2!F115","v":0}]
[null,"Международное военно-спортивное многоборье","101",0,0,0,0,0,0,0,0,0,0,0,0,0,0,0,0,0,0,0,0,0,0,null,null,{"$f":"Раздел2!#REF!","v":{"$error":"#REF!"}},{"$f":"Раздел2!F116","v":0}]
[null,"Многоборье кинологов","102",0,0,0,0,0,0,0,0,0,0,0,0,0,0,0,0,0,0,0,0,0,0,null,null,{"$f":"Раздел2!#REF!","v":{"$error":"#REF!"}},{"$f":"Раздел2!F117","v":8}]
[null,"Многоборье спасателей МЧС России","103",0,0,0,0,0,0,0,0,0,0,0,0,0,0,0,0,0,0,0,0,0,0,null,null,{"$f":"Раздел2!#REF!","v":{"$error":"#REF!"}},{"$f":"Раздел2!F118","v":0}]
[null,"Морское многоборье","104",0,0,0,0,0,0,0,0,0,0,0,0,0,0,0,0,0,0,0,0,0,0,null,null,{"$f":"Раздел2!#REF!","v":{"$error":"#REF!"}},{"$f":"Раздел2!F119","v":0}]
[null,"Мотоциклетный спорт","105",0,0,0,0,0,0,0,0,0,0,0,0,0,0,0,0,0,0,0,0,0,0,null,null,{"$f":"Раздел2!#REF!","v":{"$error":"#REF!"}},{"$f":"Раздел2!F120","v":139}]
[null,"Настольный теннис","106",16,16,0,0,16,0,0,0,0,4,4,0,0,4,11,0,0,11,0,0,0,0,null,null,{"$f":"Раздел2!#REF!","v":{"$error":"#REF!"}},{"$f":"Раздел2!F121","v":139}]
[null,"Парашютный спорт","107",0,0,0,0,0,0,0,0,0,0,0,0,0,0,0,0,0,0,0,0,0,0,null,null,{"$f":"Раздел2!#REF!","v":{"$error":"#REF!"}},{"$f":"Раздел2!F122","v":0}]
[null,"Парусный спорт","108",0,0,0,0,0,0,0,0,0,0,0,0,0,0,0,0,0,0,0,0,0,0,null,null,{"$f":"Раздел2!#REF!","v":{"$error":"#REF!"}},{"$f":"Раздел2!F123","v":0}]
[null,"Пауэрлифтинг","109",0,0,0,0,0,0,0,0,0,3,3,0,0,3,0,0,0,0,0,0,0,0,null,null,{"$f":"Раздел2!#REF!","v":{"$error":"#REF!"}},{"$f":"Раздел2!F124","v":0}]
[null,"Перетягивание каната","110",0,0,0,0,0,0,0,0,0,0,0,0,0,0,0,0,0,0,0,0,0,0,null,null,{"$f":"Раздел2!#REF!","v":{"$error":"#REF!"}},{"$f":"Раздел2!F125","v":0}]
[null,"Петанк","111",0,0,0,0,0,0,0,0,0,0,0,0,0,0,0,0,0,0,0,0,0,0,null,null,{"$f":"Раздел2!#REF!","v":{"$error":"#REF!"}},{"$f":"Раздел2!F126","v":0}]
[null,"Плавание - всего","112",0,0,0,0,0,0,0,0,0,0,0,0,0,0,0,0,0,0,0,0,0,0,null,null,{"$f":"Раздел2!#REF!","v":{"$error":"#REF!"}},{"$f":"Раздел2!F127","v":0}]
[null,"в том числе:\nПлавание ","113",0,0,0,0,0,0,0,0,0,0,0,0,0,0,0,0,0,0,0,0,0,0,null,null,{"$f":"Раздел2!#REF!","v":{"$error":"#REF!"}},{"$f":"Раздел2!F128","v":0}]
[null,"Открытая вода","114",0,0,0,0,0,0,0,0,0,0,0,0,0,0,0,0,0,0,0,0,0,0,null,null,{"$f":"Раздел2!#REF!","v":{"$error":"#REF!"}},{"$f":"Раздел2!F129","v":0}]
[null,"Планерный спорт","115",0,0,0,0,0,0,0,0,0,0,0,0,0,0,0,0,0,0,0,0,0,0,null,null,{"$f":"Раздел2!#REF!","v":{"$error":"#REF!"}},{"$f":"Раздел2!F130","v":0}]
[null,"Подводный спорт","116",0,0,0,0,0,0,0,0,0,0,0,0,0,0,0,0,0,0,0,0,0,0,null,null,{"$f":"Раздел2!#REF!","v":{"$error":"#REF!"}},{"$f":"Раздел2!F131","v":100}]
[null,"Пожарно-спасательный спорт","117",0,0,0,0,0,0,0,0,0,0,0,0,0,0,0,0,0,0,0,0,0,0,null,null,null,{"$f":"Раздел2!F132","v":20}]
[null,"Полиатлон","118",0,0,0,0,0,0,0,0,0,0,0,0,0,0,0,0,0,0,0,0,0,0,null,null,null,{"$f":"Раздел2!F133","v":20}]
[null,"Практическая стрельба","119",0,0,0,0,0,0,0,0,0,0,0,0,0,0,0,0,0,0,0,0,0,0,null,null,null,{"$f":"Раздел2!F134","v":60}]
[null,"Прыжки в воду - всего","120",0,0,0,0,0,0,0,0,0,0,0,0,0,0,0,0,0,0,0,0,0,0,null,null,null,{"$f":"Раздел2!F135","v":0}]
[null,"в том числе:\nПрыжки в воду","121",0,0,0,0,0,0,0,0,0,0,0,0,0,0,0,0,0,0,0,0,0,0,null,null,null,{"$f":"Раздел2!F136","v":0}]
[null,"Прыжки в открытый водоем","122",0,0,0,0,0,0,0,0,0,0,0,0,0,0,0,0,0,0,0,0,0,0,null,null,null,{"$f":"Раздел2!F137","v":0}]
[null,"Прыжки на батуте - всего","123",0,0,0,0,0,0,0,0,0,0,0,0,0,0,0,0,0,0,0,0,0,0,null,null,null,{"$f":"Раздел2!F138","v":0}]
[null,"в том числе:\nАкробатическая дорожка","124",0,0,0,0,0,0,0,0,0,0,0,0,0,0,0,0,0,0,0,0,0,0,null,null,null,{"$f":"Раздел2!F139","v":0}]
[null,"Двойной минитрамп","125",0,0,0,0,0,0,0,0,0,0,0,0,0,0,0,0,0,0,0,0,0,0,null,null,null,{"$f":"Раздел2!F140","v":0}]
[null,"Индивидуальные прыжки","126",0,0,0,0,0,0,0,0,0,0,0,0,0,0,0,0,0,0,0,0,0,0,null,null,null,{"$f":"Раздел2!F141","v":0}]
[null,"Синхронные прыжки","127",0,0,0,0,0,0,0,0,0,0,0,0,0,0,0,0,0,0,0,0,0,0,null,null,null,{"$f":"Раздел2!F142","v":0}]
[null,"Прыжки на лыжах с трамплина","128",0,0,0,0,0,0,0,0,0,0,0,0,0,0,0,0,0,0,0,0,0,0,null,null,null,{"$f":"Раздел2!F143","v":0}]
[null,"Пулевая стрельба - всего","129",0,0,0,0,0,0,0,0,0,0,0,0,0,0,0,0,0,0,0,0,0,0,null,null,null,{"$f":"Раздел2!F144","v":0}]
[null,"в том числе:\nПневматическая винтовка","130",0,0,0,0,0,0,0,0,0,0,0,0,0,0,0,0,0,0,0,0,0,0,null,null,null,{"$f":"Раздел2!F145","v":0}]
[null,"Пневматический пистолет","131",0,0,0,0,0,0,0,0,0,0,0,0,0,0,0,0,0,0,0,0,0,0,null,null,null,{"$f":"Раздел2!F146","v":0}]
[null,"Малокалиберная винтовка","132",0,0,0,0,0,0,0,0,0,0,0,0,0,0,0,0,0,0,0,0,0,0,null,null,null,{"$f":"Раздел2!F147","v":0}]
[null,"Малокалиберный пистолет","133",0,0,0,0,0,0,0,0,0,0,0,0,0,0,0,0,0,0,0,0,0,0,null,null,null,{"$f":"Раздел2!F148","v":0}]
[null,"Движущаяся мишень","134",0,0,0,0,0,0,0,0,0,0,0,0,0,0,0,0,0,0,0,0,0,0,null,null,null,{"$f":"Раздел2!F149","v":0}]
[null,"Пэйнтбол","135",0,0,0,0,0,0,0,0,0,0,0,0,0,0,0,0,0,0,0,0,0,0,null,null,null,{"$f":"Раздел2!F150","v":0}]
[null,"Радиоспорт","136",0,0,0,0,0,0,0,0,0,0,0,0,0,0,0,0,0,0,0,0,0,0,null,null,null,{"$f":"Раздел2!F151","v":0}]
[null,"Рафтинг","137",0,0,0,0,0,0,0,0,0,0,0,0,0,0,0,0,0,0,0,0,0,0,null,null,null,{"$f":"Раздел2!F152","v":0}]
[null,"Регби - всего","138",0,0,0,0,0,0,0,0,0,0,0,0,0,0,0,0,0,0,0,0,0,0,null,null,null,{"$f":"Раздел2!F153","v":0}]
[null,"в том числе:\nРегби","139",0,0,0,0,0,0,0,0,0,0,0,0,0,0,0,0,0,0,0,0,0,0,null,null,null,{"$f":"Раздел2!F154","v":0}]
[null,"Регби 7 (муж.)","140",0,0,0,0,0,0,0,0,0,0,0,0,0,0,0,0,0,0,0,0,0,0,null,null,null,{"$f":"Раздел2!F155","v":0}]
[null,"Регби 7 (жен.)","141",0,0,0,0,0,0,0,0,0,0,0,0,0,0,0,0,0,0,0,0,0,0,null,null,null,{"$f":"Раздел2!F156","v":1359}]
[null,"Регби - пляжное","142",0,0,0,0,0,0,0,0,0,0,0,0,0,0,0,0,0,0,0,0,0,0,null,null,null,{"$f":"Раздел2!F157","v":0}]
[null,"Регбол","143",0,0,0,0,0,0,0,0,0,0,0,0,0,0,0,0,0,0,0,0,0,0,null,null,null,{"$f":"Раздел2!F158","v":0}]
[null,"Роллер спорт","144",0,0,0,0,0,0,0,0,0,0,0,0,0,0,0,0,0,0,0,0,0,0,null,null,null,{"$f":"Раздел2!F159","v":0}]
[null,"Рукопашный бой","145",0,0,0,0,0,0,0,0,0,0,0,0,0,0,0,0,0,0,0,0,0,0,null,null,null,{"$f":"Раздел2!F160","v":0}]
[null,"Рыболовный спорт","146",0,0,0,0,0,0,0,0,0,0,0,0,0,0,0,0,0,0,0,0,0,0,null,null,null,{"$f":"Раздел2!F161","v":0}]
[null,"Сават","147",0,0,0,0,0,0,0,0,0,0,0,0,0,0,0,0,0,0,0,0,0,0,null,null,null,{"$f":"Раздел2!F162","v":0}]
[null,"Самбо","148",275,265,25,66,174,10,0,2,8,73,70,2,15,53,106,10,15,81,3,0,1,2,null,null,null,{"$f":"Раздел2!F163","v":0}]
[null,"Самолетный спорт","149",0,0,0,0,0,0,0,0,0,0,0,0,0,0,0,0,0,0,0,0,0,0,null,null,null,{"$f":"Раздел2!F164","v":0}]
[null,"Санный спорт","150",0,0,0,0,0,0,0,0,0,0,0,0,0,0,0,0,0,0,0,0,0,0,null,null,null,{"$f":"Раздел2!F165","v":0}]
[null,"Северное многоборье","151",0,0,0,0,0,0,0,0,0,0,0,0,0,0,0,0,0,0,0,0,0,0,null,null,null,{"$f":"Раздел2!F166","v":0}]
[null,"Серфинг","152",0,0,0,0,0,0,0,0,0,0,0,0,0,0,0,0,0,0,0,0,0,0,null,null,null,{"$f":"Раздел2!F167","v":0}]
[null,"Синхронное плавание","153",0,0,0,0,0,0,0,0,0,0,0,0,0,0,0,0,0,0,0,0,0,0,null,null,null,{"$f":"Раздел2!F168","v":0}]
[null,"Скалолазание","154",0,0,0,0,0,0,0,0,0,0,0,0,0,0,0,0,0,0,0,0,0,0,null,null,null,{"$f":"Раздел2!F169","v":0}]
[null,"Сквош","155",0,0,0,0,0,0,0,0,0,0,0,0,0,0,0,0,0,0,0,0,0,0,null,null,null,{"$f":"Раздел2!F170","v":0}]
[null,"Скейтбординг","156",0,0,0,0,0,0,0,0,0,0,0,0,0,0,0,0,0,0,0,0,0,0,null,null,null,{"$f":"Раздел2!F171","v":0}]
[null,"Служебно-прикладной спорт","157",0,0,0,0,0,0,0,0,0,0,0,0,0,0,0,0,0,0,0,0,0,0]
[null,"Служебно-прикладной спорт ФСО России","158",0,0,0,0,0,0,0,0,0,0,0,0,0,0,0,0,0,0,0,0,0,0,null,null,null,{"$f":"Раздел2!F172","v":0}]
[null,"Служебно-прикладной спорт ФТС России","159",0,0,0,0,0,0,0,0,0,0,0,0,0,0,0,0,0,0,0,0,0,0,null,null,null,{"$f":"Раздел2!F175","v":0}]
[null,"Служебное двоеборье","160",0,0,0,0,0,0,0,0,0,0,0,0,0,0,0,0,0,0,0,0,0,0,null,null,null,{"$f":"Раздел2!F176","v":30}]
[null,"Служебное единоборство","161",0,0,0,0,0,0,0,0,0,0,0,0,0,0,0,0,0,0,0,0,0,0,null,null,null,{"$f":"Раздел2!F177","v":0}]
[null,"Служебное многоборье","162",0,0,0,0,0,0,0,0,0,0,0,0,0,0,0,0,0,0,0,0,0,0,null,null,null,{"$f":"Раздел2!F178","v":0}]
[null,"Служебный биатлон","163",0,0,0,0,0,0,0,0,0,0,0,0,0,0,0,0,0,0,0,0,0,0,null,null,null,{"$f":"Раздел2!F180","v":226}]
[null,"Спасательный спорт","164",0,0,0,0,0,0,0,0,0,0,0,0,0,0,0,0,0,0,0,0,0,0,null,null,null,{"$f":"Раздел2!F181","v":0}]
[null,"Стрельба из боевого ручного стрелкового оружия","165",0,0,0,0,0,0,0,0,0,0,0,0,0,0,0,0,0,0,0,0,0,0,null,null,null,{"$f":"Раздел2!F182","v":1194}]
[null,"Стрельба из штатного или табельного оружия","166",0,0,0,0,0,0,0,0,0,0,0,0,0,0,0,0,0,0,0,0,0,0,null,null,null,{"$f":"Раздел2!F183","v":78}]
[null,"Смешанное боевое единоборство (ММА)","167",0,0,0,0,0,0,0,0,0,0,0,0,0,0,0,0,0,0,0,0,0,0,null,null,null,{"$f":"Раздел2!F184","v":1116}]
[null,"Сноуборд","168",0,0,0,0,0,0,0,0,0,0,0,0,0,0,0,0,0,0,0,0,0,0,null,null,null,{"$f":"Раздел2!F185","v":0}]
[null,"Современное пятиборье","169",0,0,0,0,0,0,0,0,0,0,0,0,0,0,0,0,0,0,0,0,0,0,null,null,null,{"$f":"Раздел2!F186","v":0}]
[null,"Софтбол","170",0,0,0,0,0,0,0,0,0,0,0,0,0,0,0,0,0,0,0,0,0,0,null,null,null,{"$f":"Раздел2!F187","v":0}]
[null,"Спорт сверхлегкой авиации","171",0,0,0,0,0,0,0,0,0,0,0,0,0,0,0,0,0,0,0,0,0,0,null,null,null,{"$f":"Раздел2!F188","v":0}]
[null,"Спортивная акробатика","172",202,202,3,3,196,0,0,0,0,202,202,3,3,196,0,0,0,0,0,0,0,0,null,null,null,{"$f":"Раздел2!F189","v":0}]
[null,"Спортивная аэробика","173",0,0,0,0,0,0,0,0,0,0,0,0,0,0,0,0,0,0,0,0,0,0,null,null,null,{"$f":"Раздел2!F190","v":0}]
[null,"Спортивная борьба - всего","174",293,277,47,84,146,16,0,0,16,117,107,14,12,81,95,15,15,65,10,0,0,10,null,null,null,{"$f":"Раздел2!F191","v":114}]
[null,"в том числе:\nВольная борьба","175",8,8,1,2,5,0,0,0,0,5,5,1,1,3,9,0,1,8,0,0,0,0,null,null,null,{"$f":"Раздел2!F192","v":0}]
[null,"Греко-римская борьба","176",285,269,46,82,141,16,0,0,16,112,102,13,11,78,86,15,14,57,10,0,0,10,null,null,null,{"$f":"Раздел2!F193","v":0}]
[null,"Грэпплинг","177",0,0,0,0,0,0,0,0,0,0,0,0,0,0,0,0,0,0,0,0,0,0,null,null,null,{"$f":"Раздел2!F194","v":0}]
[null,"Грэпплинг-ги","178",0,0,0,0,0,0,0,0,0,0,0,0,0,0,0,0,0,0,0,0,0,0,null,null,null,{"$f":"Раздел2!F195","v":0}]
[null,"Панкратион","179",0,0,0,0,0,0,0,0,0,0,0,0,0,0,0,0,0,0,0,0,0,0,null,null,null,{"$f":"Раздел2!F196","v":0}]
[null,"Спортивная гимнастика","180",0,0,0,0,0,0,0,0,0,0,0,0,0,0,0,0,0,0,0,0,0,0,null,null,null,{"$f":"Раздел2!F197","v":0}]
[null,"Спортивная йога","181",0,0,0,0,0,0,0,0,0,0,0,0,0,0,0,0,0,0,0,0,0,0,null,null,null,{"$f":"Раздел2!F198","v":0}]
[null,"Спортивно-прикладное собаководство","182",0,0,0,0,0,0,0,0,0,0,0,0,0,0,0,0,0,0,0,0,0,0]
[null,"Спортивное ориентирование","183",23,23,3,8,12,0,0,0,0,12,12,0,2,10,16,3,6,7,0,0,0,0,null,null,null,{"$f":"Раздел2!F199","v":0}]
[null,"Спортивный бридж","184",0,0,0,0,0,0,0,0,0,0,0,0,0,0,0,0,0,0,0,0,0,0,null,null,null,{"$f":"Раздел2!F200","v":16}]
[null,"Спортивный туризм","185",0,0,0,0,0,0,0,0,0,0,0,0,0,0,0,0,0,0,0,0,0,0,null,null,null,{"$f":"Раздел2!F201","v":16}]
[null,"Стендовая стрельба - всего","186",0,0,0,0,0,0,0,0,0,0,0,0,0,0,0,0,0,0,0,0,0,0,null,null,null,{"$f":"Раздел2!F202","v":0}]
[null,"в том числе:\nТрап","187",0,0,0,0,0,0,0,0,0,0,0,0,0,0,0,0,0,0,0,0,0,0,null,null,null,{"$f":"Раздел2!F203","v":0}]
[null,"Скит","188",0,0,0,0,0,0,0,0,0,0,0,0,0,0,0,0,0,0,0,0,0,0,null,null,null,{"$f":"Раздел2!F204","v":0}]
[null,"Дубль-трап","189",0,0,0,0,0,0,0,0,0,0,0,0,0,0,0,0,0,0,0,0,0,0,null,null,null,{"$f":"Раздел2!F205","v":0}]
[null,"Спортинг","190",0,0,0,0,0,0,0,0,0,0,0,0,0,0,0,0,0,0,0,0,0,0,null,null,null,{"$f":"Раздел2!F206","v":0}]
[null,"Стрельба из арбалета","191",0,0,0,0,0,0,0,0,0,0,0,0,0,0,0,0,0,0,0,0,0,0,null,null,null,{"$f":"Раздел2!F207","v":0}]
[null,"Стрельба из лука - всего","192",3,3,0,1,2,0,0,0,0,2,2,0,0,2,4,0,1,3,0,0,0,0,null,null,null,{"$f":"Раздел2!F208","v":0}]
[null,"в том числе:\nКлассический лук","193",3,3,0,1,2,0,0,0,0,2,2,0,0,2,4,0,1,3,0,0,0,0,null,null,null,{"$f":"Раздел2!F209","v":0}]
[null,"   Блочный лук","194",0,0,0,0,0,0,0,0,0,0,0,0,0,0,0,0,0,0,0,0,0,0,null,null,null,{"$f":"Раздел2!F210","v":0}]
[null,"   Ачери ","195",0,0,0,0,0,0,0,0,0,0,0,0,0,0,0,0,0,0,0,0,0,0,null,null,null,{"$f":"Раздел2!F211","v":0}]
[null,"Судомодельный спорт","196",0,0,0,0,0,0,0,0,0,0,0,0,0,0,0,0,0,0,0,0,0,0,null,null,null,{"$f":"Раздел2!F212","v":0}]
[null,"Сумо","197",0,0,0,0,0,0,0,0,0,0,0,0,0,0,0,0,0,0,0,0,0,0,null,null,null,{"$f":"Раздел2!F213","v":0}]
[null,"Тайский бокс","198",0,0,0,0,0,0,0,0,0,0,0,0,0,0,0,0,0,0,0,0,0,0,null,null,null,{"$f":"Раздел2!F214","v":0}]
[null,"Танцевальный спорт","199",0,0,0,0,0,0,0,0,0,0,0,0,0,0,0,0,0,0,0,0,0,0,null,null,null,{"$f":"Раздел2!F215","v":0}]
[null,"Теннис","200",0,0,0,0,0,0,0,0,0,0,0,0,0,0,0,0,0,0,0,0,0,0,null,null,null,{"$f":"Раздел2!F216","v":0}]
[null,"Триатлон","201",0,0,0,0,0,0,0,0,0,0,0,0,0,0,0,0,0,0,0,0,0,0,null,null,null,{"$f":"Раздел2!F217","v":0}]
[null,"Тхэквондо - всего","202",0,0,0,0,0,0,0,0,0,0,0,0,0,0,0,0,0,0,0,0,0,0,null,null,null,{"$f":"Раздел2!F218","v":0}]
[null,"в том числе:\nТхэквондо (ГТФ, ИТФ, МФТ)","203",0,0,0,0,0,0,0,0,0,0,0,0,0,0,0,0,0,0,0,0,0,0,null,null,null,{"$f":"Раздел2!F219","v":0}]
[null,"Тхэквондо (ВТФ)","204",0,0,0,0,0,0,0,0,0,0,0,0,0,0,0,0,0,0,0,0,0,0,null,null,null,{"$f":"Раздел2!F220","v":0}]
[null,"Тяжелая атлетика","205",0,0,0,0,0,0,0,0,0,0,0,0,0,0,0,0,0,0,0,0,0,0,null,null,null,{"$f":"Раздел2!F221","v":0}]
[null,"Универсальный бой","206",0,0,0,0,0,0,0,0,0,0,0,0,0,0,0,0,0,0,0,0,0,0,null,null,null,{"$f":"Раздел2!F222","v":0}]
[null,"Ушу","207",0,0,0,0,0,0,0,0,0,0,0,0,0,0,0,0,0,0,0,0,0,0,null,null,null,{"$f":"Раздел2!F223","v":0}]
[null,"Фехтование - всего","208",0,0,0,0,0,0,0,0,0,0,0,0,0,0,0,0,0,0,0,0,0,0,null,null,null,{"$f":"Раздел2!F224","v":0}]
[null,"в том числе:\nРапира","209",0,0,0,0,0,0,0,0,0,0,0,0,0,0,0,0,0,0,0,0,0,0,null,null,null,{"$f":"Раздел2!F225","v":0}]
[null,"Сабля","210",0,0,0,0,0,0,0,0,0,0,0,0,0,0,0,0,0,0,0,0,0,0,null,null,null,{"$f":"Раздел2!F226","v":0}]
[null,"Шпага","211",0,0,0,0,0,0,0,0,0,0,0,0,0,0,0,0,0,0,0,0,0,0,null,null,null,{"$f":"Раздел2!F227","v":0}]
[null,"Арт-фехтование","212",0,0,0,0,0,0,0,0,0,0,0,0,0,0,0,0,0,0,0,0,0,0,null,null,null,{"$f":"Раздел2!F228","v":0}]
[null,"Фигурное катание на коньках","213",0,0,0,0,0,0,0,0,0,0,0,0,0,0,0,0,0,0,0,0,0,0,null,null,null,{"$f":"Раздел2!F229","v":0}]
[null,"Фитнес-аэробика","214",0,0,0,0,0,0,0,0,0,0,0,0,0,0,0,0,0,0,0,0,0,0,null,null,null,{"$f":"Раздел2!F230","v":0}]
[null,"Флаинг диск","215",0,0,0,0,0,0,0,0,0,0,0,0,0,0,0,0,0,0,0,0,0,0,null,null,null,{"$f":"Раздел2!F231","v":0}]
[null,"Флорбол","216",0,0,0,0,0,0,0,0,0,0,0,0,0,0,0,0,0,0,0,0,0,0,null,null,null,{"$f":"Раздел2!F232","v":596}]
[null,"Фристайл - всего","217",0,0,0,0,0,0,0,0,0,0,0,0,0,0,0,0,0,0,0,0,0,0,null,null,null,{"$f":"Раздел2!F233","v":585}]
[null,"в том числе:\nАкробатика","218",0,0,0,0,0,0,0,0,0,0,0,0,0,0,0,0,0,0,0,0,0,0,null,null,null,{"$f":"Раздел2!F234","v":0}]
[null,"Могул","219",0,0,0,0,0,0,0,0,0,0,0,0,0,0,0,0,0,0,0,0,0,0,null,null,null,{"$f":"Раздел2!F235","v":11}]
[null,"Ски-кросс","220",0,0,0,0,0,0,0,0,0,0,0,0,0,0,0,0,0,0,0,0,0,0,null,null,null,{"$f":"Раздел2!F236","v":0}]
[null,"Хаф-пайп","221",0,0,0,0,0,0,0,0,0,0,0,0,0,0,0,0,0,0,0,0,0,0,null,null,null,{"$f":"Раздел2!F237","v":0}]
[null,"Слоуп-стайл","222",0,0,0,0,0,0,0,0,0,0,0,0,0,0,0,0,0,0,0,0,0,0,null,null,null,{"$f":"Раздел2!F238","v":100}]
[null,"Функциональное многоборье","223",0,0,0,0,0,0,0,0,0,0,0,0,0,0,0,0,0,0,0,0,0,0]
[null,"Футбол - всего","224",122,122,0,35,87,0,0,0,0,75,75,0,19,56,49,0,19,30,0,0,0,0,null,null,null,{"$f":"Раздел2!F239","v":100}]
[null,"в том числе:\nФутбол (муж.)","225",122,122,0,35,87,0,0,0,0,75,75,0,19,56,49,0,19,30,0,0,0,0,null,null,null,{"$f":"Раздел2!F240","v":0}]
[null,"Футбол (жен.)","226",0,0,0,0,0,0,0,0,0,0,0,0,0,0,0,0,0,0,0,0,0,0]
[null,"Мини-футбол (футзал)","227",0,0,0,0,0,0,0,0,0,0,0,0,0,0,0,0,0,0,0,0,0,0]
[null,"Пляжный футбол","228",0,0,0,0,0,0,0,0,0,0,0,0,0,0,0,0,0,0,0,0,0,0]
[null,"Хапсагай","229",0,0,0,0,0,0,0,0,0,0,0,0,0,0,0,0,0,0,0,0,0,0]
[null,"Хоккей - всего","230",0,0,0,0,0,0,0,0,0,0,0,0,0,0,0,0,0,0,0,0,0,0]
[null,"в том числе:\nХоккей (муж.)","231",0,0,0,0,0,0,0,0,0,0,0,0,0,0,0,0,0,0,0,0,0,0]
[null,"Хоккей (жен.)","232",0,0,0,0,0,0,0,0,0,0,0,0,0,0,0,0,0,0,0,0,0,0]
[null,"Хоккей на траве - всего","233",0,0,0,0,0,0,0,0,0,0,0,0,0,0,0,0,0,0,0,0,0,0]
[null,"в том числе:\nХоккей на траве (муж.)","234",0,0,0,0,0,0,0,0,0,0,0,0,0,0,0,0,0,0,0,0,0,0]
[null,"Хоккей на траве (жен.)","235",0,0,0,0,0,0,0,0,0,0,0,0,0,0,0,0,0,0,0,0,0,0]
[null,"Индорхоккей","236",0,0,0,0,0,0,0,0,0,0,0,0,0,0,0,0,0,0,0,0,0,0]
[null,"Хоккей с мячом","237",12,12,0,0,12,0,0,0,0,6,6,0,0,6,6,0,0,6,0,0,0,0]
[null,"Художественная гимнастика","238",188,188,3,14,171,0,0,0,0,220,220,12,16,192,29,8,6,15,0,0,0,0]
[null,"Хуреш","239",0,0,0,0,0,0,0,0,0,0,0,0,0,0,0,0,0,0,0,0,0,0]
[null,"Чир спорт","240",0,0,0,0,0,0,0,0,0,0,0,0,0,0,0,0,0,0,0,0,0,0]
[null,"Шахматы","241",3,3,0,0,3,0,0,0,0,0,0,0,0,0,3,0,0,3,0,0,0,0]
[null,"Шашки","242",0,0,0,0,0,0,0,0,0,0,0,0,0,0,0,0,0,0,0,0,0,0]
[null,"Шодсанлат","243",0,0,0,0,0,0,0,0,0,0,0,0,0,0,0,0,0,0,0,0,0,0]
[null,"Эстетическая гимнастика","244",0,0,0,0,0,0,0,0,0,0,0,0,0,0,0,0,0,0,0,0,0,0]
[null,"Якутские национальные прыжки","245",0,0,0,0,0,0,0,0,0,0,0,0,0,0,0,0,0,0,0,0,0,0]
[null,"ИТОГО","246",2304,2256,119,361,1776,48,0,5,43,1323,1307,42,150,1115,769,49,135,585,16,0,1,15]
[null,"ИТОГО по олимпийским видам спорта","247",1781,1743,87,282,1374,38,0,3,35,1017,1004,36,127,841,638,36,114,488,13,0,0,13]
[null,"  в том числе: \n  по летним видам спорта","248",1524,1486,86,253,1147,38,0,3,35,875,862,36,108,718,604,35,103,466,13,0,0,13]
[null,"  по зимним видам спорта","249",257,257,1,29,227,0,0,0,0,142,142,0,19,123,34,1,11,22,0,0,0,0]
[null,"ИТОГО по неолимпийским видам спорта","250",523,513,32,79,402,10,0,2,8,306,303,6,23,274,131,13,21,97,3,0,1,2]
[null,"ИТОГО по национальным видам спорта","251",0,0,0,0,0,0,0,0,0,0,0,0,0,0,0,0,0,0,0,0,0,0]
[null,"ИТОГО по прикладным видам спорта","252",0,0,0,0,0,0,0,0,0,0,0,0,0,0,0,0,0,0,0,0,0,0]
[null,"        По виду организации: \nДЮСШ - отделения, не соответствующие Перечню \"Олимпийский\"","253",1926,1917,42,257,1618,9,0,0,9,1270,1263,32,148,1083,753,33,135,585,7,0,0,7]
[null,"     из них по \n     ведомственной\n     принадлежности: \nорганы управления в сфере образования","254",1133,1124,38,142,944,9,0,0,9,683,676,29,77,570,616,32,81,503,7,0,0,7]
[null,"органы управления в сфере физической культуры и \nспорта","255",793,793,4,115,674,0,0,0,0,587,587,3,71,513,137,1,54,82,0,0,0,0]
[null,"другая ведомственная принадлежность","256",0,0,0,0,0,0,0,0,0,0,0,0,0,0,0,0,0,0,0,0,0,0]
[null,"СШ - отделения, не соответствующие Перечню \"Олимпийский\"","257",341,315,67,104,144,26,0,2,24,39,30,10,0,20,16,16,0,0,9,0,1,8]
[null,"     из них по \n     ведомственной\n     принадлежности: \nорганы управления в сфере образования","258",0,0,0,0,0,0,0,0,0,0,0,0,0,0,0,0,0,0,0,0,0,0]
[null,"органы управления в сфере физической культуры и \nспорта","259",341,315,67,104,144,26,0,2,24,39,30,10,0,20,16,16,0,0,9,0,1,8]
[null,"другая ведомственная принадлежность","260",0,0,0,0,0,0,0,0,0,0,0,0,0,0,0,0,0,0,0,0,0,0]
[null,"СДЮСШОР - отделения, соответствующие Перечню \"Олимпийский\"","261",0,0,0,0,0,0,0,0,0,0,0,0,0,0,0,0,0,0,0,0,0,0]
[null,"     из них по \n     ведомственной\n     принадлежности:\nорганы управления в сфере образования","262",0,0,0,0,0,0,0,0,0,0,0,0,0,0,0,0,0,0,0,0,0,0]
[null,"органы управления в сфере физической культуры и спорта","263",0,0,0,0,0,0,0,0,0,0,0,0,0,0,0,0,0,0,0,0,0,0]
[null,"другая ведомственная принадлежность","264",0,0,0,0,0,0,0,0,0,0,0,0,0,0,0,0,0,0,0,0,0,0]
[null,"СШОР - отделения, соответствующие Перечню \"Олимпийский\"","265",37,24,10,0,14,13,0,3,10,0,0,0,0,0,0,0,0,0,0,0,0,0]
[null,"     из них по \n     ведомственной\n     принадлежности:\nорганы управления в сфере образования","266",0,0,0,0,0,0,0,0,0,0,0,0,0,0,0,0,0,0,0,0,0,0]
[null,"органы управления в сфере физической культуры и спорта","267",37,24,10,0,14,13,0,3,10,0,0,0,0,0,0,0,0,0,0,0,0,0]
[null,"другая ведомственная принадлежность","268",0,0,0,0,0,0,0,0,0,0,0,0,0,0,0,0,0,0,0,0,0,0]
[null,"УОР","269",0,0,0,0,0,0,0,0,0,0,0,0,0,0,0,0,0,0,0,0,0,0]
[null,"     из них по\n     ведомственной\n     принадлежности:\nорганы управления в сфере образования","270",0,0,0,0,0,0,0,0,0,0,0,0,0,0,0,0,0,0,0,0,0,0]
[null,"органы управления в сфере физической культуры и спорта","271",0,0,0,0,0,0,0,0,0,0,0,0,0,0,0,0,0,0,0,0,0,0]
[null,"другая ведомственная принадлежность","272",0,0,0,0,0,0,0,0,0,0,0,0,0,0,0,0,0,0,0,0,0,0]
[null,"ЦСП","273",0,0,0,0,0,0,0,0,0,0,0,0,0,0,0,0,0,0,0,0,0,0]
[null,"     из них по\n     ведомственной\n     принадлежности:\nорганы управления в сфере образования","274",0,0,0,0,0,0,0,0,0,0,0,0,0,0,0,0,0,0,0,0,0,0]
[null,"органы управления в сфере физической культуры и спорта","275",0,0,0,0,0,0,0,0,0,0,0,0,0,0,0,0,0,0,0,0,0,0]
[null,"другая ведомственная принадлежность","276",0,0,0,0,0,0,0,0,0,0,0,0,0,0,0,0,0,0,0,0,0,0]
[null,"ЦОП","277",0,0,0,0,0,0,0,0,0,0,0,0,0,0,0,0,0,0,0,0,0,0]
[null,"     из них по\n     ведомственной\n     принадлежности:\nорганы управления в сфере образования","278",0,0,0,0,0,0,0,0,0,0,0,0,0,0,0,0,0,0,0,0,0,0]
[null,"органы управления в сфере физической культуры и спорта","279",0,0,0,0,0,0,0,0,0,0,0,0,0,0,0,0,0,0,0,0,0,0]
[null,"другая ведомственная принадлежность","280",0,0,0,0,0,0,0,0,0,0,0,0,0,0,0,0,0,0,0,0,0,0]
[null,"Другие организации","281",0,0,0,0,0,0,0,0,0,14,14,0,2,12,0,0,0,0,0,0,0,0]
[null,"     из них по\n     ведомственной\n     принадлежности:\nорганы управления в сфере образования","282",0,0,0,0,0,0,0,0,0,14,14,0,2,12,0,0,0,0,0,0,0,0]
[null,"органы управления в сфере физической культуры и спорта","283",0,0,0,0,0,0,0,0,0,0,0,0,0,0,0,0,0,0,0,0,0,0]
[null,"другая ведомственная принадлежность","284",0,0,0,0,0,0,0,0,0,0,0,0,0,0,0,0,0,0,0,0,0,0]
[null,null,null,0,0,0,0,0,0,0,0,0,0,0,0,0,0,0,0,0,0,0,0,0,0]

{"sheet":"Раздел6","index":6,"n_rows":263,"n_cols":102,"rows_kept":263,"cut":false,"hidden":false,"merged":[[5,93,5,94],[5,97,5,98],[5,77,5,78],[5,81,5,82],[5,83,5,84],[5,87,5,88],[5,91,5,92],[5,79,5,80],[5,85,5,86],[5,89,5,90],[5,95,5,96],[5,61,5,62],[5,65,5,66],[5,67,5,68],[5,71,5,72],[5,75,5,76],[5,63,5,64],[5,69,5,70],[5,73,5,74],[5,45,5,46],[5,49,5,50],[5,51,5,52],[5,55,5,56],[5,59,5,60],[5,47,5,48],[5,53,5,54],[5,57,5,58],[5,35,5,36],[5,39,5,40],[5,43,5,44],[5,23,5,24],[5,27,5,28],[5,29,5,30],[5,33,5,34],[5,31,5,32],[5,37,5,38],[5,41,5,42],[2,101,6,101],[2,51,2,98],[0,0,123,0],[2,1,6,1],[2,2,6,2],[2,3,2,50],[0,1,0,98],[3,3,4,18],[3,19,4,34],[3,35,4,50],[3,51,4,66],[3,67,4,82],[3,83,4,98],[0,99,123,99],[1,1,1,98],[5,3,5,4],[5,5,5,6],[5,9,5,10],[5,15,5,16],[5,21,5,22],[5,25,5,26],[5,7,5,8],[5,11,5,12],[5,13,5,14],[5,17,5,18],[5,19,5,20]]}
[null,"                                                                        Раздел VI. Занимающиеся – кандидаты в спортивные сборные команды России"]
[null,"Код по ОКЕИ: человек 792"]
[null,"Виды спорта","№ строки","Из числа занимающихся (гр. 5 раздела II) – кандидаты, состоящие в списках спортивных сборных команд",null,null,null,null,null,null,null,null,null,null,null,null,null,null,null,null,null,null,null,null,null,null,null,null,null,null,null,null,null,null,null,null,null,null,null,null,null,null,null,null,null,null,null,null,null,null,null,"Кандидаты, подготовленные в отчетном году",null,null,null,null,null,null,null,null,null,null,null,null,null,null,null,null,null,null,null,null,null,null,null,null,null,null,null,null,null,null,null,null,null,null,null,null,null,null,null,null,null,null,null,null,null,null,null,null,null,"Раздел2 графа5\nЧисло отделений"]
[null,null,null,"Юношеский состав",null,null,null,null,null,null,null,null,null,null,null,null,null,null,null,"Юниорский состав",null,null,null,null,null,null,null,null,null,null,null,null,null,null,null,"Основной состав",null,null,null,null,null,null,null,null,null,null,null,null,null,null,null,"Юношеский состав",null,null,null,null,null,null,null,null,null,null,null,null,null,null,null,"Юниорский состав",null,null,null,null,null,null,null,null,null,null,null,null,null,null,null,"Основной состав"]
[]
[null,null,null,"ДЮСШ - отделения, не соответствую-щие Перечню \"Олимпийский\"",null,"СШ - отделения, не соответствую-щие Перечню \"Олимпийский\"",null,"СДЮСШОР - отделения,  соответствую-щие Перечню \"Олимпийский\"",null,"СШОР - отделения,  соответствую-щие Перечню \"Олимпийский\"",null,"УОР",null,"ЦСП",null,"ЦОП",null,"Другие",null,"ДЮСШ - отделения, не соответствую-щие Перечню \"Олимпийский\"",null,"СШ - отделения, не соответствую-щие Перечню \"Олимпийский\"",null,"СДЮСШОР - отделения,  соответствую-щие Перечню \"Олимпийский\"",null,"СШОР - отделения,  соответствую-щие Перечню \"Олимпийский\"",null,"УОР",null,"ЦСП",null,"ЦОП",null,"Другие",null,"ДЮСШ - отделения, не соответствую-щие Перечню \"Олимпийский\"",null,"СШ - отделения, не соответствую-щие Перечню \"Олимпийский\"",null,"СДЮСШОР - отделения,  соответствую-щие Перечню \"Олимпийский\"",null,"СШОР - отделения,  соответствую-щие Перечню \"Олимпийский\"",null,"УОР",null,"ЦСП",null,"ЦОП",null,"Другие",null,"ДЮСШ - отделения, не соответствую-щие Перечню \"Олимпийский\"",null,"СШ - отделения, не соответствую-щие Перечню \"Олимпийский\"",null,"СДЮСШОР - отделения,  соответствую-щие Перечню \"Олимпийский\"",null,"СШОР - отделения,  соответствую-щие Перечню \"Олимпийский\"",null,"УОР",null,"ЦСП",null,"ЦОП",null,"Другие",null,"ДЮСШ - отделения, не соответствую-щие Перечню \"Олимпийский\"",null,"СШ - отделения, не соответствую-щие Перечню \"Олимпийский\"",null,"СДЮСШОР - отделения,  соответствую-щие Перечню \"Олимпийский\"",null,"СШОР - отделения,  соответствую-щие Перечню \"Олимпийский\"",null,"УОР",null,"ЦСП",null,"ЦОП",null,"Другие",null,"ДЮСШ - отделения, не соответствую-щие Перечню \"Олимпийский\"",null,"СШ - отделения, не соответствую-щие Перечню \"Олимпийский\"",null,"СДЮСШОР - отделения,  соответствую-щие Перечню \"Олимпийский\"",null,"СШОР - отделения,  соответствую-щие Перечню \"Олимпийский\"",null,"УОР",null,"ЦСП",null,"ЦОП",null,"Другие"]
[null,null,null,"основной","резерв","основной","резерв","основной","резерв","основной","резерв","основной","резерв","основной","резерв","основной","резерв","основной","резерв","основной","резерв","основной","резерв","основной","резерв","основной","резерв","основной","резерв","основной","резерв","основной","резерв","основной","резерв","основной","резерв","основной","резерв","основной","резерв","основной","резерв","основной","резерв","основной","резерв","основной","резерв","основной","резерв","основной","резерв","основной","резерв","основной","резерв","основной","резерв","основной","резерв","основной","резерв","основной","резерв","основной","резерв","основной","резерв","основной","резерв","основной","резерв","основной","резерв","основной","резерв","основной","резерв","основной","резерв","основной","резерв","основной","резерв","основной","резерв","основной","резерв","основной","резерв","основной","резерв","основной","резерв","основной","резерв","основной","резерв"]
[null,1,2,3,4,5,6,7,8,9,10,11,12,13,14,15,16,17,18,19,20,21,22,23,24,25,26,27,28,29,30,31,32,33,34,35,36,37,38,39,40,41,42,43,44,45,46,47,48,49,50,51,52,53,54,55,56,57,58,59,60,61,62,63,64,65,66,67,68,69,70,71,72,73,74,75,76,77,78,79,80,81,82,83,84,85,86,87,88,89,90,91,92,93,94,95,96,97,98]
[null,"Авиамодельный спорт","01",0,0,0,0,0,0,0,0,0,0,0,0,0,0,0,0,0,0,0,0,0,0,0,0,0,0,0,0,0,0,0,0,0,0,0,0,0,0,0,0,0,0,0,0,0,0,0,0,0,0,0,0,0,0,0,0,0,0,0,0,0,0,0,0,0,0,0,0,0,0,0,0,0,0,0,0,0,0,0,0,0,0,0,0,0,0,0,0,0,0,0,0,0,0,0,0,null,null,{"$f":"Раздел2!F9","v":0}]
[null,"Автомобильный спорт","02",0,0,0,0,0,0,0,0,0,0,0,0,0,0,0,0,0,0,0,0,0,0,0,0,0,0,0,0,0,0,0,0,0,0,0,0,0,0,0,0,0,0,0,0,0,0,0,0,0,0,0,0,0,0,0,0,0,0,0,0,0,0,0,0,0,0,0,0,0,0,0,0,0,0,0,0,0,0,0,0,0,0,0,0,0,0,0,0,0,0,0,0,0,0,0,0,null,null,{"$f":"Раздел2!F10","v":0}]
[null,"Автомодельный спорт","03",0,0,0,0,0,0,0,0,0,0,0,0,0,0,0,0,0,0,0,0,0,0,0,0,0,0,0,0,0,0,0,0,0,0,0,0,0,0,0,0,0,0,0,0,0,0,0,0,0,0,0,0,0,0,0,0,0,0,0,0,0,0,0,0,0,0,0,0,0,0,0,0,0,0,0,0,0,0,0,0,0,0,0,0,0,0,0,0,0,0,0,0,0,0,0,0,null,null,{"$f":"Раздел2!F12","v":0}]
[null,"Айкидо","04",0,0,0,0,0,0,0,0,0,0,0,0,0,0,0,0,0,0,0,0,0,0,0,0,0,0,0,0,0,0,0,0,0,0,0,0,0,0,0,0,0,0,0,0,0,0,0,0,0,0,0,0,0,0,0,0,0,0,0,0,0,0,0,0,0,0,0,0,0,0,0,0,0,0,0,0,0,0,0,0,0,0,0,0,0,0,0,0,0,0,0,0,0,0,0,0,null,null,{"$f":"Раздел2!F14","v":0}]
[null,"Айсшток","05",0,0,0,0,0,0,0,0,0,0,0,0,0,0,0,0,0,0,0,0,0,0,0,0,0,0,0,0,0,0,0,0,0,0,0,0,0,0,0,0,0,0,0,0,0,0,0,0,0,0,0,0,0,0,0,0,0,0,0,0,0,0,0,0,0,0,0,0,0,0,0,0,0,0,0,0,0,0,0,0,0,0,0,0,0,0,0,0,0,0,0,0,0,0,0,0,null,null,{"$f":"Раздел2!F15","v":0}]
[null,"Акробатический рок-н-ролл","06",0,0,0,0,0,0,0,0,0,0,0,0,0,0,0,0,0,0,0,0,0,0,0,0,0,0,0,0,0,0,0,0,0,0,0,0,0,0,0,0,0,0,0,0,0,0,0,0,0,0,0,0,0,0,0,0,0,0,0,0,0,0,0,0,0,0,0,0,0,0,0,0,0,0,0,0,0,0,0,0,0,0,0,0,0,0,0,0,0,0,0,0,0,0,0,0,null,null,{"$f":"Раздел2!F16","v":0}]
[null,"Альпинизм","07",0,0,0,0,0,0,0,0,0,0,0,0,0,0,0,0,0,0,0,0,0,0,0,0,0,0,0,0,0,0,0,0,0,0,0,0,0,0,0,0,0,0,0,0,0,0,0,0,0,0,0,0,0,0,0,0,0,0,0,0,0,0,0,0,0,0,0,0,0,0,0,0,0,0,0,0,0,0,0,0,0,0,0,0,0,0,0,0,0,0,0,0,0,0,0,0,null,null,{"$f":"Раздел2!F18","v":0}]
[null,"Американский футбол","08",0,0,0,0,0,0,0,0,0,0,0,0,0,0,0,0,0,0,0,0,0,0,0,0,0,0,0,0,0,0,0,0,0,0,0,0,0,0,0,0,0,0,0,0,0,0,0,0,0,0,0,0,0,0,0,0,0,0,0,0,0,0,0,0,0,0,0,0,0,0,0,0,0,0,0,0,0,0,0,0,0,0,0,0,0,0,0,0,0,0,0,0,0,0,0,0,null,null,{"$f":"Раздел2!F19","v":0}]
[null,"Армейский рукопашный бой","09",0,0,0,0,0,0,0,0,0,0,0,0,0,0,0,0,0,0,0,0,0,0,0,0,0,0,0,0,0,0,0,0,0,0,0,0,0,0,0,0,0,0,0,0,0,0,0,0,0,0,0,0,0,0,0,0,0,0,0,0,0,0,0,0,0,0,0,0,0,0,0,0,0,0,0,0,0,0,0,0,0,0,0,0,0,0,0,0,0,0,0,0,0,0,0,0,null,null,{"$f":"Раздел2!F20","v":96}]
[null,"Армрестлинг","10",0,0,0,0,0,0,0,0,0,0,0,0,0,0,0,0,0,0,0,0,0,0,0,0,0,0,0,0,0,0,0,0,0,0,0,0,0,0,0,0,0,0,0,0,0,0,0,0,0,0,0,0,0,0,0,0,0,0,0,0,0,0,0,0,0,0,0,0,0,0,0,0,0,0,0,0,0,0,0,0,0,0,0,0,0,0,0,0,0,0,0,0,0,0,0,0,null,null,{"$f":"Раздел2!F21","v":52}]
[null,"Бадминтон","11",0,0,0,0,0,0,0,0,0,0,0,0,0,0,0,0,0,0,0,0,0,0,0,0,0,0,0,0,0,0,0,0,0,0,0,0,0,0,0,0,0,0,0,0,0,0,0,0,0,0,0,0,0,0,0,0,0,0,0,0,0,0,0,0,0,0,0,0,0,0,0,0,0,0,0,0,0,0,0,0,0,0,0,0,0,0,0,0,0,0,0,0,0,0,0,0,null,null,{"$f":"Раздел2!F22","v":44}]
[null,"Баскетбол - всего","12",0,0,0,0,0,0,0,0,0,0,0,0,0,0,0,0,0,0,0,0,0,0,0,0,0,0,0,0,0,0,0,0,0,0,0,0,0,0,0,0,0,0,0,0,0,0,0,0,0,0,0,0,0,0,0,0,0,0,0,0,0,0,0,0,0,0,0,0,0,0,0,0,0,0,0,0,0,0,0,0,0,0,0,0,0,0,0,0,0,0,0,0,0,0,0,0,null,null,{"$f":"Раздел2!F23","v":0}]
[null,"в том числе:\nБаскетбол (муж.)","13",0,0,0,0,0,0,0,0,0,0,0,0,0,0,0,0,0,0,0,0,0,0,0,0,0,0,0,0,0,0,0,0,0,0,0,0,0,0,0,0,0,0,0,0,0,0,0,0,0,0,0,0,0,0,0,0,0,0,0,0,0,0,0,0,0,0,0,0,0,0,0,0,0,0,0,0,0,0,0,0,0,0,0,0,0,0,0,0,0,0,0,0,0,0,0,0,null,null,{"$f":"Раздел2!F24","v":50}]
[null,"Баскетбол (жен.)","14",0,0,0,0,0,0,0,0,0,0,0,0,0,0,0,0,0,0,0,0,0,0,0,0,0,0,0,0,0,0,0,0,0,0,0,0,0,0,0,0,0,0,0,0,0,0,0,0,0,0,0,0,0,0,0,0,0,0,0,0,0,0,0,0,0,0,0,0,0,0,0,0,0,0,0,0,0,0,0,0,0,0,0,0,0,0,0,0,0,0,0,0,0,0,0,0,null,null,{"$f":"Раздел2!F25","v":0}]
[null,"Бейсбол","15",0,0,0,0,0,0,0,0,0,0,0,0,0,0,0,0,0,0,0,0,0,0,0,0,0,0,0,0,0,0,0,0,0,0,0,0,0,0,0,0,0,0,0,0,0,0,0,0,0,0,0,0,0,0,0,0,0,0,0,0,0,0,0,0,0,0,0,0,0,0,0,0,0,0,0,0,0,0,0,0,0,0,0,0,0,0,0,0,0,0,0,0,0,0,0,0,null,null,{"$f":"Раздел2!F26","v":0}]
[null,"Биатлон","16",0,0,0,0,0,0,0,0,0,0,0,0,0,0,0,0,0,0,0,0,0,0,0,0,0,0,0,0,0,0,0,0,0,0,0,0,0,0,0,0,0,0,0,0,0,0,0,0,0,0,0,0,0,0,0,0,0,0,0,0,0,0,0,0,0,0,0,0,0,0,0,0,0,0,0,0,0,0,0,0,0,0,0,0,0,0,0,0,0,0,0,0,0,0,0,0,null,null,{"$f":"Раздел2!F27","v":0}]
[null,"Бильярдный спорт","17",0,0,0,0,0,0,0,0,0,0,0,0,0,0,0,0,0,0,0,0,0,0,0,0,0,0,0,0,0,0,0,0,0,0,0,0,0,0,0,0,0,0,0,0,0,0,0,0,0,0,0,0,0,0,0,0,0,0,0,0,0,0,0,0,0,0,0,0,0,0,0,0,0,0,0,0,0,0,0,0,0,0,0,0,0,0,0,0,0,0,0,0,0,0,0,0,null,null,{"$f":"Раздел2!F28","v":0}]
[null,"Бобслей - всего","18",0,0,0,0,0,0,0,0,0,0,0,0,0,0,0,0,0,0,0,0,0,0,0,0,0,0,0,0,0,0,0,0,0,0,0,0,0,0,0,0,0,0,0,0,0,0,0,0,0,0,0,0,0,0,0,0,0,0,0,0,0,0,0,0,0,0,0,0,0,0,0,0,0,0,0,0,0,0,0,0,0,0,0,0,0,0,0,0,0,0,0,0,0,0,0,0,null,null,{"$f":"Раздел2!F29","v":0}]
[null,"в том числе:\nБобслей","19",0,0,0,0,0,0,0,0,0,0,0,0,0,0,0,0,0,0,0,0,0,0,0,0,0,0,0,0,0,0,0,0,0,0,0,0,0,0,0,0,0,0,0,0,0,0,0,0,0,0,0,0,0,0,0,0,0,0,0,0,0,0,0,0,0,0,0,0,0,0,0,0,0,0,0,0,0,0,0,0,0,0,0,0,0,0,0,0,0,0,0,0,0,0,0,0,null,null,{"$f":"Раздел2!F30","v":382}]
[null,"Скелетон","20",0,0,0,0,0,0,0,0,0,0,0,0,0,0,0,0,0,0,0,0,0,0,0,0,0,0,0,0,0,0,0,0,0,0,0,0,0,0,0,0,0,0,0,0,0,0,0,0,0,0,0,0,0,0,0,0,0,0,0,0,0,0,0,0,0,0,0,0,0,0,0,0,0,0,0,0,0,0,0,0,0,0,0,0,0,0,0,0,0,0,0,0,0,0,0,0,null,null,{"$f":"Раздел2!F31","v":0}]
[null,"Бодибилдинг","21",0,0,0,0,0,0,0,0,0,0,0,0,0,0,0,0,0,0,0,0,0,0,0,0,0,0,0,0,0,0,0,0,0,0,0,0,0,0,0,0,0,0,0,0,0,0,0,0,0,0,0,0,0,0,0,0,0,0,0,0,0,0,0,0,0,0,0,0,0,0,0,0,0,0,0,0,0,0,0,0,0,0,0,0,0,0,0,0,0,0,0,0,0,0,0,0,null,null,{"$f":"Раздел2!F32","v":0}]
[null,"Бокс","22",0,0,0,0,0,0,0,0,0,0,0,0,0,0,0,0,0,1,0,0,0,0,0,0,0,0,0,0,0,0,0,0,0,0,0,0,0,0,0,0,0,0,0,0,0,0,0,0,0,0,0,0,0,0,0,0,0,0,0,0,0,0,0,0,0,1,0,0,0,0,0,0,0,0,0,0,0,0,0,0,0,0,0,0,0,0,0,0,0,0,0,0,0,0,0,0,null,null,{"$f":"Раздел2!F33","v":0}]
[null,"Борьба на поясах","23",0,0,0,0,0,0,0,0,0,0,0,0,0,0,0,0,0,0,0,0,0,0,0,0,0,0,0,0,0,0,0,0,0,0,0,0,0,0,0,0,0,0,0,0,0,0,0,0,0,0,0,0,0,0,0,0,0,0,0,0,0,0,0,0,0,0,0,0,0,0,0,0,0,0,0,0,0,0,0,0,0,0,0,0,0,0,0,0,0,0,0,0,0,0,0,0,null,null,{"$f":"Раздел2!F38","v":0}]
[null,"Боулинг","24",0,0,0,0,0,0,0,0,0,0,0,0,0,0,0,0,0,0,0,0,0,0,0,0,0,0,0,0,0,0,0,0,0,0,0,0,0,0,0,0,0,0,0,0,0,0,0,0,0,0,0,0,0,0,0,0,0,0,0,0,0,0,0,0,0,0,0,0,0,0,0,0,0,0,0,0,0,0,0,0,0,0,0,0,0,0,0,0,0,0,0,0,0,0,0,0,null,null,{"$f":"Раздел2!F39","v":0}]
[null,"Велосипедный спорт - всего","25",0,0,0,0,0,0,0,0,0,0,0,0,0,0,0,0,0,0,0,0,0,0,0,0,0,0,0,0,0,0,0,0,0,0,0,0,0,0,0,0,0,0,0,0,0,0,0,0,0,0,0,0,0,0,0,0,0,0,0,0,0,0,0,0,0,0,0,0,0,0,0,0,0,0,0,0,0,0,0,0,0,0,0,0,0,0,0,0,0,0,0,0,0,0,0,0,null,null,{"$f":"Раздел2!F40","v":0}]
[null,"в том числе:\nBMX","26",0,0,0,0,0,0,0,0,0,0,0,0,0,0,0,0,0,0,0,0,0,0,0,0,0,0,0,0,0,0,0,0,0,0,0,0,0,0,0,0,0,0,0,0,0,0,0,0,0,0,0,0,0,0,0,0,0,0,0,0,0,0,0,0,0,0,0,0,0,0,0,0,0,0,0,0,0,0,0,0,0,0,0,0,0,0,0,0,0,0,0,0,0,0,0,0]
[null,"Маунтинбайк","27",0,0,0,0,0,0,0,0,0,0,0,0,0,0,0,0,0,0,0,0,0,0,0,0,0,0,0,0,0,0,0,0,0,0,0,0,0,0,0,0,0,0,0,0,0,0,0,0,0,0,0,0,0,0,0,0,0,0,0,0,0,0,0,0,0,0,0,0,0,0,0,0,0,0,0,0,0,0,0,0,0,0,0,0,0,0,0,0,0,0,0,0,0,0,0,0]
[null,"Трек","28",0,0,0,0,0,0,0,0,0,0,0,0,0,0,0,0,0,0,0,0,0,0,0,0,0,0,0,0,0,0,0,0,0,0,0,0,0,0,0,0,0,0,0,0,0,0,0,0,0,0,0,0,0,0,0,0,0,0,0,0,0,0,0,0,0,0,0,0,0,0,0,0,0,0,0,0,0,0,0,0,0,0,0,0,0,0,0,0,0,0,0,0,0,0,0,0]
[null,"Шоссе","29",0,0,0,0,0,0,0,0,0,0,0,0,0,0,0,0,0,0,0,0,0,0,0,0,0,0,0,0,0,0,0,0,0,0,0,0,0,0,0,0,0,0,0,0,0,0,0,0,0,0,0,0,0,0,0,0,0,0,0,0,0,0,0,0,0,0,0,0,0,0,0,0,0,0,0,0,0,0,0,0,0,0,0,0,0,0,0,0,0,0,0,0,0,0,0,0]
[null,"Вертолетный спорт","30",0,0,0,0,0,0,0,0,0,0,0,0,0,0,0,0,0,0,0,0,0,0,0,0,0,0,0,0,0,0,0,0,0,0,0,0,0,0,0,0,0,0,0,0,0,0,0,0,0,0,0,0,0,0,0,0,0,0,0,0,0,0,0,0,0,0,0,0,0,0,0,0,0,0,0,0,0,0,0,0,0,0,0,0,0,0,0,0,0,0,0,0,0,0,0,0,null,null,{"$f":"Раздел2!F41","v":0}]
[null,"Водно-моторный спорт","31",0,0,0,0,0,0,0,0,0,0,0,0,0,0,0,0,0,0,0,0,0,0,0,0,0,0,0,0,0,0,0,0,0,0,0,0,0,0,0,0,0,0,0,0,0,0,0,0,0,0,0,0,0,0,0,0,0,0,0,0,0,0,0,0,0,0,0,0,0,0,0,0,0,0,0,0,0,0,0,0,0,0,0,0,0,0,0,0,0,0,0,0,0,0,0,0,null,null,{"$f":"Раздел2!F42","v":0}]
[null,"Водно-спасательное многоборье","32",0,0,0,0,0,0,0,0,0,0,0,0,0,0,0,0,0,0,0,0,0,0,0,0,0,0,0,0,0,0,0,0,0,0,0,0,0,0,0,0,0,0,0,0,0,0,0,0,0,0,0,0,0,0,0,0,0,0,0,0,0,0,0,0,0,0,0,0,0,0,0,0,0,0,0,0,0,0,0,0,0,0,0,0,0,0,0,0,0,0,0,0,0,0,0,0,null,null,{"$f":"Раздел2!F43","v":0}]
[null,"Водное поло - всего ","33",0,0,0,0,0,0,0,0,0,0,0,0,0,0,0,0,0,0,0,0,0,0,0,0,0,0,0,0,0,0,0,0,0,0,0,0,0,0,0,0,0,0,0,0,0,0,0,0,0,0,0,0,0,0,0,0,0,0,0,0,0,0,0,0,0,0,0,0,0,0,0,0,0,0,0,0,0,0,0,0,0,0,0,0,0,0,0,0,0,0,0,0,0,0,0,0,null,null,{"$f":"Раздел2!F44","v":0}]
[null,"в том числе:\nВодное поло (муж.)","34",0,0,0,0,0,0,0,0,0,0,0,0,0,0,0,0,0,0,0,0,0,0,0,0,0,0,0,0,0,0,0,0,0,0,0,0,0,0,0,0,0,0,0,0,0,0,0,0,0,0,0,0,0,0,0,0,0,0,0,0,0,0,0,0,0,0,0,0,0,0,0,0,0,0,0,0,0,0,0,0,0,0,0,0,0,0,0,0,0,0,0,0,0,0,0,0,null,null,{"$f":"Раздел2!F45","v":0}]
[null,"Водное поло (жен.)","35",0,0,0,0,0,0,0,0,0,0,0,0,0,0,0,0,0,0,0,0,0,0,0,0,0,0,0,0,0,0,0,0,0,0,0,0,0,0,0,0,0,0,0,0,0,0,0,0,0,0,0,0,0,0,0,0,0,0,0,0,0,0,0,0,0,0,0,0,0,0,0,0,0,0,0,0,0,0,0,0,0,0,0,0,0,0,0,0,0,0,0,0,0,0,0,0,null,null,{"$f":"Раздел2!F46","v":0}]
[null,"Воднолыжный спорт","36",0,0,0,0,0,0,0,0,0,0,0,0,0,0,0,0,0,0,0,0,0,0,0,0,0,0,0,0,0,0,0,0,0,0,0,0,0,0,0,0,0,0,0,0,0,0,0,0,0,0,0,0,0,0,0,0,0,0,0,0,0,0,0,0,0,0,0,0,0,0,0,0,0,0,0,0,0,0,0,0,0,0,0,0,0,0,0,0,0,0,0,0,0,0,0,0,null,null,{"$f":"Раздел2!F49","v":517}]
[null,"Военно-прикладной спорт","37",0,0,0,0,0,0,0,0,0,0,0,0,0,0,0,0,0,0,0,0,0,0,0,0,0,0,0,0,0,0,0,0,0,0,0,0,0,0,0,0,0,0,0,0,0,0,0,0,0,0,0,0,0,0,0,0,0,0,0,0,0,0,0,0,0,0,0,0,0,0,0,0,0,0,0,0,0,0,0,0,0,0,0,0,0,0,0,0,0,0,0,0,0,0,0,0,null,null,{"$f":"Раздел2!F50","v":563}]
[null,"Военно-спортивное многоборье","38",0,0,0,0,0,0,0,0,0,0,0,0,0,0,0,0,0,0,0,0,0,0,0,0,0,0,0,0,0,0,0,0,0,0,0,0,0,0,0,0,0,0,0,0,0,0,0,0,0,0,0,0,0,0,0,0,0,0,0,0,0,0,0,0,0,0,0,0,0,0,0,0,0,0,0,0,0,0,0,0,0,0,0,0,0,0,0,0,0,0,0,0,0,0,0,0,null,null,{"$f":"Раздел2!F51","v":0}]
[null,"Воздухоплавательный спорт","39",0,0,0,0,0,0,0,0,0,0,0,0,0,0,0,0,0,0,0,0,0,0,0,0,0,0,0,0,0,0,0,0,0,0,0,0,0,0,0,0,0,0,0,0,0,0,0,0,0,0,0,0,0,0,0,0,0,0,0,0,0,0,0,0,0,0,0,0,0,0,0,0,0,0,0,0,0,0,0,0,0,0,0,0,0,0,0,0,0,0,0,0,0,0,0,0,null,null,{"$f":"Раздел2!F52","v":0}]
[null,"Волейбол - всего","40",0,0,0,0,0,0,0,0,0,0,0,0,0,0,0,0,0,0,0,0,0,0,0,0,0,0,0,0,0,0,0,0,0,0,0,0,0,0,0,0,0,0,0,0,0,0,0,0,0,0,0,0,0,0,0,0,0,0,0,0,0,0,0,0,0,0,0,0,0,0,0,0,0,0,0,0,0,0,0,0,0,0,0,0,0,0,0,0,0,0,0,0,0,0,0,0,null,null,{"$f":"Раздел2!F53","v":0}]
[null,"в том числе:\nВолейбол (муж.)","41",0,0,0,0,0,0,0,0,0,0,0,0,0,0,0,0,0,0,0,0,0,0,0,0,0,0,0,0,0,0,0,0,0,0,0,0,0,0,0,0,0,0,0,0,0,0,0,0,0,0,0,0,0,0,0,0,0,0,0,0,0,0,0,0,0,0,0,0,0,0,0,0,0,0,0,0,0,0,0,0,0,0,0,0,0,0,0,0,0,0,0,0,0,0,0,0,null,null,{"$f":"Раздел2!F54","v":0}]
[null,"Волейбол (жен.)","42",0,0,0,0,0,0,0,0,0,0,0,0,0,0,0,0,0,0,0,0,0,0,0,0,0,0,0,0,0,0,0,0,0,0,0,0,0,0,0,0,0,0,0,0,0,0,0,0,0,0,0,0,0,0,0,0,0,0,0,0,0,0,0,0,0,0,0,0,0,0,0,0,0,0,0,0,0,0,0,0,0,0,0,0,0,0,0,0,0,0,0,0,0,0,0,0,null,null,{"$f":"Раздел2!F55","v":428}]
[null,"Пляжный волейбол (муж.)","43",0,0,0,0,0,0,0,0,0,0,0,0,0,0,0,0,0,0,0,0,0,0,0,0,0,0,0,0,0,0,0,0,0,0,0,0,0,0,0,0,0,0,0,0,0,0,0,0,0,0,0,0,0,0,0,0,0,0,0,0,0,0,0,0,0,0,0,0,0,0,0,0,0,0,0,0,0,0,0,0,0,0,0,0,0,0,0,0,0,0,0,0,0,0,0,0,null,null,{"$f":"Раздел2!F56","v":205}]
[null,"Пляжный волейбол (жен.)","44",0,0,0,0,0,0,0,0,0,0,0,0,0,0,0,0,0,0,0,0,0,0,0,0,0,0,0,0,0,0,0,0,0,0,0,0,0,0,0,0,0,0,0,0,0,0,0,0,0,0,0,0,0,0,0,0,0,0,0,0,0,0,0,0,0,0,0,0,0,0,0,0,0,0,0,0,0,0,0,0,0,0,0,0,0,0,0,0,0,0,0,0,0,0,0,0,null,null,{"$f":"Раздел2!F57","v":223}]
[null,"Восточное боевое единоборство","45",0,0,0,0,0,0,0,0,0,0,0,0,0,0,0,0,0,0,0,0,0,0,0,0,0,0,0,0,0,0,0,0,0,0,0,0,0,0,0,0,0,0,0,0,0,0,0,0,0,0,0,0,0,0,0,0,0,0,0,0,0,0,0,0,0,0,0,0,0,0,0,0,0,0,0,0,0,0,0,0,0,0,0,0,0,0,0,0,0,0,0,0,0,0,0,0,null,null,{"$f":"Раздел2!F58","v":0}]
[null,"Всестилевое каратэ","46",0,0,0,0,0,0,0,0,0,0,0,0,0,0,0,0,0,0,0,0,0,0,0,0,0,0,0,0,0,0,0,0,0,0,0,0,0,0,0,0,0,0,0,0,0,0,0,0,0,0,0,0,0,0,0,0,0,0,0,0,0,0,0,0,0,0,0,0,0,0,0,0,0,0,0,0,0,0,0,0,0,0,0,0,0,0,0,0,0,0,0,0,0,0,0,0,null,null,{"$f":"Раздел2!F59","v":35}]
[null,"Гандбол - всего","47",0,0,0,0,0,0,0,0,0,0,0,0,0,0,0,0,0,0,0,0,0,0,0,0,0,0,0,0,0,0,0,0,0,0,0,0,0,0,0,0,0,0,0,0,0,0,0,0,0,0,0,0,0,0,0,0,0,0,0,0,0,0,0,0,0,0,0,0,0,0,0,0,0,0,0,0,0,0,0,0,0,0,0,0,0,0,0,0,0,0,0,0,0,0,0,0,null,null,{"$f":"Раздел2!F61","v":0}]
[null,"в том числе:\nГандбол (муж.)","48",0,0,0,0,0,0,0,0,0,0,0,0,0,0,0,0,0,0,0,0,0,0,0,0,0,0,0,0,0,0,0,0,0,0,0,0,0,0,0,0,0,0,0,0,0,0,0,0,0,0,0,0,0,0,0,0,0,0,0,0,0,0,0,0,0,0,0,0,0,0,0,0,0,0,0,0,0,0,0,0,0,0,0,0,0,0,0,0,0,0,0,0,0,0,0,0,null,null,{"$f":"Раздел2!F62","v":0}]
[null,"Гандбол (жен.)","49",0,0,0,0,0,0,0,0,0,0,0,0,0,0,0,0,0,0,0,0,0,0,0,0,0,0,0,0,0,0,0,0,0,0,0,0,0,0,0,0,0,0,0,0,0,0,0,0,0,0,0,0,0,0,0,0,0,0,0,0,0,0,0,0,0,0,0,0,0,0,0,0,0,0,0,0,0,0,0,0,0,0,0,0,0,0,0,0,0,0,0,0,0,0,0,0,null,null,{"$f":"Раздел2!F63","v":350}]
[null,"Пляжный гандбол","50",0,0,0,0,0,0,0,0,0,0,0,0,0,0,0,0,0,0,0,0,0,0,0,0,0,0,0,0,0,0,0,0,0,0,0,0,0,0,0,0,0,0,0,0,0,0,0,0,0,0,0,0,0,0,0,0,0,0,0,0,0,0,0,0,0,0,0,0,0,0,0,0,0,0,0,0,0,0,0,0,0,0,0,0,0,0,0,0,0,0,0,0,0,0,0,0,null,null,{"$f":"Раздел2!F64","v":0}]
[null,"Гиревой спорт","51",0,0,0,0,0,0,0,0,0,0,0,0,0,0,0,0,0,0,0,0,0,0,0,0,0,0,0,0,0,0,0,0,0,0,0,0,0,0,0,0,0,0,0,0,0,0,0,0,0,0,0,0,0,0,0,0,0,0,0,0,0,0,0,0,0,0,0,0,0,0,0,0,0,0,0,0,0,0,0,0,0,0,0,0,0,0,0,0,0,0,0,0,0,0,0,0,null,null,{"$f":"Раздел2!F65","v":0}]
[null,"Го","52",0,0,0,0,0,0,0,0,0,0,0,0,0,0,0,0,0,0,0,0,0,0,0,0,0,0,0,0,0,0,0,0,0,0,0,0,0,0,0,0,0,0,0,0,0,0,0,0,0,0,0,0,0,0,0,0,0,0,0,0,0,0,0,0,0,0,0,0,0,0,0,0,0,0,0,0,0,0,0,0,0,0,0,0,0,0,0,0,0,0,0,0,0,0,0,0,null,null,{"$f":"Раздел2!F66","v":0}]
[null,"Гольф","53",0,0,0,0,0,0,0,0,0,0,0,0,0,0,0,0,0,0,0,0,0,0,0,0,0,0,0,0,0,0,0,0,0,0,0,0,0,0,0,0,0,0,0,0,0,0,0,0,0,0,0,0,0,0,0,0,0,0,0,0,0,0,0,0,0,0,0,0,0,0,0,0,0,0,0,0,0,0,0,0,0,0,0,0,0,0,0,0,0,0,0,0,0,0,0,0,null,null,{"$f":"Раздел2!F68","v":0}]
[null,"Гонки на охотничьих лыжах","54",0,0,0,0,0,0,0,0,0,0,0,0,0,0,0,0,0,0,0,0,0,0,0,0,0,0,0,0,0,0,0,0,0,0,0,0,0,0,0,0,0,0,0,0,0,0,0,0,0,0,0,0,0,0,0,0,0,0,0,0,0,0,0,0,0,0,0,0,0,0,0,0,0,0,0,0,0,0,0,0,0,0,0,0,0,0,0,0,0,0,0,0,0,0,0,0,null,null,{"$f":"Раздел2!F69","v":0}]
[null,"Горнолыжный спорт","55",0,0,0,0,0,0,0,0,0,0,0,0,0,0,0,0,0,0,0,0,0,0,0,0,0,0,0,0,0,0,0,0,0,0,0,0,0,0,0,0,0,0,0,0,0,0,0,0,0,0,0,0,0,0,0,0,0,0,0,0,0,0,0,0,0,0,0,0,0,0,0,0,0,0,0,0,0,0,0,0,0,0,0,0,0,0,0,0,0,0,0,0,0,0,0,0,null,null,{"$f":"Раздел2!F70","v":0}]
[null,"Городошный спорт","56",0,0,0,0,0,0,0,0,0,0,0,0,0,0,0,0,0,0,0,0,0,0,0,0,0,0,0,0,0,0,0,0,0,0,0,0,0,0,0,0,0,0,0,0,0,0,0,0,0,0,0,0,0,0,0,0,0,0,0,0,0,0,0,0,0,0,0,0,0,0,0,0,0,0,0,0,0,0,0,0,0,0,0,0,0,0,0,0,0,0,0,0,0,0,0,0,null,null,{"$f":"Раздел2!F71","v":0}]
[null,"Гребля на байдарках и каноэ","57",0,0,0,0,0,0,0,0,0,0,0,0,0,0,0,0,0,0,0,0,0,0,0,0,0,0,0,0,0,0,0,0,0,0,0,0,0,0,0,0,0,0,0,0,0,0,0,0,0,0,0,0,0,0,0,0,0,0,0,0,0,0,0,0,0,0,0,0,0,0,0,0,0,0,0,0,0,0,0,0,0,0,0,0,0,0,0,0,0,0,0,0,0,0,0,0,null,null,{"$f":"Раздел2!F72","v":0}]
[null,"Гребля на шлюпках","58",0,0,0,0,0,0,0,0,0,0,0,0,0,0,0,0,0,0,0,0,0,0,0,0,0,0,0,0,0,0,0,0,0,0,0,0,0,0,0,0,0,0,0,0,0,0,0,0,0,0,0,0,0,0,0,0,0,0,0,0,0,0,0,0,0,0,0,0,0,0,0,0,0,0,0,0,0,0,0,0,0,0,0,0,0,0,0,0,0,0,0,0,0,0,0,0,null,null,{"$f":"Раздел2!F73","v":0}]
[null,"Гребной слалом","59",0,0,0,0,0,0,1,0,0,0,0,0,0,0,0,0,0,0,0,0,0,0,1,0,0,0,0,0,0,0,0,0,0,0,0,0,0,0,0,1,0,0,0,0,0,0,0,0,0,0,0,0,0,0,1,0,0,0,0,0,0,0,0,0,0,0,0,0,0,0,1,0,0,0,0,0,0,0,0,0,0,0,0,0,0,0,0,1,0,0,0,0,0,0,0,0,null,null,{"$f":"Раздел2!F74","v":0}]
[null,"Гребной спорт - всего","60",0,0,0,0,0,0,0,0,0,0,0,0,0,0,0,0,0,0,0,0,0,0,0,0,0,0,0,0,0,0,0,0,0,0,0,0,0,0,0,0,0,0,0,0,0,0,0,0,0,0,0,0,0,0,0,0,0,0,0,0,0,0,0,0,0,0,0,0,0,0,0,0,0,0,0,0,0,0,0,0,0,0,0,0,0,0,0,0,0,0,0,0,0,0,0,0,null,null,{"$f":"Раздел2!F75","v":0}]
[null,"в том числе:\nАкадемическая гребля","61",0,0,0,0,0,0,0,0,0,0,0,0,0,0,0,0,0,0,0,0,0,0,0,0,0,0,0,0,0,0,0,0,0,0,0,0,0,0,0,0,0,0,0,0,0,0,0,0,0,0,0,0,0,0,0,0,0,0,0,0,0,0,0,0,0,0,0,0,0,0,0,0,0,0,0,0,0,0,0,0,0,0,0,0,0,0,0,0,0,0,0,0,0,0,0,0,null,null,{"$f":"Раздел2!F76","v":674}]
[null,"Гребля-индор","62",0,0,0,0,0,0,0,0,0,0,0,0,0,0,0,0,0,0,0,0,0,0,0,0,0,0,0,0,0,0,0,0,0,0,0,0,0,0,0,0,0,0,0,0,0,0,0,0,0,0,0,0,0,0,0,0,0,0,0,0,0,0,0,0,0,0,0,0,0,0,0,0,0,0,0,0,0,0,0,0,0,0,0,0,0,0,0,0,0,0,0,0,0,0,0,0,null,null,{"$f":"Раздел2!F77","v":0}]
[null,"Народная гребля","63",0,0,0,0,0,0,0,0,0,0,0,0,0,0,0,0,0,0,0,0,0,0,0,0,0,0,0,0,0,0,0,0,0,0,0,0,0,0,0,0,0,0,0,0,0,0,0,0,0,0,0,0,0,0,0,0,0,0,0,0,0,0,0,0,0,0,0,0,0,0,0,0,0,0,0,0,0,0,0,0,0,0,0,0,0,0,0,0,0,0,0,0,0,0,0,0,null,null,{"$f":"Раздел2!F78","v":0}]
[null,"Прибрежная гребля","64",0,0,0,0,0,0,0,0,0,0,0,0,0,0,0,0,0,0,0,0,0,0,0,0,0,0,0,0,0,0,0,0,0,0,0,0,0,0,0,0,0,0,0,0,0,0,0,0,0,0,0,0,0,0,0,0,0,0,0,0,0,0,0,0,0,0,0,0,0,0,0,0,0,0,0,0,0,0,0,0,0,0,0,0,0,0,0,0,0,0,0,0,0,0,0,0,null,null,{"$f":"Раздел2!F79","v":0}]
[null,"Гребно-парусное двоеборье","65",0,0,0,0,0,0,0,0,0,0,0,0,0,0,0,0,0,0,0,0,0,0,0,0,0,0,0,0,0,0,0,0,0,0,0,0,0,0,0,0,0,0,0,0,0,0,0,0,0,0,0,0,0,0,0,0,0,0,0,0,0,0,0,0,0,0,0,0,0,0,0,0,0,0,0,0,0,0,0,0,0,0,0,0,0,0,0,0,0,0,0,0,0,0,0,0,null,null,{"$f":"Раздел2!F80","v":0}]
[null,"Дартс","66",0,0,0,0,0,0,0,0,0,0,0,0,0,0,0,0,0,0,0,0,0,0,0,0,0,0,0,0,0,0,0,0,0,0,0,0,0,0,0,0,0,0,0,0,0,0,0,0,0,0,0,0,0,0,0,0,0,0,0,0,0,0,0,0,0,0,0,0,0,0,0,0,0,0,0,0,0,0,0,0,0,0,0,0,0,0,0,0,0,0,0,0,0,0,0,0,null,null,{"$f":"Раздел2!F81","v":0}]
[null,"Джиу-джитсу","67",0,0,0,0,0,0,0,0,0,0,0,0,0,0,0,0,0,0,0,0,0,0,0,0,0,0,0,0,0,0,0,0,0,0,0,0,0,0,0,0,0,0,0,0,0,0,0,0,0,0,0,0,0,0,0,0,0,0,0,0,0,0,0,0,0,0,0,0,0,0,0,0,0,0,0,0,0,0,0,0,0,0,0,0,0,0,0,0,0,0,0,0,0,0,0,0,null,null,{"$f":"Раздел2!F82","v":0}]
[null,"Дзюдо","68",0,0,0,0,0,0,0,0,0,0,0,0,0,0,0,0,0,1,0,0,0,0,0,0,0,0,0,0,0,0,0,0,0,0,0,0,0,0,0,0,0,0,0,0,0,0,0,0,0,0,0,0,0,0,0,0,0,0,0,0,0,0,0,0,0,1,0,0,0,0,0,0,0,0,0,0,0,0,0,0,0,0,0,0,0,0,0,0,0,0,0,0,0,0,0,0,null,null,{"$f":"Раздел2!F83","v":0}]
[null,"Ездовой спорт","69",0,0,0,0,0,0,0,0,0,0,0,0,0,0,0,0,0,0,0,0,0,0,0,0,0,0,0,0,0,0,0,0,0,0,0,0,0,0,0,0,0,0,0,0,0,0,0,0,0,0,0,0,0,0,0,0,0,0,0,0,0,0,0,0,0,0,0,0,0,0,0,0,0,0,0,0,0,0,0,0,0,0,0,0,0,0,0,0,0,0,0,0,0,0,0,0,null,null,{"$f":"Раздел2!F84","v":0}]
[null,"Капоэйра","70",0,0,0,0,0,0,0,0,0,0,0,0,0,0,0,0,0,0,0,0,0,0,0,0,0,0,0,0,0,0,0,0,0,0,0,0,0,0,0,0,0,0,0,0,0,0,0,0,0,0,0,0,0,0,0,0,0,0,0,0,0,0,0,0,0,0,0,0,0,0,0,0,0,0,0,0,0,0,0,0,0,0,0,0,0,0,0,0,0,0,0,0,0,0,0,0,null,null,{"$f":"Раздел2!F85","v":39}]
[null,"Каратэ","71",0,0,0,0,0,0,0,0,0,0,0,0,0,0,0,0,0,0,0,0,0,0,0,0,0,0,0,0,0,0,0,0,0,0,0,0,0,0,0,0,0,0,0,0,0,0,0,0,0,0,0,0,0,0,0,0,0,0,0,0,0,0,0,0,0,0,0,0,0,0,0,0,0,0,0,0,0,0,0,0,0,0,0,0,0,0,0,0,0,0,0,0,0,0,0,0,null,null,{"$f":"Раздел2!F86","v":0}]
[null,"Кендо","72",0,0,0,0,0,0,0,0,0,0,0,0,0,0,0,0,0,0,0,0,0,0,0,0,0,0,0,0,0,0,0,0,0,0,0,0,0,0,0,0,0,0,0,0,0,0,0,0,0,0,0,0,0,0,0,0,0,0,0,0,0,0,0,0,0,0,0,0,0,0,0,0,0,0,0,0,0,0,0,0,0,0,0,0,0,0,0,0,0,0,0,0,0,0,0,0,null,null,{"$f":"Раздел2!F87","v":0}]
[null,"Керешу","73",0,0,0,0,0,0,0,0,0,0,0,0,0,0,0,0,0,0,0,0,0,0,0,0,0,0,0,0,0,0,0,0,0,0,0,0,0,0,0,0,0,0,0,0,0,0,0,0,0,0,0,0,0,0,0,0,0,0,0,0,0,0,0,0,0,0,0,0,0,0,0,0,0,0,0,0,0,0,0,0,0,0,0,0,0,0,0,0,0,0,0,0,0,0,0,0,null,null,{"$f":"Раздел2!F88","v":0}]
[null,"Кёрлинг - всего","74",0,0,0,0,0,0,0,0,0,0,0,0,0,0,0,0,0,0,0,0,0,0,0,0,0,0,0,0,0,0,0,0,0,0,0,0,0,0,0,0,0,0,0,0,0,0,0,0,0,0,0,0,0,0,0,0,0,0,0,0,0,0,0,0,0,0,0,0,0,0,0,0,0,0,0,0,0,0,0,0,0,0,0,0,0,0,0,0,0,0,0,0,0,0,0,0,null,null,{"$f":"Раздел2!F89","v":0}]
[null,"в том числе:\nКерлинг (муж.)","75",0,0,0,0,0,0,0,0,0,0,0,0,0,0,0,0,0,0,0,0,0,0,0,0,0,0,0,0,0,0,0,0,0,0,0,0,0,0,0,0,0,0,0,0,0,0,0,0,0,0,0,0,0,0,0,0,0,0,0,0,0,0,0,0,0,0,0,0,0,0,0,0,0,0,0,0,0,0,0,0,0,0,0,0,0,0,0,0,0,0,0,0,0,0,0,0,null,null,{"$f":"Раздел2!F90","v":105}]
[null,"Керлинг (жен.)","76",0,0,0,0,0,0,0,0,0,0,0,0,0,0,0,0,0,0,0,0,0,0,0,0,0,0,0,0,0,0,0,0,0,0,0,0,0,0,0,0,0,0,0,0,0,0,0,0,0,0,0,0,0,0,0,0,0,0,0,0,0,0,0,0,0,0,0,0,0,0,0,0,0,0,0,0,0,0,0,0,0,0,0,0,0,0,0,0,0,0,0,0,0,0,0,0,null,null,{"$f":"Раздел2!F91","v":0}]
[null,"Кикбоксинг","77",0,0,0,0,0,0,0,0,0,0,0,0,0,0,0,0,0,0,0,0,0,0,0,0,0,0,0,0,0,0,0,0,0,0,0,0,0,0,0,0,0,0,0,0,0,0,0,0,0,0,0,0,0,0,0,0,0,0,0,0,0,0,0,0,0,0,0,0,0,0,0,0,0,0,0,0,0,0,0,0,0,0,0,0,0,0,0,0,0,0,0,0,0,0,0,0,null,null,{"$f":"Раздел2!F92","v":0}]
[null,"Кинологический спорт","78",0,0,0,0,0,0,0,0,0,0,0,0,0,0,0,0,0,0,0,0,0,0,0,0,0,0,0,0,0,0,0,0,0,0,0,0,0,0,0,0,0,0,0,0,0,0,0,0,0,0,0,0,0,0,0,0,0,0,0,0,0,0,0,0,0,0,0,0,0,0,0,0,0,0,0,0,0,0,0,0,0,0,0,0,0,0,0,0,0,0,0,0,0,0,0,0,null,null,{"$f":"Раздел2!F93","v":0}]
[null,"Киокусинкай","79",0,0,0,0,0,0,0,0,0,0,0,0,0,0,0,0,0,0,0,0,0,0,0,0,0,0,0,0,0,0,0,0,0,0,0,0,0,0,0,0,0,0,0,0,0,0,0,0,0,0,0,0,0,0,0,0,0,0,0,0,0,0,0,0,0,0,0,0,0,0,0,0,0,0,0,0,0,0,0,0,0,0,0,0,0,0,0,0,0,0,0,0,0,0,0,0,null,null,{"$f":"Раздел2!F94","v":0}]
[null,"Комплексное единоборство","80",0,0,0,0,0,0,0,0,0,0,0,0,0,0,0,0,0,0,0,0,0,0,0,0,0,0,0,0,0,0,0,0,0,0,0,0,0,0,0,0,0,0,0,0,0,0,0,0,0,0,0,0,0,0,0,0,0,0,0,0,0,0,0,0,0,0,0,0,0,0,0,0,0,0,0,0,0,0,0,0,0,0,0,0,0,0,0,0,0,0,0,0,0,0,0,0,null,null,{"$f":"Раздел2!F95","v":0}]
[null,"Компьютерный спорт","81",0,0,0,0,0,0,0,0,0,0,0,0,0,0,0,0,0,0,0,0,0,0,0,0,0,0,0,0,0,0,0,0,0,0,0,0,0,0,0,0,0,0,0,0,0,0,0,0,0,0,0,0,0,0,0,0,0,0,0,0,0,0,0,0,0,0,0,0,0,0,0,0,0,0,0,0,0,0,0,0,0,0,0,0,0,0,0,0,0,0,0,0,0,0,0,0,null,null,{"$f":"Раздел2!F96","v":0}]
[null,"Конный спорт","82",0,0,0,0,0,0,0,0,0,0,0,0,0,0,0,0,0,0,0,0,0,0,0,0,0,0,0,0,0,0,0,0,0,0,0,0,0,0,0,0,0,0,0,0,0,0,0,0,0,0,0,0,0,0,0,0,0,0,0,0,0,0,0,0,0,0,0,0,0,0,0,0,0,0,0,0,0,0,0,0,0,0,0,0,0,0,0,0,0,0,0,0,0,0,0,0,null,null,{"$f":"Раздел2!F97","v":0}]
[null,"Конькобежный спорт - всего","83",0,0,0,0,0,0,0,0,0,0,0,0,0,0,0,0,0,0,0,0,0,0,0,0,0,0,0,0,0,0,0,0,0,0,0,0,0,0,0,0,0,0,0,0,0,0,0,0,0,0,0,0,0,0,0,0,0,0,0,0,0,0,0,0,0,0,0,0,0,0,0,0,0,0,0,0,0,0,0,0,0,0,0,0,0,0,0,0,0,0,0,0,0,0,0,0,null,null,{"$f":"Раздел2!F98","v":462}]
[null,"в том числе:\nКонькобежный спорт","84",0,0,0,0,0,0,0,0,0,0,0,0,0,0,0,0,0,0,0,0,0,0,0,0,0,0,0,0,0,0,0,0,0,0,0,0,0,0,0,0,0,0,0,0,0,0,0,0,0,0,0,0,0,0,0,0,0,0,0,0,0,0,0,0,0,0,0,0,0,0,0,0,0,0,0,0,0,0,0,0,0,0,0,0,0,0,0,0,0,0,0,0,0,0,0,0,null,null,{"$f":"Раздел2!F99","v":162}]
[null,"Шорт-трек","85",0,0,0,0,0,0,0,0,0,0,0,0,0,0,0,0,0,0,0,0,0,0,0,0,0,0,0,0,0,0,0,0,0,0,0,0,0,0,0,0,0,0,0,0,0,0,0,0,0,0,0,0,0,0,0,0,0,0,0,0,0,0,0,0,0,0,0,0,0,0,0,0,0,0,0,0,0,0,0,0,0,0,0,0,0,0,0,0,0,0,0,0,0,0,0,0,null,null,{"$f":"Раздел2!F100","v":112}]
[null,"Корэш","86",0,0,0,0,0,0,0,0,0,0,0,0,0,0,0,0,0,0,0,0,0,0,0,0,0,0,0,0,0,0,0,0,0,0,0,0,0,0,0,0,0,0,0,0,0,0,0,0,0,0,0,0,0,0,0,0,0,0,0,0,0,0,0,0,0,0,0,0,0,0,0,0,0,0,0,0,0,0,0,0,0,0,0,0,0,0,0,0,0,0,0,0,0,0,0,0,null,null,{"$f":"Раздел2!F101","v":53}]
[null,"Корфбол","87",0,0,0,0,0,0,0,0,0,0,0,0,0,0,0,0,0,0,0,0,0,0,0,0,0,0,0,0,0,0,0,0,0,0,0,0,0,0,0,0,0,0,0,0,0,0,0,0,0,0,0,0,0,0,0,0,0,0,0,0,0,0,0,0,0,0,0,0,0,0,0,0,0,0,0,0,0,0,0,0,0,0,0,0,0,0,0,0,0,0,0,0,0,0,0,0,null,null,{"$f":"Раздел2!F102","v":87}]
[null,"Кудо","88",0,0,0,0,0,0,0,0,0,0,0,0,0,0,0,0,0,0,0,0,0,0,0,0,0,0,0,0,0,0,0,0,0,0,0,0,0,0,0,0,0,0,0,0,0,0,0,0,0,0,0,0,0,0,0,0,0,0,0,0,0,0,0,0,0,0,0,0,0,0,0,0,0,0,0,0,0,0,0,0,0,0,0,0,0,0,0,0,0,0,0,0,0,0,0,0,null,null,{"$f":"Раздел2!F103","v":26}]
[null,"Лапта","89",0,0,0,0,0,0,0,0,0,0,0,0,0,0,0,0,0,0,0,0,0,0,0,0,0,0,0,0,0,0,0,0,0,0,0,0,0,0,0,0,0,0,0,0,0,0,0,0,0,0,0,0,0,0,0,0,0,0,0,0,0,0,0,0,0,0,0,0,0,0,0,0,0,0,0,0,0,0,0,0,0,0,0,0,0,0,0,0,0,0,0,0,0,0,0,0,null,null,{"$f":"Раздел2!F104","v":10}]
[null,"Легкая атлетика - всего","90",0,0,0,0,0,0,0,0,0,0,0,0,0,0,0,0,0,0,0,0,0,0,0,0,0,0,0,0,0,0,0,0,0,0,0,0,0,0,0,0,0,0,0,0,0,0,0,0,0,0,0,0,0,0,0,0,0,0,0,0,0,0,0,0,0,0,0,0,0,0,0,0,0,0,0,0,0,0,0,0,0,0,0,0,0,0,0,0,0,0,0,0,0,0,0,0,null,null,{"$f":"Раздел2!F105","v":12}]
[null,"в том числе:\nСпринтерский и барьерный бег","91",0,0,0,0,0,0,0,0,0,0,0,0,0,0,0,0,0,0,0,0,0,0,0,0,0,0,0,0,0,0,0,0,0,0,0,0,0,0,0,0,0,0,0,0,0,0,0,0,0,0,0,0,0,0,0,0,0,0,0,0,0,0,0,0,0,0,0,0,0,0,0,0,0,0,0,0,0,0,0,0,0,0,0,0,0,0,0,0,0,0,0,0,0,0,0,0,null,null,{"$f":"Раздел2!F106","v":0}]
[null,"Бег на средние дистанции и бег с препятствиями","92",0,0,0,0,0,0,0,0,0,0,0,0,0,0,0,0,0,0,0,0,0,0,0,0,0,0,0,0,0,0,0,0,0,0,0,0,0,0,0,0,0,0,0,0,0,0,0,0,0,0,0,0,0,0,0,0,0,0,0,0,0,0,0,0,0,0,0,0,0,0,0,0,0,0,0,0,0,0,0,0,0,0,0,0,0,0,0,0,0,0,0,0,0,0,0,0,null,null,{"$f":"Раздел2!F107","v":293}]
[null,"Бег на длинные и сверхдлинные дистанции","93",0,0,0,0,0,0,0,0,0,0,0,0,0,0,0,0,0,0,0,0,0,0,0,0,0,0,0,0,0,0,0,0,0,0,0,0,0,0,0,0,0,0,0,0,0,0,0,0,0,0,0,0,0,0,0,0,0,0,0,0,0,0,0,0,0,0,0,0,0,0,0,0,0,0,0,0,0,0,0,0,0,0,0,0,0,0,0,0,0,0,0,0,0,0,0,0,null,null,{"$f":"Раздел2!F108","v":0}]
[null,"Многоборья","94",0,0,0,0,0,0,0,0,0,0,0,0,0,0,0,0,0,0,0,0,0,0,0,0,0,0,0,0,0,0,0,0,0,0,0,0,0,0,0,0,0,0,0,0,0,0,0,0,0,0,0,0,0,0,0,0,0,0,0,0,0,0,0,0,0,0,0,0,0,0,0,0,0,0,0,0,0,0,0,0,0,0,0,0,0,0,0,0,0,0,0,0,0,0,0,0,null,null,{"$f":"Раздел2!F109","v":0}]
[null,"Прыжки","95",0,0,0,0,0,0,0,0,0,0,0,0,0,0,0,0,0,0,0,0,0,0,0,0,0,0,0,0,0,0,0,0,0,0,0,0,0,0,0,0,0,0,0,0,0,0,0,0,0,0,0,0,0,0,0,0,0,0,0,0,0,0,0,0,0,0,0,0,0,0,0,0,0,0,0,0,0,0,0,0,0,0,0,0,0,0,0,0,0,0,0,0,0,0,0,0,null,null,{"$f":"Раздел2!F110","v":0}]
[null,"Метания","96",0,0,0,0,0,0,0,0,0,0,0,0,0,0,0,0,0,0,0,0,0,0,0,0,0,0,0,0,0,0,0,0,0,0,0,0,0,0,0,0,0,0,0,0,0,0,0,0,0,0,0,0,0,0,0,0,0,0,0,0,0,0,0,0,0,0,0,0,0,0,0,0,0,0,0,0,0,0,0,0,0,0,0,0,0,0,0,0,0,0,0,0,0,0,0,0,null,null,{"$f":"Раздел2!F111","v":0}]
[null,"Спортивная ходьба","97",0,0,0,0,0,0,0,0,0,0,0,0,0,0,0,0,0,0,0,0,0,0,0,0,0,0,0,0,0,0,0,0,0,0,0,0,0,0,0,0,0,0,0,0,0,0,0,0,0,0,0,0,0,0,0,0,0,0,0,0,0,0,0,0,0,0,0,0,0,0,0,0,0,0,0,0,0,0,0,0,0,0,0,0,0,0,0,0,0,0,0,0,0,0,0,0,null,null,{"$f":"Раздел2!F112","v":0}]
[null,"Лыжное двоеборье","98",0,0,0,0,0,0,0,0,0,0,0,0,0,0,0,0,0,0,0,0,0,0,0,0,0,0,0,0,0,0,0,0,0,0,0,0,0,0,0,0,0,0,0,0,0,0,0,0,0,0,0,0,0,0,0,0,0,0,0,0,0,0,0,0,0,0,0,0,0,0,0,0,0,0,0,0,0,0,0,0,0,0,0,0,0,0,0,0,0,0,0,0,0,0,0,0,null,null,{"$f":"Раздел2!F113","v":0}]
[null,"Лыжные гонки","99",0,0,0,0,0,0,0,0,0,0,0,0,0,0,0,0,0,0,0,0,0,0,0,0,0,0,0,0,0,0,0,0,0,0,0,0,0,0,0,0,0,0,0,0,0,0,0,0,0,0,0,0,0,0,0,0,0,0,0,0,0,0,0,0,0,0,0,0,0,0,0,0,0,0,0,0,0,0,0,0,0,0,0,0,0,0,0,0,0,0,0,0,0,0,0,0,null,null,{"$f":"Раздел2!F114","v":155}]
[null,"Мас-рестлинг","100",0,0,0,0,0,0,0,0,0,0,0,0,0,0,0,0,0,0,0,0,0,0,0,0,0,0,0,0,0,0,0,0,0,0,0,0,0,0,0,0,0,0,0,0,0,0,0,0,0,0,0,0,0,0,0,0,0,0,0,0,0,0,0,0,0,0,0,0,0,0,0,0,0,0,0,0,0,0,0,0,0,0,0,0,0,0,0,0,0,0,0,0,0,0,0,0,null,null,{"$f":"Раздел2!F115","v":0}]
[null,"Международное военно-спортивное многоборье","101",0,0,0,0,0,0,0,0,0,0,0,0,0,0,0,0,0,0,0,0,0,0,0,0,0,0,0,0,0,0,0,0,0,0,0,0,0,0,0,0,0,0,0,0,0,0,0,0,0,0,0,0,0,0,0,0,0,0,0,0,0,0,0,0,0,0,0,0,0,0,0,0,0,0,0,0,0,0,0,0,0,0,0,0,0,0,0,0,0,0,0,0,0,0,0,0,null,null,{"$f":"Раздел2!F116","v":0}]
[null,"Многоборье кинологов","102",0,0,0,0,0,0,0,0,0,0,0,0,0,0,0,0,0,0,0,0,0,0,0,0,0,0,0,0,0,0,0,0,0,0,0,0,0,0,0,0,0,0,0,0,0,0,0,0,0,0,0,0,0,0,0,0,0,0,0,0,0,0,0,0,0,0,0,0,0,0,0,0,0,0,0,0,0,0,0,0,0,0,0,0,0,0,0,0,0,0,0,0,0,0,0,0,null,null,{"$f":"Раздел2!F117","v":8}]
[null,"Многоборье спасателей МЧС России","103",0,0,0,0,0,0,0,0,0,0,0,0,0,0,0,0,0,0,0,0,0,0,0,0,0,0,0,0,0,0,0,0,0,0,0,0,0,0,0,0,0,0,0,0,0,0,0,0,0,0,0,0,0,0,0,0,0,0,0,0,0,0,0,0,0,0,0,0,0,0,0,0,0,0,0,0,0,0,0,0,0,0,0,0,0,0,0,0,0,0,0,0,0,0,0,0,null,null,{"$f":"Раздел2!F118","v":0}]
[null,"Морское многоборье","104",0,0,0,0,0,0,0,0,0,0,0,0,0,0,0,0,0,0,0,0,0,0,0,0,0,0,0,0,0,0,0,0,0,0,0,0,0,0,0,0,0,0,0,0,0,0,0,0,0,0,0,0,0,0,0,0,0,0,0,0,0,0,0,0,0,0,0,0,0,0,0,0,0,0,0,0,0,0,0,0,0,0,0,0,0,0,0,0,0,0,0,0,0,0,0,0,null,null,{"$f":"Раздел2!F119","v":0}]
[null,"Мотоциклетный спорт","105",0,0,0,0,0,0,0,0,0,0,0,0,0,0,0,0,0,0,0,0,0,0,0,0,0,0,0,0,0,0,0,0,0,0,0,0,0,0,0,0,0,0,0,0,0,0,0,0,0,0,0,0,0,0,0,0,0,0,0,0,0,0,0,0,0,0,0,0,0,0,0,0,0,0,0,0,0,0,0,0,0,0,0,0,0,0,0,0,0,0,0,0,0,0,0,0,null,null,{"$f":"Раздел2!F120","v":139}]
[null,"Настольный теннис","106",0,0,0,0,0,0,0,0,0,0,0,0,0,0,0,0,0,0,0,0,0,0,0,0,0,0,0,0,0,0,0,0,0,0,0,0,0,0,0,0,0,0,0,0,0,0,0,0,0,0,0,0,0,0,0,0,0,0,0,0,0,0,0,0,0,0,0,0,0,0,0,0,0,0,0,0,0,0,0,0,0,0,0,0,0,0,0,0,0,0,0,0,0,0,0,0,null,null,{"$f":"Раздел2!F121","v":139}]
[null,"Парашютный спорт","107",0,0,0,0,0,0,0,0,0,0,0,0,0,0,0,0,0,0,0,0,0,0,0,0,0,0,0,0,0,0,0,0,0,0,0,0,0,0,0,0,0,0,0,0,0,0,0,0,0,0,0,0,0,0,0,0,0,0,0,0,0,0,0,0,0,0,0,0,0,0,0,0,0,0,0,0,0,0,0,0,0,0,0,0,0,0,0,0,0,0,0,0,0,0,0,0,null,null,{"$f":"Раздел2!F122","v":0}]
[null,"Парусный спорт","108",0,0,0,0,0,0,0,0,0,0,0,0,0,0,0,0,0,0,0,0,0,0,0,0,0,0,0,0,0,0,0,0,0,0,0,0,0,0,0,0,0,0,0,0,0,0,0,0,0,0,0,0,0,0,0,0,0,0,0,0,0,0,0,0,0,0,0,0,0,0,0,0,0,0,0,0,0,0,0,0,0,0,0,0,0,0,0,0,0,0,0,0,0,0,0,0,null,null,{"$f":"Раздел2!F123","v":0}]
[null,"Пауэрлифтинг","109",0,0,0,0,0,0,0,0,0,0,0,0,0,0,0,0,0,0,0,0,0,0,0,0,0,0,0,0,0,0,0,0,0,0,0,0,0,0,0,0,0,0,0,0,0,0,0,0,0,0,0,0,0,0,0,0,0,0,0,0,0,0,0,0,0,0,0,0,0,0,0,0,0,0,0,0,0,0,0,0,0,0,0,0,0,0,0,0,0,0,0,0,0,0,0,0,null,null,{"$f":"Раздел2!F124","v":0}]
[null,"Перетягивание каната","110",0,0,0,0,0,0,0,0,0,0,0,0,0,0,0,0,0,0,0,0,0,0,0,0,0,0,0,0,0,0,0,0,0,0,0,0,0,0,0,0,0,0,0,0,0,0,0,0,0,0,0,0,0,0,0,0,0,0,0,0,0,0,0,0,0,0,0,0,0,0,0,0,0,0,0,0,0,0,0,0,0,0,0,0,0,0,0,0,0,0,0,0,0,0,0,0,null,null,{"$f":"Раздел2!F125","v":0}]
[null,"Петанк","111",0,0,0,0,0,0,0,0,0,0,0,0,0,0,0,0,0,0,0,0,0,0,0,0,0,0,0,0,0,0,0,0,0,0,0,0,0,0,0,0,0,0,0,0,0,0,0,0,0,0,0,0,0,0,0,0,0,0,0,0,0,0,0,0,0,0,0,0,0,0,0,0,0,0,0,0,0,0,0,0,0,0,0,0,0,0,0,0,0,0,0,0,0,0,0,0,null,null,{"$f":"Раздел2!F126","v":0}]
[null,"Плавание - всего","112",0,0,0,0,0,0,0,0,0,0,0,0,0,0,0,0,0,0,0,0,0,0,0,0,0,0,0,0,0,0,0,0,0,0,0,0,0,0,0,0,0,0,0,0,0,0,0,0,0,0,0,0,0,0,0,0,0,0,0,0,0,0,0,0,0,0,0,0,0,0,0,0,0,0,0,0,0,0,0,0,0,0,0,0,0,0,0,0,0,0,0,0,0,0,0,0,null,null,{"$f":"Раздел2!F127","v":0}]
[null,"в том числе:\nПлавание ","113",0,0,0,0,0,0,0,0,0,0,0,0,0,0,0,0,0,0,0,0,0,0,0,0,0,0,0,0,0,0,0,0,0,0,0,0,0,0,0,0,0,0,0,0,0,0,0,0,0,0,0,0,0,0,0,0,0,0,0,0,0,0,0,0,0,0,0,0,0,0,0,0,0,0,0,0,0,0,0,0,0,0,0,0,0,0,0,0,0,0,0,0,0,0,0,0,null,null,{"$f":"Раздел2!F128","v":0}]
[null,"Открытая вода","114",0,0,0,0,0,0,0,0,0,0,0,0,0,0,0,0,0,0,0,0,0,0,0,0,0,0,0,0,0,0,0,0,0,0,0,0,0,0,0,0,0,0,0,0,0,0,0,0,0,0,0,0,0,0,0,0,0,0,0,0,0,0,0,0,0,0,0,0,0,0,0,0,0,0,0,0,0,0,0,0,0,0,0,0,0,0,0,0,0,0,0,0,0,0,0,0,null,null,{"$f":"Раздел2!F129","v":0}]
[null,"Планерный спорт","115",0,0,0,0,0,0,0,0,0,0,0,0,0,0,0,0,0,0,0,0,0,0,0,0,0,0,0,0,0,0,0,0,0,0,0,0,0,0,0,0,0,0,0,0,0,0,0,0,0,0,0,0,0,0,0,0,0,0,0,0,0,0,0,0,0,0,0,0,0,0,0,0,0,0,0,0,0,0,0,0,0,0,0,0,0,0,0,0,0,0,0,0,0,0,0,0,null,null,{"$f":"Раздел2!F130","v":0}]
[null,"Подводный спорт","116",0,0,0,0,0,0,0,0,0,0,0,0,0,0,0,0,0,0,0,0,0,0,0,0,0,0,0,0,0,0,0,0,0,0,0,0,0,0,0,0,0,0,0,0,0,0,0,0,0,0,0,0,0,0,0,0,0,0,0,0,0,0,0,0,0,0,0,0,0,0,0,0,0,0,0,0,0,0,0,0,0,0,0,0,0,0,0,0,0,0,0,0,0,0,0,0,null,null,{"$f":"Раздел2!F131","v":100}]
[null,"Пожарно-спасательный спорт","117",0,0,0,0,0,0,0,0,0,0,0,0,0,0,0,0,0,0,0,0,0,0,0,0,0,0,0,0,0,0,0,0,0,0,0,0,0,0,0,0,0,0,0,0,0,0,0,0,0,0,0,0,0,0,0,0,0,0,0,0,0,0,0,0,0,0,0,0,0,0,0,0,0,0,0,0,0,0,0,0,0,0,0,0,0,0,0,0,0,0,0,0,0,0,0,0,null,null,{"$f":"Раздел2!F132","v":20}]
[null,"Полиатлон","118",0,0,0,0,0,0,0,0,0,0,0,0,0,0,0,0,0,0,0,0,0,0,0,0,0,0,0,0,0,0,0,0,0,0,0,0,0,0,0,0,0,0,0,0,0,0,0,0,0,0,0,0,0,0,0,0,0,0,0,0,0,0,0,0,0,0,0,0,0,0,0,0,0,0,0,0,0,0,0,0,0,0,0,0,0,0,0,0,0,0,0,0,0,0,0,0,null,null,{"$f":"Раздел2!F133","v":20}]
[null,"Практическая стрельба","119",0,0,0,0,0,0,0,0,0,0,0,0,0,0,0,0,0,0,0,0,0,0,0,0,0,0,0,0,0,0,0,0,0,0,0,0,0,0,0,0,0,0,0,0,0,0,0,0,0,0,0,0,0,0,0,0,0,0,0,0,0,0,0,0,0,0,0,0,0,0,0,0,0,0,0,0,0,0,0,0,0,0,0,0,0,0,0,0,0,0,0,0,0,0,0,0,null,null,{"$f":"Раздел2!F134","v":60}]
[null,"Прыжки в воду - всего","120",0,0,0,0,0,0,0,0,0,0,0,0,0,0,0,0,0,0,0,0,0,0,0,0,0,0,0,0,0,0,0,0,0,0,0,0,0,0,0,0,0,0,0,0,0,0,0,0,0,0,0,0,0,0,0,0,0,0,0,0,0,0,0,0,0,0,0,0,0,0,0,0,0,0,0,0,0,0,0,0,0,0,0,0,0,0,0,0,0,0,0,0,0,0,0,0,null,null,{"$f":"Раздел2!F135","v":0}]
[null,"в том числе:\nПрыжки в воду","121",0,0,0,0,0,0,0,0,0,0,0,0,0,0,0,0,0,0,0,0,0,0,0,0,0,0,0,0,0,0,0,0,0,0,0,0,0,0,0,0,0,0,0,0,0,0,0,0,0,0,0,0,0,0,0,0,0,0,0,0,0,0,0,0,0,0,0,0,0,0,0,0,0,0,0,0,0,0,0,0,0,0,0,0,0,0,0,0,0,0,0,0,0,0,0,0,null,null,{"$f":"Раздел2!F136","v":0}]
[null,"Прыжки в открытый водоем","122",0,0,0,0,0,0,0,0,0,0,0,0,0,0,0,0,0,0,0,0,0,0,0,0,0,0,0,0,0,0,0,0,0,0,0,0,0,0,0,0,0,0,0,0,0,0,0,0,0,0,0,0,0,0,0,0,0,0,0,0,0,0,0,0,0,0,0,0,0,0,0,0,0,0,0,0,0,0,0,0,0,0,0,0,0,0,0,0,0,0,0,0,0,0,0,0,null,null,{"$f":"Раздел2!F137","v":0}]
[null,"Прыжки на батуте - всего","123",0,0,0,0,0,0,0,0,0,0,0,0,0,0,0,0,0,0,0,0,0,0,0,0,0,0,0,0,0,0,0,0,0,0,0,0,0,0,0,0,0,0,0,0,0,0,0,0,0,0,0,0,0,0,0,0,0,0,0,0,0,0,0,0,0,0,0,0,0,0,0,0,0,0,0,0,0,0,0,0,0,0,0,0,0,0,0,0,0,0,0,0,0,0,0,0,null,null,{"$f":"Раздел2!F138","v":0}]
[null,"в том числе:\nАкробатическая дорожка","124",0,0,0,0,0,0,0,0,0,0,0,0,0,0,0,0,0,0,0,0,0,0,0,0,0,0,0,0,0,0,0,0,0,0,0,0,0,0,0,0,0,0,0,0,0,0,0,0,0,0,0,0,0,0,0,0,0,0,0,0,0,0,0,0,0,0,0,0,0,0,0,0,0,0,0,0,0,0,0,0,0,0,0,0,0,0,0,0,0,0,0,0,0,0,0,0,null,null,{"$f":"Раздел2!F139","v":0}]
[null,"Двойной минитрамп","125",0,0,0,0,0,0,0,0,0,0,0,0,0,0,0,0,0,0,0,0,0,0,0,0,0,0,0,0,0,0,0,0,0,0,0,0,0,0,0,0,0,0,0,0,0,0,0,0,0,0,0,0,0,0,0,0,0,0,0,0,0,0,0,0,0,0,0,0,0,0,0,0,0,0,0,0,0,0,0,0,0,0,0,0,0,0,0,0,0,0,0,0,0,0,0,0,null,null,{"$f":"Раздел2!F140","v":0}]
[null,"Индивидуальные прыжки","126",0,0,0,0,0,0,0,0,0,0,0,0,0,0,0,0,0,0,0,0,0,0,0,0,0,0,0,0,0,0,0,0,0,0,0,0,0,0,0,0,0,0,0,0,0,0,0,0,0,0,0,0,0,0,0,0,0,0,0,0,0,0,0,0,0,0,0,0,0,0,0,0,0,0,0,0,0,0,0,0,0,0,0,0,0,0,0,0,0,0,0,0,0,0,0,0,null,null,{"$f":"Раздел2!F141","v":0}]
[null,"Синхронные прыжки","127",0,0,0,0,0,0,0,0,0,0,0,0,0,0,0,0,0,0,0,0,0,0,0,0,0,0,0,0,0,0,0,0,0,0,0,0,0,0,0,0,0,0,0,0,0,0,0,0,0,0,0,0,0,0,0,0,0,0,0,0,0,0,0,0,0,0,0,0,0,0,0,0,0,0,0,0,0,0,0,0,0,0,0,0,0,0,0,0,0,0,0,0,0,0,0,0,null,null,{"$f":"Раздел2!F142","v":0}]
[null,"Прыжки на лыжах с трамплина","128",0,0,0,0,0,0,0,0,0,0,0,0,0,0,0,0,0,0,0,0,0,0,0,0,0,0,0,0,0,0,0,0,0,0,0,0,0,0,0,0,0,0,0,0,0,0,0,0,0,0,0,0,0,0,0,0,0,0,0,0,0,0,0,0,0,0,0,0,0,0,0,0,0,0,0,0,0,0,0,0,0,0,0,0,0,0,0,0,0,0,0,0,0,0,0,0,null,null,{"$f":"Раздел2!F143","v":0}]
[null,"Пулевая стрельба - всего","129",0,0,0,0,0,0,0,0,0,0,0,0,0,0,0,0,0,0,0,0,0,0,0,0,0,0,0,0,0,0,0,0,0,0,0,0,0,0,0,0,0,0,0,0,0,0,0,0,0,0,0,0,0,0,0,0,0,0,0,0,0,0,0,0,0,0,0,0,0,0,0,0,0,0,0,0,0,0,0,0,0,0,0,0,0,0,0,0,0,0,0,0,0,0,0,0,null,null,{"$f":"Раздел2!F144","v":0}]
[null,"в том числе:\nПневматическая винтовка","130",0,0,0,0,0,0,0,0,0,0,0,0,0,0,0,0,0,0,0,0,0,0,0,0,0,0,0,0,0,0,0,0,0,0,0,0,0,0,0,0,0,0,0,0,0,0,0,0,0,0,0,0,0,0,0,0,0,0,0,0,0,0,0,0,0,0,0,0,0,0,0,0,0,0,0,0,0,0,0,0,0,0,0,0,0,0,0,0,0,0,0,0,0,0,0,0,null,null,{"$f":"Раздел2!F145","v":0}]
[null,"Пневматический пистолет","131",0,0,0,0,0,0,0,0,0,0,0,0,0,0,0,0,0,0,0,0,0,0,0,0,0,0,0,0,0,0,0,0,0,0,0,0,0,0,0,0,0,0,0,0,0,0,0,0,0,0,0,0,0,0,0,0,0,0,0,0,0,0,0,0,0,0,0,0,0,0,0,0,0,0,0,0,0,0,0,0,0,0,0,0,0,0,0,0,0,0,0,0,0,0,0,0,null,null,{"$f":"Раздел2!F146","v":0}]
[null,"Малокалиберная винтовка","132",0,0,0,0,0,0,0,0,0,0,0,0,0,0,0,0,0,0,0,0,0,0,0,0,0,0,0,0,0,0,0,0,0,0,0,0,0,0,0,0,0,0,0,0,0,0,0,0,0,0,0,0,0,0,0,0,0,0,0,0,0,0,0,0,0,0,0,0,0,0,0,0,0,0,0,0,0,0,0,0,0,0,0,0,0,0,0,0,0,0,0,0,0,0,0,0,null,null,{"$f":"Раздел2!F147","v":0}]
[null,"Малокалиберный пистолет","133",0,0,0,0,0,0,0,0,0,0,0,0,0,0,0,0,0,0,0,0,0,0,0,0,0,0,0,0,0,0,0,0,0,0,0,0,0,0,0,0,0,0,0,0,0,0,0,0,0,0,0,0,0,0,0,0,0,0,0,0,0,0,0,0,0,0,0,0,0,0,0,0,0,0,0,0,0,0,0,0,0,0,0,0,0,0,0,0,0,0,0,0,0,0,0,0,null,null,{"$f":"Раздел2!F148","v":0}]
[null,"Движущаяся мишень","134",0,0,0,0,0,0,0,0,0,0,0,0,0,0,0,0,0,0,0,0,0,0,0,0,0,0,0,0,0,0,0,0,0,0,0,0,0,0,0,0,0,0,0,0,0,0,0,0,0,0,0,0,0,0,0,0,0,0,0,0,0,0,0,0,0,0,0,0,0,0,0,0,0,0,0,0,0,0,0,0,0,0,0,0,0,0,0,0,0,0,0,0,0,0,0,0,null,null,{"$f":"Раздел2!F149","v":0}]
[null,"Пэйнтбол","135",0,0,0,0,0,0,0,0,0,0,0,0,0,0,0,0,0,0,0,0,0,0,0,0,0,0,0,0,0,0,0,0,0,0,0,0,0,0,0,0,0,0,0,0,0,0,0,0,0,0,0,0,0,0,0,0,0,0,0,0,0,0,0,0,0,0,0,0,0,0,0,0,0,0,0,0,0,0,0,0,0,0,0,0,0,0,0,0,0,0,0,0,0,0,0,0,null,null,{"$f":"Раздел2!F150","v":0}]
[null,"Радиоспорт","136",0,0,0,0,0,0,0,0,0,0,0,0,0,0,0,0,0,0,0,0,0,0,0,0,0,0,0,0,0,0,0,0,0,0,0,0,0,0,0,0,0,0,0,0,0,0,0,0,0,0,0,0,0,0,0,0,0,0,0,0,0,0,0,0,0,0,0,0,0,0,0,0,0,0,0,0,0,0,0,0,0,0,0,0,0,0,0,0,0,0,0,0,0,0,0,0,null,null,{"$f":"Раздел2!F151","v":0}]
[null,"Рафтинг","137",0,0,0,0,0,0,0,0,0,0,0,0,0,0,0,0,0,0,0,0,0,0,0,0,0,0,0,0,0,0,0,0,0,0,0,0,0,0,0,0,0,0,0,0,0,0,0,0,0,0,0,0,0,0,0,0,0,0,0,0,0,0,0,0,0,0,0,0,0,0,0,0,0,0,0,0,0,0,0,0,0,0,0,0,0,0,0,0,0,0,0,0,0,0,0,0,null,null,{"$f":"Раздел2!F152","v":0}]
[null,"Регби - всего","138",0,0,0,0,0,0,0,0,0,0,0,0,0,0,0,0,0,0,0,0,0,0,0,0,0,0,0,0,0,0,0,0,0,0,0,0,0,0,0,0,0,0,0,0,0,0,0,0,0,0,0,0,0,0,0,0,0,0,0,0,0,0,0,0,0,0,0,0,0,0,0,0,0,0,0,0,0,0,0,0,0,0,0,0,0,0,0,0,0,0,0,0,0,0,0,0,null,null,{"$f":"Раздел2!F153","v":0}]
[null,"в том числе:\nРегби","139",0,0,0,0,0,0,0,0,0,0,0,0,0,0,0,0,0,0,0,0,0,0,0,0,0,0,0,0,0,0,0,0,0,0,0,0,0,0,0,0,0,0,0,0,0,0,0,0,0,0,0,0,0,0,0,0,0,0,0,0,0,0,0,0,0,0,0,0,0,0,0,0,0,0,0,0,0,0,0,0,0,0,0,0,0,0,0,0,0,0,0,0,0,0,0,0,null,null,{"$f":"Раздел2!F154","v":0}]
[null,"Регби 7 (муж.)","140",0,0,0,0,0,0,0,0,0,0,0,0,0,0,0,0,0,0,0,0,0,0,0,0,0,0,0,0,0,0,0,0,0,0,0,0,0,0,0,0,0,0,0,0,0,0,0,0,0,0,0,0,0,0,0,0,0,0,0,0,0,0,0,0,0,0,0,0,0,0,0,0,0,0,0,0,0,0,0,0,0,0,0,0,0,0,0,0,0,0,0,0,0,0,0,0,null,null,{"$f":"Раздел2!F155","v":0}]
[null,"Регби 7 (жен.)","141",0,0,0,0,0,0,0,0,0,0,0,0,0,0,0,0,0,0,0,0,0,0,0,0,0,0,0,0,0,0,0,0,0,0,0,0,0,0,0,0,0,0,0,0,0,0,0,0,0,0,0,0,0,0,0,0,0,0,0,0,0,0,0,0,0,0,0,0,0,0,0,0,0,0,0,0,0,0,0,0,0,0,0,0,0,0,0,0,0,0,0,0,0,0,0,0,null,null,{"$f":"Раздел2!F156","v":1359}]
[null,"Регби - пляжное","142",0,0,0,0,0,0,0,0,0,0,0,0,0,0,0,0,0,0,0,0,0,0,0,0,0,0,0,0,0,0,0,0,0,0,0,0,0,0,0,0,0,0,0,0,0,0,0,0,0,0,0,0,0,0,0,0,0,0,0,0,0,0,0,0,0,0,0,0,0,0,0,0,0,0,0,0,0,0,0,0,0,0,0,0,0,0,0,0,0,0,0,0,0,0,0,0,null,null,{"$f":"Раздел2!F157","v":0}]
[null,"Регбол","143",0,0,0,0,0,0,0,0,0,0,0,0,0,0,0,0,0,0,0,0,0,0,0,0,0,0,0,0,0,0,0,0,0,0,0,0,0,0,0,0,0,0,0,0,0,0,0,0,0,0,0,0,0,0,0,0,0,0,0,0,0,0,0,0,0,0,0,0,0,0,0,0,0,0,0,0,0,0,0,0,0,0,0,0,0,0,0,0,0,0,0,0,0,0,0,0,null,null,{"$f":"Раздел2!F158","v":0}]
[null,"Роллер спорт","144",0,0,0,0,0,0,0,0,0,0,0,0,0,0,0,0,0,0,0,0,0,0,0,0,0,0,0,0,0,0,0,0,0,0,0,0,0,0,0,0,0,0,0,0,0,0,0,0,0,0,0,0,0,0,0,0,0,0,0,0,0,0,0,0,0,0,0,0,0,0,0,0,0,0,0,0,0,0,0,0,0,0,0,0,0,0,0,0,0,0,0,0,0,0,0,0,null,null,{"$f":"Раздел2!F159","v":0}]
[null,"Рукопашный бой","145",0,0,0,0,0,0,0,0,0,0,0,0,0,0,0,0,0,0,0,0,0,0,0,0,0,0,0,0,0,0,0,0,0,0,0,0,0,0,0,0,0,0,0,0,0,0,0,0,0,0,0,0,0,0,0,0,0,0,0,0,0,0,0,0,0,0,0,0,0,0,0,0,0,0,0,0,0,0,0,0,0,0,0,0,0,0,0,0,0,0,0,0,0,0,0,0,null,null,{"$f":"Раздел2!F160","v":0}]
[null,"Рыболовный спорт","146",0,0,0,0,0,0,0,0,0,0,0,0,0,0,0,0,0,0,0,0,0,0,0,0,0,0,0,0,0,0,0,0,0,0,0,0,0,0,0,0,0,0,0,0,0,0,0,0,0,0,0,0,0,0,0,0,0,0,0,0,0,0,0,0,0,0,0,0,0,0,0,0,0,0,0,0,0,0,0,0,0,0,0,0,0,0,0,0,0,0,0,0,0,0,0,0,null,null,{"$f":"Раздел2!F161","v":0}]
[null,"Сават","147",0,0,0,0,0,0,0,0,0,0,0,0,0,0,0,0,0,0,0,0,0,0,0,0,0,0,0,0,0,0,0,0,0,0,0,0,0,0,0,0,0,0,0,0,0,0,0,0,0,0,0,0,0,0,0,0,0,0,0,0,0,0,0,0,0,0,0,0,0,0,0,0,0,0,0,0,0,0,0,0,0,0,0,0,0,0,0,0,0,0,0,0,0,0,0,0,null,null,{"$f":"Раздел2!F162","v":0}]
[null,"Самбо","148",0,1,0,0,0,0,0,0,0,0,0,0,0,0,0,0,0,1,0,0,0,0,0,0,0,0,0,0,0,0,0,0,0,0,0,0,0,0,0,0,0,0,0,0,0,0,0,0,0,1,0,0,0,0,0,0,0,0,0,0,0,0,0,0,0,0,0,0,0,0,0,0,0,0,0,0,0,0,0,0,0,0,0,0,0,0,0,0,0,0,0,0,0,0,0,0,null,null,{"$f":"Раздел2!F163","v":0}]
[null,"Самолетный спорт","149",0,0,0,0,0,0,0,0,0,0,0,0,0,0,0,0,0,0,0,0,0,0,0,0,0,0,0,0,0,0,0,0,0,0,0,0,0,0,0,0,0,0,0,0,0,0,0,0,0,0,0,0,0,0,0,0,0,0,0,0,0,0,0,0,0,0,0,0,0,0,0,0,0,0,0,0,0,0,0,0,0,0,0,0,0,0,0,0,0,0,0,0,0,0,0,0,null,null,{"$f":"Раздел2!F164","v":0}]
[null,"Санный спорт","150",0,0,0,0,0,0,0,0,0,0,0,0,0,0,0,0,0,0,0,0,0,0,0,0,0,0,0,0,0,0,0,0,0,0,0,0,0,0,0,0,0,0,0,0,0,0,0,0,0,0,0,0,0,0,0,0,0,0,0,0,0,0,0,0,0,0,0,0,0,0,0,0,0,0,0,0,0,0,0,0,0,0,0,0,0,0,0,0,0,0,0,0,0,0,0,0,null,null,{"$f":"Раздел2!F165","v":0}]
[null,"Северное многоборье","151",0,0,0,0,0,0,0,0,0,0,0,0,0,0,0,0,0,0,0,0,0,0,0,0,0,0,0,0,0,0,0,0,0,0,0,0,0,0,0,0,0,0,0,0,0,0,0,0,0,0,0,0,0,0,0,0,0,0,0,0,0,0,0,0,0,0,0,0,0,0,0,0,0,0,0,0,0,0,0,0,0,0,0,0,0,0,0,0,0,0,0,0,0,0,0,0,null,null,{"$f":"Раздел2!F166","v":0}]
[null,"Серфинг","152",0,0,0,0,0,0,0,0,0,0,0,0,0,0,0,0,0,0,0,0,0,0,0,0,0,0,0,0,0,0,0,0,0,0,0,0,0,0,0,0,0,0,0,0,0,0,0,0,0,0,0,0,0,0,0,0,0,0,0,0,0,0,0,0,0,0,0,0,0,0,0,0,0,0,0,0,0,0,0,0,0,0,0,0,0,0,0,0,0,0,0,0,0,0,0,0,null,null,{"$f":"Раздел2!F167","v":0}]
[null,"Синхронное плавание","153",0,0,0,0,0,0,0,0,0,0,0,0,0,0,0,0,0,0,0,0,0,0,0,0,0,0,0,0,0,0,0,0,0,0,0,0,0,0,0,0,0,0,0,0,0,0,0,0,0,0,0,0,0,0,0,0,0,0,0,0,0,0,0,0,0,0,0,0,0,0,0,0,0,0,0,0,0,0,0,0,0,0,0,0,0,0,0,0,0,0,0,0,0,0,0,0,null,null,{"$f":"Раздел2!F168","v":0}]
[null,"Скалолазание","154",0,0,0,0,0,0,0,0,0,0,0,0,0,0,0,0,0,0,0,0,0,0,0,0,0,0,0,0,0,0,0,0,0,0,0,0,0,0,0,0,0,0,0,0,0,0,0,0,0,0,0,0,0,0,0,0,0,0,0,0,0,0,0,0,0,0,0,0,0,0,0,0,0,0,0,0,0,0,0,0,0,0,0,0,0,0,0,0,0,0,0,0,0,0,0,0,null,null,{"$f":"Раздел2!F169","v":0}]
[null,"Сквош","155",0,0,0,0,0,0,0,0,0,0,0,0,0,0,0,0,0,0,0,0,0,0,0,0,0,0,0,0,0,0,0,0,0,0,0,0,0,0,0,0,0,0,0,0,0,0,0,0,0,0,0,0,0,0,0,0,0,0,0,0,0,0,0,0,0,0,0,0,0,0,0,0,0,0,0,0,0,0,0,0,0,0,0,0,0,0,0,0,0,0,0,0,0,0,0,0,null,null,{"$f":"Раздел2!F170","v":0}]
[null,"Скейтбординг","156",0,0,0,0,0,0,0,0,0,0,0,0,0,0,0,0,0,0,0,0,0,0,0,0,0,0,0,0,0,0,0,0,0,0,0,0,0,0,0,0,0,0,0,0,0,0,0,0,0,0,0,0,0,0,0,0,0,0,0,0,0,0,0,0,0,0,0,0,0,0,0,0,0,0,0,0,0,0,0,0,0,0,0,0,0,0,0,0,0,0,0,0,0,0,0,0,null,null,{"$f":"Раздел2!F171","v":0}]
[null,"Служебно-прикладной спорт","157",0,0,0,0,0,0,0,0,0,0,0,0,0,0,0,0,0,0,0,0,0,0,0,0,0,0,0,0,0,0,0,0,0,0,0,0,0,0,0,0,0,0,0,0,0,0,0,0,0,0,0,0,0,0,0,0,0,0,0,0,0,0,0,0,0,0,0,0,0,0,0,0,0,0,0,0,0,0,0,0,0,0,0,0,0,0,0,0,0,0,0,0,0,0,0,0,null,null,{"$f":"Раздел2!F172","v":0}]
[null,"Служебно-прикладной спорт ФСО России","158",0,0,0,0,0,0,0,0,0,0,0,0,0,0,0,0,0,0,0,0,0,0,0,0,0,0,0,0,0,0,0,0,0,0,0,0,0,0,0,0,0,0,0,0,0,0,0,0,0,0,0,0,0,0,0,0,0,0,0,0,0,0,0,0,0,0,0,0,0,0,0,0,0,0,0,0,0,0,0,0,0,0,0,0,0,0,0,0,0,0,0,0,0,0,0,0,null,null,{"$f":"Раздел2!F173","v":0}]
[null,"Служебно-прикладной спорт ФТС России","159",0,0,0,0,0,0,0,0,0,0,0,0,0,0,0,0,0,0,0,0,0,0,0,0,0,0,0,0,0,0,0,0,0,0,0,0,0,0,0,0,0,0,0,0,0,0,0,0,0,0,0,0,0,0,0,0,0,0,0,0,0,0,0,0,0,0,0,0,0,0,0,0,0,0,0,0,0,0,0,0,0,0,0,0,0,0,0,0,0,0,0,0,0,0,0,0,null,null,{"$f":"Раздел2!F174","v":0}]
[null,"Служебное двоеборье","160",0,0,0,0,0,0,0,0,0,0,0,0,0,0,0,0,0,0,0,0,0,0,0,0,0,0,0,0,0,0,0,0,0,0,0,0,0,0,0,0,0,0,0,0,0,0,0,0,0,0,0,0,0,0,0,0,0,0,0,0,0,0,0,0,0,0,0,0,0,0,0,0,0,0,0,0,0,0,0,0,0,0,0,0,0,0,0,0,0,0,0,0,0,0,0,0,null,null,{"$f":"Раздел2!F175","v":0}]
[null,"Служебное единоборство","161",0,0,0,0,0,0,0,0,0,0,0,0,0,0,0,0,0,0,0,0,0,0,0,0,0,0,0,0,0,0,0,0,0,0,0,0,0,0,0,0,0,0,0,0,0,0,0,0,0,0,0,0,0,0,0,0,0,0,0,0,0,0,0,0,0,0,0,0,0,0,0,0,0,0,0,0,0,0,0,0,0,0,0,0,0,0,0,0,0,0,0,0,0,0,0,0,null,null,{"$f":"Раздел2!F176","v":30}]
[null,"Служебное многоборье","162",0,0,0,0,0,0,0,0,0,0,0,0,0,0,0,0,0,0,0,0,0,0,0,0,0,0,0,0,0,0,0,0,0,0,0,0,0,0,0,0,0,0,0,0,0,0,0,0,0,0,0,0,0,0,0,0,0,0,0,0,0,0,0,0,0,0,0,0,0,0,0,0,0,0,0,0,0,0,0,0,0,0,0,0,0,0,0,0,0,0,0,0,0,0,0,0,null,null,{"$f":"Раздел2!F177","v":0}]
[null,"Служебный биатлон","163",0,0,0,0,0,0,0,0,0,0,0,0,0,0,0,0,0,0,0,0,0,0,0,0,0,0,0,0,0,0,0,0,0,0,0,0,0,0,0,0,0,0,0,0,0,0,0,0,0,0,0,0,0,0,0,0,0,0,0,0,0,0,0,0,0,0,0,0,0,0,0,0,0,0,0,0,0,0,0,0,0,0,0,0,0,0,0,0,0,0,0,0,0,0,0,0,null,null,{"$f":"Раздел2!F178","v":0}]
[null,"Спасательный спорт","164",0,0,0,0,0,0,0,0,0,0,0,0,0,0,0,0,0,0,0,0,0,0,0,0,0,0,0,0,0,0,0,0,0,0,0,0,0,0,0,0,0,0,0,0,0,0,0,0,0,0,0,0,0,0,0,0,0,0,0,0,0,0,0,0,0,0,0,0,0,0,0,0,0,0,0,0,0,0,0,0,0,0,0,0,0,0,0,0,0,0,0,0,0,0,0,0,null,null,{"$f":"Раздел2!F179","v":0}]
[null,"Стрельба из боевого ручного стрелкового оружия","165",0,0,0,0,0,0,0,0,0,0,0,0,0,0,0,0,0,0,0,0,0,0,0,0,0,0,0,0,0,0,0,0,0,0,0,0,0,0,0,0,0,0,0,0,0,0,0,0,0,0,0,0,0,0,0,0,0,0,0,0,0,0,0,0,0,0,0,0,0,0,0,0,0,0,0,0,0,0,0,0,0,0,0,0,0,0,0,0,0,0,0,0,0,0,0,0,null,null,{"$f":"Раздел2!F180","v":226}]
[null,"Стрельба из штатного или табельного оружия","166",0,0,0,0,0,0,0,0,0,0,0,0,0,0,0,0,0,0,0,0,0,0,0,0,0,0,0,0,0,0,0,0,0,0,0,0,0,0,0,0,0,0,0,0,0,0,0,0,0,0,0,0,0,0,0,0,0,0,0,0,0,0,0,0,0,0,0,0,0,0,0,0,0,0,0,0,0,0,0,0,0,0,0,0,0,0,0,0,0,0,0,0,0,0,0,0,null,null,{"$f":"Раздел2!F181","v":0}]
[null,"Смешанное боевое единоборство (ММА)","167",0,0,0,0,0,0,0,0,0,0,0,0,0,0,0,0,0,0,0,0,0,0,0,0,0,0,0,0,0,0,0,0,0,0,0,0,0,0,0,0,0,0,0,0,0,0,0,0,0,0,0,0,0,0,0,0,0,0,0,0,0,0,0,0,0,0,0,0,0,0,0,0,0,0,0,0,0,0,0,0,0,0,0,0,0,0,0,0,0,0,0,0,0,0,0,0,null,null,{"$f":"Раздел2!F182","v":1194}]
[null,"Сноуборд","168",0,0,0,0,0,0,0,0,0,0,0,0,0,0,0,0,0,0,0,0,0,0,0,0,0,0,0,0,0,0,0,0,0,0,0,0,0,0,0,0,0,0,0,0,0,0,0,0,0,0,0,0,0,0,0,0,0,0,0,0,0,0,0,0,0,0,0,0,0,0,0,0,0,0,0,0,0,0,0,0,0,0,0,0,0,0,0,0,0,0,0,0,0,0,0,0,null,null,{"$f":"Раздел2!F183","v":78}]
[null,"Современное пятиборье","169",0,0,0,0,0,0,0,0,0,0,0,0,0,0,0,0,0,0,0,0,0,0,0,0,0,0,0,0,0,0,0,0,0,0,0,0,0,0,0,0,0,0,0,0,0,0,0,0,0,0,0,0,0,0,0,0,0,0,0,0,0,0,0,0,0,0,0,0,0,0,0,0,0,0,0,0,0,0,0,0,0,0,0,0,0,0,0,0,0,0,0,0,0,0,0,0,null,null,{"$f":"Раздел2!F184","v":1116}]
[null,"Софтбол","170",0,0,0,0,0,0,0,0,0,0,0,0,0,0,0,0,0,0,0,0,0,0,0,0,0,0,0,0,0,0,0,0,0,0,0,0,0,0,0,0,0,0,0,0,0,0,0,0,0,0,0,0,0,0,0,0,0,0,0,0,0,0,0,0,0,0,0,0,0,0,0,0,0,0,0,0,0,0,0,0,0,0,0,0,0,0,0,0,0,0,0,0,0,0,0,0,null,null,{"$f":"Раздел2!F185","v":0}]
[null,"Спорт сверхлегкой авиации","171",0,0,0,0,0,0,0,0,0,0,0,0,0,0,0,0,0,0,0,0,0,0,0,0,0,0,0,0,0,0,0,0,0,0,0,0,0,0,0,0,0,0,0,0,0,0,0,0,0,0,0,0,0,0,0,0,0,0,0,0,0,0,0,0,0,0,0,0,0,0,0,0,0,0,0,0,0,0,0,0,0,0,0,0,0,0,0,0,0,0,0,0,0,0,0,0,null,null,{"$f":"Раздел2!F186","v":0}]
[null,"Спортивная акробатика","172",0,0,0,0,0,0,0,0,0,0,0,0,0,0,0,0,0,0,0,0,0,0,0,0,0,0,0,0,0,0,0,0,0,0,0,0,0,0,0,0,0,0,0,0,0,0,0,0,0,0,0,0,0,0,0,0,0,0,0,0,0,0,0,0,0,0,0,0,0,0,0,0,0,0,0,0,0,0,0,0,0,0,0,0,0,0,0,0,0,0,0,0,0,0,0,0,null,null,{"$f":"Раздел2!F187","v":0}]
[null,"Спортивная аэробика","173",0,0,0,0,0,0,0,0,0,0,0,0,0,0,0,0,0,0,0,0,0,0,0,0,0,0,0,0,0,0,0,0,0,0,0,0,0,0,0,0,0,0,0,0,0,0,0,0,0,0,0,0,0,0,0,0,0,0,0,0,0,0,0,0,0,0,0,0,0,0,0,0,0,0,0,0,0,0,0,0,0,0,0,0,0,0,0,0,0,0,0,0,0,0,0,0,null,null,{"$f":"Раздел2!F188","v":0}]
[null,"Спортивная борьба - всего","174",0,1,0,1,0,0,0,0,0,0,0,0,0,0,0,0,0,2,1,0,0,0,0,0,0,0,0,0,0,0,0,0,0,1,0,0,0,0,0,0,0,0,0,0,0,0,0,0,0,0,0,0,0,0,0,0,0,0,0,0,0,0,0,0,0,1,1,0,0,0,0,0,0,0,0,0,0,0,0,0,0,0,0,0,0,0,0,0,0,0,0,0,0,0,0,0,null,null,{"$f":"Раздел2!F189","v":0}]
[null,"в том числе:\nВольная борьба","175",0,1,0,0,0,0,0,0,0,0,0,0,0,0,0,0,0,0,0,0,0,0,0,0,0,0,0,0,0,0,0,0,0,0,0,0,0,0,0,0,0,0,0,0,0,0,0,0,0,0,0,0,0,0,0,0,0,0,0,0,0,0,0,0,0,0,0,0,0,0,0,0,0,0,0,0,0,0,0,0,0,0,0,0,0,0,0,0,0,0,0,0,0,0,0,0,null,null,{"$f":"Раздел2!F190","v":0}]
[null,"Греко-римская борьба","176",0,0,0,1,0,0,0,0,0,0,0,0,0,0,0,0,0,2,1,0,0,0,0,0,0,0,0,0,0,0,0,0,0,1,0,0,0,0,0,0,0,0,0,0,0,0,0,0,0,0,0,0,0,0,0,0,0,0,0,0,0,0,0,0,0,1,1,0,0,0,0,0,0,0,0,0,0,0,0,0,0,0,0,0,0,0,0,0,0,0,0,0,0,0,0,0,null,null,{"$f":"Раздел2!F191","v":114}]
[null,"Грэпплинг","177",0,0,0,0,0,0,0,0,0,0,0,0,0,0,0,0,0,0,0,0,0,0,0,0,0,0,0,0,0,0,0,0,0,0,0,0,0,0,0,0,0,0,0,0,0,0,0,0,0,0,0,0,0,0,0,0,0,0,0,0,0,0,0,0,0,0,0,0,0,0,0,0,0,0,0,0,0,0,0,0,0,0,0,0,0,0,0,0,0,0,0,0,0,0,0,0,null,null,{"$f":"Раздел2!F192","v":0}]
[null,"Грэпплинг-ги","178",0,0,0,0,0,0,0,0,0,0,0,0,0,0,0,0,0,0,0,0,0,0,0,0,0,0,0,0,0,0,0,0,0,0,0,0,0,0,0,0,0,0,0,0,0,0,0,0,0,0,0,0,0,0,0,0,0,0,0,0,0,0,0,0,0,0,0,0,0,0,0,0,0,0,0,0,0,0,0,0,0,0,0,0,0,0,0,0,0,0,0,0,0,0,0,0,null,null,{"$f":"Раздел2!F193","v":0}]
[null,"Панкратион","179",0,0,0,0,0,0,0,0,0,0,0,0,0,0,0,0,0,0,0,0,0,0,0,0,0,0,0,0,0,0,0,0,0,0,0,0,0,0,0,0,0,0,0,0,0,0,0,0,0,0,0,0,0,0,0,0,0,0,0,0,0,0,0,0,0,0,0,0,0,0,0,0,0,0,0,0,0,0,0,0,0,0,0,0,0,0,0,0,0,0,0,0,0,0,0,0,null,null,{"$f":"Раздел2!F194","v":0}]
[null,"Спортивная гимнастика","180",0,0,0,0,0,0,0,0,0,0,0,0,0,0,0,0,0,0,0,0,0,0,0,0,0,0,0,0,0,0,0,0,0,0,0,0,0,0,0,0,0,0,0,0,0,0,0,0,0,0,0,0,0,0,0,0,0,0,0,0,0,0,0,0,0,0,0,0,0,0,0,0,0,0,0,0,0,0,0,0,0,0,0,0,0,0,0,0,0,0,0,0,0,0,0,0,null,null,{"$f":"Раздел2!F195","v":0}]
[null,"Спортивная йога","181",0,0,0,0,0,0,0,0,0,0,0,0,0,0,0,0,0,0,0,0,0,0,0,0,0,0,0,0,0,0,0,0,0,0,0,0,0,0,0,0,0,0,0,0,0,0,0,0,0,0,0,0,0,0,0,0,0,0,0,0,0,0,0,0,0,0,0,0,0,0,0,0,0,0,0,0,0,0,0,0,0,0,0,0,0,0,0,0,0,0,0,0,0,0,0,0,null,null,{"$f":"Раздел2!F196","v":0}]
[null,"Спортивно-прикладное собаководство","182",0,0,0,0,0,0,0,0,0,0,0,0,0,0,0,0,0,0,0,0,0,0,0,0,0,0,0,0,0,0,0,0,0,0,0,0,0,0,0,0,0,0,0,0,0,0,0,0,0,0,0,0,0,0,0,0,0,0,0,0,0,0,0,0,0,0,0,0,0,0,0,0,0,0,0,0,0,0,0,0,0,0,0,0,0,0,0,0,0,0,0,0,0,0,0,0,null,null,{"$f":"Раздел2!F197","v":0}]
[null,"Спортивное ориентирование","183",0,0,0,0,0,0,0,0,0,0,0,0,0,0,0,0,0,0,0,0,0,0,0,0,0,0,0,0,0,0,0,0,0,0,0,0,0,0,0,0,0,0,0,0,0,0,0,0,0,0,0,0,0,0,0,0,0,0,0,0,0,0,0,0,0,0,0,0,0,0,0,0,0,0,0,0,0,0,0,0,0,0,0,0,0,0,0,0,0,0,0,0,0,0,0,0,null,null,{"$f":"Раздел2!F198","v":0}]
[null,"Спортивный бридж","184",0,0,0,0,0,0,0,0,0,0,0,0,0,0,0,0,0,0,0,0,0,0,0,0,0,0,0,0,0,0,0,0,0,0,0,0,0,0,0,0,0,0,0,0,0,0,0,0,0,0,0,0,0,0,0,0,0,0,0,0,0,0,0,0,0,0,0,0,0,0,0,0,0,0,0,0,0,0,0,0,0,0,0,0,0,0,0,0,0,0,0,0,0,0,0,0,null,null,{"$f":"Раздел2!F199","v":0}]
[null,"Спортивный туризм","185",0,0,0,0,0,0,0,0,0,0,0,0,0,0,0,0,0,0,0,0,0,0,0,0,0,0,0,0,0,0,0,0,0,0,0,0,0,0,0,0,0,0,0,0,0,0,0,0,0,0,0,0,0,0,0,0,0,0,0,0,0,0,0,0,0,0,0,0,0,0,0,0,0,0,0,0,0,0,0,0,0,0,0,0,0,0,0,0,0,0,0,0,0,0,0,0,null,null,{"$f":"Раздел2!F200","v":16}]
[null,"Стендовая стрельба - всего","186",0,0,0,0,0,0,0,0,0,0,0,0,0,0,0,0,0,0,0,0,0,0,0,0,0,0,0,0,0,0,0,0,0,0,0,0,0,0,0,0,0,0,0,0,0,0,0,0,0,0,0,0,0,0,0,0,0,0,0,0,0,0,0,0,0,0,0,0,0,0,0,0,0,0,0,0,0,0,0,0,0,0,0,0,0,0,0,0,0,0,0,0,0,0,0,0,null,null,{"$f":"Раздел2!F201","v":16}]
[null,"в том числе:\nТрап","187",0,0,0,0,0,0,0,0,0,0,0,0,0,0,0,0,0,0,0,0,0,0,0,0,0,0,0,0,0,0,0,0,0,0,0,0,0,0,0,0,0,0,0,0,0,0,0,0,0,0,0,0,0,0,0,0,0,0,0,0,0,0,0,0,0,0,0,0,0,0,0,0,0,0,0,0,0,0,0,0,0,0,0,0,0,0,0,0,0,0,0,0,0,0,0,0,null,null,{"$f":"Раздел2!F202","v":0}]
[null,"Скит","188",0,0,0,0,0,0,0,0,0,0,0,0,0,0,0,0,0,0,0,0,0,0,0,0,0,0,0,0,0,0,0,0,0,0,0,0,0,0,0,0,0,0,0,0,0,0,0,0,0,0,0,0,0,0,0,0,0,0,0,0,0,0,0,0,0,0,0,0,0,0,0,0,0,0,0,0,0,0,0,0,0,0,0,0,0,0,0,0,0,0,0,0,0,0,0,0,null,null,{"$f":"Раздел2!F203","v":0}]
[null,"Дубль-трап","189",0,0,0,0,0,0,0,0,0,0,0,0,0,0,0,0,0,0,0,0,0,0,0,0,0,0,0,0,0,0,0,0,0,0,0,0,0,0,0,0,0,0,0,0,0,0,0,0,0,0,0,0,0,0,0,0,0,0,0,0,0,0,0,0,0,0,0,0,0,0,0,0,0,0,0,0,0,0,0,0,0,0,0,0,0,0,0,0,0,0,0,0,0,0,0,0,null,null,{"$f":"Раздел2!F204","v":0}]
[null,"Спортинг","190",0,0,0,0,0,0,0,0,0,0,0,0,0,0,0,0,0,0,0,0,0,0,0,0,0,0,0,0,0,0,0,0,0,0,0,0,0,0,0,0,0,0,0,0,0,0,0,0,0,0,0,0,0,0,0,0,0,0,0,0,0,0,0,0,0,0,0,0,0,0,0,0,0,0,0,0,0,0,0,0,0,0,0,0,0,0,0,0,0,0,0,0,0,0,0,0,null,null,{"$f":"Раздел2!F205","v":0}]
[null,"Стрельба из арбалета","191",0,0,0,0,0,0,0,0,0,0,0,0,0,0,0,0,0,0,0,0,0,0,0,0,0,0,0,0,0,0,0,0,0,0,0,0,0,0,0,0,0,0,0,0,0,0,0,0,0,0,0,0,0,0,0,0,0,0,0,0,0,0,0,0,0,0,0,0,0,0,0,0,0,0,0,0,0,0,0,0,0,0,0,0,0,0,0,0,0,0,0,0,0,0,0,0,null,null,{"$f":"Раздел2!F206","v":0}]
[null,"Стрельба из лука - всего","192",0,0,0,0,0,0,0,0,0,0,0,0,0,0,0,0,0,0,0,0,0,0,0,0,0,0,0,0,0,0,0,0,0,0,0,0,0,0,0,0,0,0,0,0,0,0,0,0,0,0,0,0,0,0,0,0,0,0,0,0,0,0,0,0,0,0,0,0,0,0,0,0,0,0,0,0,0,0,0,0,0,0,0,0,0,0,0,0,0,0,0,0,0,0,0,0,null,null,{"$f":"Раздел2!F207","v":0}]
[null,"в том числе:\nКлассический лук","193",0,0,0,0,0,0,0,0,0,0,0,0,0,0,0,0,0,0,0,0,0,0,0,0,0,0,0,0,0,0,0,0,0,0,0,0,0,0,0,0,0,0,0,0,0,0,0,0,0,0,0,0,0,0,0,0,0,0,0,0,0,0,0,0,0,0,0,0,0,0,0,0,0,0,0,0,0,0,0,0,0,0,0,0,0,0,0,0,0,0,0,0,0,0,0,0,null,null,{"$f":"Раздел2!F208","v":0}]
[null,"   Блочный лук","194",0,0,0,0,0,0,0,0,0,0,0,0,0,0,0,0,0,0,0,0,0,0,0,0,0,0,0,0,0,0,0,0,0,0,0,0,0,0,0,0,0,0,0,0,0,0,0,0,0,0,0,0,0,0,0,0,0,0,0,0,0,0,0,0,0,0,0,0,0,0,0,0,0,0,0,0,0,0,0,0,0,0,0,0,0,0,0,0,0,0,0,0,0,0,0,0,null,null,{"$f":"Раздел2!F209","v":0}]
[null,"   Ачери ","195",0,0,0,0,0,0,0,0,0,0,0,0,0,0,0,0,0,0,0,0,0,0,0,0,0,0,0,0,0,0,0,0,0,0,0,0,0,0,0,0,0,0,0,0,0,0,0,0,0,0,0,0,0,0,0,0,0,0,0,0,0,0,0,0,0,0,0,0,0,0,0,0,0,0,0,0,0,0,0,0,0,0,0,0,0,0,0,0,0,0,0,0,0,0,0,0,null,null,{"$f":"Раздел2!F210","v":0}]
[null,"Судомодельный спорт","196",0,0,0,0,0,0,0,0,0,0,0,0,0,0,0,0,0,0,0,0,0,0,0,0,0,0,0,0,0,0,0,0,0,0,0,0,0,0,0,0,0,0,0,0,0,0,0,0,0,0,0,0,0,0,0,0,0,0,0,0,0,0,0,0,0,0,0,0,0,0,0,0,0,0,0,0,0,0,0,0,0,0,0,0,0,0,0,0,0,0,0,0,0,0,0,0,null,null,{"$f":"Раздел2!F211","v":0}]
[null,"Сумо","197",0,0,0,0,0,0,0,0,0,0,0,0,0,0,0,0,0,0,0,0,0,0,0,0,0,0,0,0,0,0,0,0,0,0,0,0,0,0,0,0,0,0,0,0,0,0,0,0,0,0,0,0,0,0,0,0,0,0,0,0,0,0,0,0,0,0,0,0,0,0,0,0,0,0,0,0,0,0,0,0,0,0,0,0,0,0,0,0,0,0,0,0,0,0,0,0,null,null,{"$f":"Раздел2!F212","v":0}]
[null,"Тайский бокс","198",0,0,0,0,0,0,0,0,0,0,0,0,0,0,0,0,0,0,0,0,0,0,0,0,0,0,0,0,0,0,0,0,0,0,0,0,0,0,0,0,0,0,0,0,0,0,0,0,0,0,0,0,0,0,0,0,0,0,0,0,0,0,0,0,0,0,0,0,0,0,0,0,0,0,0,0,0,0,0,0,0,0,0,0,0,0,0,0,0,0,0,0,0,0,0,0,null,null,{"$f":"Раздел2!F213","v":0}]
[null,"Танцевальный спорт","199",0,0,0,0,0,0,0,0,0,0,0,0,0,0,0,0,0,0,0,0,0,0,0,0,0,0,0,0,0,0,0,0,0,0,0,0,0,0,0,0,0,0,0,0,0,0,0,0,0,0,0,0,0,0,0,0,0,0,0,0,0,0,0,0,0,0,0,0,0,0,0,0,0,0,0,0,0,0,0,0,0,0,0,0,0,0,0,0,0,0,0,0,0,0,0,0,null,null,{"$f":"Раздел2!F214","v":0}]
[null,"Теннис","200",0,0,0,0,0,0,0,0,0,0,0,0,0,0,0,0,0,0,0,0,0,0,0,0,0,0,0,0,0,0,0,0,0,0,0,0,0,0,0,0,0,0,0,0,0,0,0,0,0,0,0,0,0,0,0,0,0,0,0,0,0,0,0,0,0,0,0,0,0,0,0,0,0,0,0,0,0,0,0,0,0,0,0,0,0,0,0,0,0,0,0,0,0,0,0,0,null,null,{"$f":"Раздел2!F215","v":0}]
[null,"Триатлон","201",0,0,0,0,0,0,0,0,0,0,0,0,0,0,0,0,0,0,0,0,0,0,0,0,0,0,0,0,0,0,0,0,0,0,0,0,0,0,0,0,0,0,0,0,0,0,0,0,0,0,0,0,0,0,0,0,0,0,0,0,0,0,0,0,0,0,0,0,0,0,0,0,0,0,0,0,0,0,0,0,0,0,0,0,0,0,0,0,0,0,0,0,0,0,0,0,null,null,{"$f":"Раздел2!F216","v":0}]
[null,"Тхэквондо - всего","202",0,0,0,0,0,0,0,0,0,0,0,0,0,0,0,0,0,0,0,0,0,0,0,0,0,0,0,0,0,0,0,0,0,0,0,0,0,0,0,0,0,0,0,0,0,0,0,0,0,0,0,0,0,0,0,0,0,0,0,0,0,0,0,0,0,0,0,0,0,0,0,0,0,0,0,0,0,0,0,0,0,0,0,0,0,0,0,0,0,0,0,0,0,0,0,0,null,null,{"$f":"Раздел2!F217","v":0}]
[null,"в том числе:\nТхэквондо (ГТФ, ИТФ, МФТ)","203",0,0,0,0,0,0,0,0,0,0,0,0,0,0,0,0,0,0,0,0,0,0,0,0,0,0,0,0,0,0,0,0,0,0,0,0,0,0,0,0,0,0,0,0,0,0,0,0,0,0,0,0,0,0,0,0,0,0,0,0,0,0,0,0,0,0,0,0,0,0,0,0,0,0,0,0,0,0,0,0,0,0,0,0,0,0,0,0,0,0,0,0,0,0,0,0,null,null,{"$f":"Раздел2!F218","v":0}]
[null,"Тхэквондо (ВТФ)","204",0,0,0,0,0,0,0,0,0,0,0,0,0,0,0,0,0,0,0,0,0,0,0,0,0,0,0,0,0,0,0,0,0,0,0,0,0,0,0,0,0,0,0,0,0,0,0,0,0,0,0,0,0,0,0,0,0,0,0,0,0,0,0,0,0,0,0,0,0,0,0,0,0,0,0,0,0,0,0,0,0,0,0,0,0,0,0,0,0,0,0,0,0,0,0,0,null,null,{"$f":"Раздел2!F219","v":0}]
[null,"Тяжелая атлетика","205",0,0,0,0,0,0,0,0,0,0,0,0,0,0,0,0,0,0,0,0,0,0,0,0,0,0,0,0,0,0,0,0,0,0,0,0,0,0,0,0,0,0,0,0,0,0,0,0,0,0,0,0,0,0,0,0,0,0,0,0,0,0,0,0,0,0,0,0,0,0,0,0,0,0,0,0,0,0,0,0,0,0,0,0,0,0,0,0,0,0,0,0,0,0,0,0,null,null,{"$f":"Раздел2!F220","v":0}]
[null,"Универсальный бой","206",0,0,0,0,0,0,0,0,0,0,0,0,0,0,0,0,0,0,0,0,0,0,0,0,0,0,0,0,0,0,0,0,0,0,0,0,0,0,0,0,0,0,0,0,0,0,0,0,0,0,0,0,0,0,0,0,0,0,0,0,0,0,0,0,0,0,0,0,0,0,0,0,0,0,0,0,0,0,0,0,0,0,0,0,0,0,0,0,0,0,0,0,0,0,0,0]
[null,"Ушу","207",0,0,0,0,0,0,0,0,0,0,0,0,0,0,0,0,0,0,0,0,0,0,0,0,0,0,0,0,0,0,0,0,0,0,0,0,0,0,0,0,0,0,0,0,0,0,0,0,0,0,0,0,0,0,0,0,0,0,0,0,0,0,0,0,0,0,0,0,0,0,0,0,0,0,0,0,0,0,0,0,0,0,0,0,0,0,0,0,0,0,0,0,0,0,0,0]
[null,"Фехтование - всего","208",0,0,0,0,0,0,0,0,0,0,0,0,0,0,0,0,0,0,0,0,0,0,0,0,0,0,0,0,0,0,0,0,0,0,0,0,0,0,0,0,0,0,0,0,0,0,0,0,0,0,0,0,0,0,0,0,0,0,0,0,0,0,0,0,0,0,0,0,0,0,0,0,0,0,0,0,0,0,0,0,0,0,0,0,0,0,0,0,0,0,0,0,0,0,0,0]
[null,"в том числе:\nРапира","209",0,0,0,0,0,0,0,0,0,0,0,0,0,0,0,0,0,0,0,0,0,0,0,0,0,0,0,0,0,0,0,0,0,0,0,0,0,0,0,0,0,0,0,0,0,0,0,0,0,0,0,0,0,0,0,0,0,0,0,0,0,0,0,0,0,0,0,0,0,0,0,0,0,0,0,0,0,0,0,0,0,0,0,0,0,0,0,0,0,0,0,0,0,0,0,0]
[null,"Сабля","210",0,0,0,0,0,0,0,0,0,0,0,0,0,0,0,0,0,0,0,0,0,0,0,0,0,0,0,0,0,0,0,0,0,0,0,0,0,0,0,0,0,0,0,0,0,0,0,0,0,0,0,0,0,0,0,0,0,0,0,0,0,0,0,0,0,0,0,0,0,0,0,0,0,0,0,0,0,0,0,0,0,0,0,0,0,0,0,0,0,0,0,0,0,0,0,0]
[null,"Шпага","211",0,0,0,0,0,0,0,0,0,0,0,0,0,0,0,0,0,0,0,0,0,0,0,0,0,0,0,0,0,0,0,0,0,0,0,0,0,0,0,0,0,0,0,0,0,0,0,0,0,0,0,0,0,0,0,0,0,0,0,0,0,0,0,0,0,0,0,0,0,0,0,0,0,0,0,0,0,0,0,0,0,0,0,0,0,0,0,0,0,0,0,0,0,0,0,0]
[null,"Арт-фехтование","212",0,0,0,0,0,0,0,0,0,0,0,0,0,0,0,0,0,0,0,0,0,0,0,0,0,0,0,0,0,0,0,0,0,0,0,0,0,0,0,0,0,0,0,0,0,0,0,0,0,0,0,0,0,0,0,0,0,0,0,0,0,0,0,0,0,0,0,0,0,0,0,0,0,0,0,0,0,0,0,0,0,0,0,0,0,0,0,0,0,0,0,0,0,0,0,0]
[null,"Фигурное катание на коньках","213",0,0,0,0,0,0,0,0,0,0,0,0,0,0,0,0,0,0,0,0,0,0,0,0,0,0,0,0,0,0,0,0,0,0,0,0,0,0,0,0,0,0,0,0,0,0,0,0,0,0,0,0,0,0,0,0,0,0,0,0,0,0,0,0,0,0,0,0,0,0,0,0,0,0,0,0,0,0,0,0,0,0,0,0,0,0,0,0,0,0,0,0,0,0,0,0]
[null,"Фитнес-аэробика","214",0,0,0,0,0,0,0,0,0,0,0,0,0,0,0,0,0,0,0,0,0,0,0,0,0,0,0,0,0,0,0,0,0,0,0,0,0,0,0,0,0,0,0,0,0,0,0,0,0,0,0,0,0,0,0,0,0,0,0,0,0,0,0,0,0,0,0,0,0,0,0,0,0,0,0,0,0,0,0,0,0,0,0,0,0,0,0,0,0,0,0,0,0,0,0,0]
[null,"Флаинг диск","215",0,0,0,0,0,0,0,0,0,0,0,0,0,0,0,0,0,0,0,0,0,0,0,0,0,0,0,0,0,0,0,0,0,0,0,0,0,0,0,0,0,0,0,0,0,0,0,0,0,0,0,0,0,0,0,0,0,0,0,0,0,0,0,0,0,0,0,0,0,0,0,0,0,0,0,0,0,0,0,0,0,0,0,0,0,0,0,0,0,0,0,0,0,0,0,0]
[null,"Флорбол","216",0,0,0,0,0,0,0,0,0,0,0,0,0,0,0,0,0,0,0,0,0,0,0,0,0,0,0,0,0,0,0,0,0,0,0,0,0,0,0,0,0,0,0,0,0,0,0,0,0,0,0,0,0,0,0,0,0,0,0,0,0,0,0,0,0,0,0,0,0,0,0,0,0,0,0,0,0,0,0,0,0,0,0,0,0,0,0,0,0,0,0,0,0,0,0,0]
[null,"Фристайл - всего","217",0,0,0,0,0,0,0,0,0,0,0,0,0,0,0,0,0,0,0,0,0,0,0,0,0,0,0,0,0,0,0,0,0,0,0,0,0,0,0,0,0,0,0,0,0,0,0,0,0,0,0,0,0,0,0,0,0,0,0,0,0,0,0,0,0,0,0,0,0,0,0,0,0,0,0,0,0,0,0,0,0,0,0,0,0,0,0,0,0,0,0,0,0,0,0,0]
[null,"в том числе:\nАкробатика","218",0,0,0,0,0,0,0,0,0,0,0,0,0,0,0,0,0,0,0,0,0,0,0,0,0,0,0,0,0,0,0,0,0,0,0,0,0,0,0,0,0,0,0,0,0,0,0,0,0,0,0,0,0,0,0,0,0,0,0,0,0,0,0,0,0,0,0,0,0,0,0,0,0,0,0,0,0,0,0,0,0,0,0,0,0,0,0,0,0,0,0,0,0,0,0,0]
[null,"Могул","219",0,0,0,0,0,0,0,0,0,0,0,0,0,0,0,0,0,0,0,0,0,0,0,0,0,0,0,0,0,0,0,0,0,0,0,0,0,0,0,0,0,0,0,0,0,0,0,0,0,0,0,0,0,0,0,0,0,0,0,0,0,0,0,0,0,0,0,0,0,0,0,0,0,0,0,0,0,0,0,0,0,0,0,0,0,0,0,0,0,0,0,0,0,0,0,0]
[null,"Ски-кросс","220",0,0,0,0,0,0,0,0,0,0,0,0,0,0,0,0,0,0,0,0,0,0,0,0,0,0,0,0,0,0,0,0,0,0,0,0,0,0,0,0,0,0,0,0,0,0,0,0,0,0,0,0,0,0,0,0,0,0,0,0,0,0,0,0,0,0,0,0,0,0,0,0,0,0,0,0,0,0,0,0,0,0,0,0,0,0,0,0,0,0,0,0,0,0,0,0]
[null,"Хаф-пайп","221",0,0,0,0,0,0,0,0,0,0,0,0,0,0,0,0,0,0,0,0,0,0,0,0,0,0,0,0,0,0,0,0,0,0,0,0,0,0,0,0,0,0,0,0,0,0,0,0,0,0,0,0,0,0,0,0,0,0,0,0,0,0,0,0,0,0,0,0,0,0,0,0,0,0,0,0,0,0,0,0,0,0,0,0,0,0,0,0,0,0,0,0,0,0,0,0]
[null,"Слоуп-стайл","222",0,0,0,0,0,0,0,0,0,0,0,0,0,0,0,0,0,0,0,0,0,0,0,0,0,0,0,0,0,0,0,0,0,0,0,0,0,0,0,0,0,0,0,0,0,0,0,0,0,0,0,0,0,0,0,0,0,0,0,0,0,0,0,0,0,0,0,0,0,0,0,0,0,0,0,0,0,0,0,0,0,0,0,0,0,0,0,0,0,0,0,0,0,0,0,0]
[null,"Функциональное многоборье","223",0,0,0,0,0,0,0,0,0,0,0,0,0,0,0,0,0,0,0,0,0,0,0,0,0,0,0,0,0,0,0,0,0,0,0,0,0,0,0,0,0,0,0,0,0,0,0,0,0,0,0,0,0,0,0,0,0,0,0,0,0,0,0,0,0,0,0,0,0,0,0,0,0,0,0,0,0,0,0,0,0,0,0,0,0,0,0,0,0,0,0,0,0,0,0,0]
[null,"Футбол - всего","224",0,0,0,0,0,0,0,0,0,0,0,0,0,0,0,0,0,0,0,0,0,0,0,0,0,0,0,0,0,0,0,0,0,0,0,0,0,0,0,0,0,0,0,0,0,0,0,0,0,0,0,0,0,0,0,0,0,0,0,0,0,0,0,0,0,0,0,0,0,0,0,0,0,0,0,0,0,0,0,0,0,0,0,0,0,0,0,0,0,0,0,0,0,0,0,0]
[null,"в том числе:\nФутбол (муж.)","225",0,0,0,0,0,0,0,0,0,0,0,0,0,0,0,0,0,0,0,0,0,0,0,0,0,0,0,0,0,0,0,0,0,0,0,0,0,0,0,0,0,0,0,0,0,0,0,0,0,0,0,0,0,0,0,0,0,0,0,0,0,0,0,0,0,0,0,0,0,0,0,0,0,0,0,0,0,0,0,0,0,0,0,0,0,0,0,0,0,0,0,0,0,0,0,0]
[null,"Футбол (жен.)","226",0,0,0,0,0,0,0,0,0,0,0,0,0,0,0,0,0,0,0,0,0,0,0,0,0,0,0,0,0,0,0,0,0,0,0,0,0,0,0,0,0,0,0,0,0,0,0,0,0,0,0,0,0,0,0,0,0,0,0,0,0,0,0,0,0,0,0,0,0,0,0,0,0,0,0,0,0,0,0,0,0,0,0,0,0,0,0,0,0,0,0,0,0,0,0,0]
[null,"Мини-футбол (футзал)","227",0,0,0,0,0,0,0,0,0,0,0,0,0,0,0,0,0,0,0,0,0,0,0,0,0,0,0,0,0,0,0,0,0,0,0,0,0,0,0,0,0,0,0,0,0,0,0,0,0,0,0,0,0,0,0,0,0,0,0,0,0,0,0,0,0,0,0,0,0,0,0,0,0,0,0,0,0,0,0,0,0,0,0,0,0,0,0,0,0,0,0,0,0,0,0,0]
[null,"Пляжный футбол","228",0,0,0,0,0,0,0,0,0,0,0,0,0,0,0,0,0,0,0,0,0,0,0,0,0,0,0,0,0,0,0,0,0,0,0,0,0,0,0,0,0,0,0,0,0,0,0,0,0,0,0,0,0,0,0,0,0,0,0,0,0,0,0,0,0,0,0,0,0,0,0,0,0,0,0,0,0,0,0,0,0,0,0,0,0,0,0,0,0,0,0,0,0,0,0,0]
[null,"Хапсагай","229",0,0,0,0,0,0,0,0,0,0,0,0,0,0,0,0,0,0,0,0,0,0,0,0,0,0,0,0,0,0,0,0,0,0,0,0,0,0,0,0,0,0,0,0,0,0,0,0,0,0,0,0,0,0,0,0,0,0,0,0,0,0,0,0,0,0,0,0,0,0,0,0,0,0,0,0,0,0,0,0,0,0,0,0,0,0,0,0,0,0,0,0,0,0,0,0]
[null,"Хоккей - всего","230",0,0,0,0,0,0,0,0,0,0,0,0,0,0,0,0,0,0,0,0,0,0,0,0,0,0,0,0,0,0,0,0,0,0,0,0,0,0,0,0,0,0,0,0,0,0,0,0,0,0,0,0,0,0,0,0,0,0,0,0,0,0,0,0,0,0,0,0,0,0,0,0,0,0,0,0,0,0,0,0,0,0,0,0,0,0,0,0,0,0,0,0,0,0,0,0]
[null,"в том числе:\nХоккей (муж.)","231",0,0,0,0,0,0,0,0,0,0,0,0,0,0,0,0,0,0,0,0,0,0,0,0,0,0,0,0,0,0,0,0,0,0,0,0,0,0,0,0,0,0,0,0,0,0,0,0,0,0,0,0,0,0,0,0,0,0,0,0,0,0,0,0,0,0,0,0,0,0,0,0,0,0,0,0,0,0,0,0,0,0,0,0,0,0,0,0,0,0,0,0,0,0,0,0]
[null,"Хоккей (жен.)","232",0,0,0,0,0,0,0,0,0,0,0,0,0,0,0,0,0,0,0,0,0,0,0,0,0,0,0,0,0,0,0,0,0,0,0,0,0,0,0,0,0,0,0,0,0,0,0,0,0,0,0,0,0,0,0,0,0,0,0,0,0,0,0,0,0,0,0,0,0,0,0,0,0,0,0,0,0,0,0,0,0,0,0,0,0,0,0,0,0,0,0,0,0,0,0,0]
[null,"Хоккей на траве - всего","233",0,0,0,0,0,0,0,0,0,0,0,0,0,0,0,0,0,0,0,0,0,0,0,0,0,0,0,0,0,0,0,0,0,0,0,0,0,0,0,0,0,0,0,0,0,0,0,0,0,0,0,0,0,0,0,0,0,0,0,0,0,0,0,0,0,0,0,0,0,0,0,0,0,0,0,0,0,0,0,0,0,0,0,0,0,0,0,0,0,0,0,0,0,0,0,0]
[null,"в том числе:\nХоккей на траве (муж.)","234",0,0,0,0,0,0,0,0,0,0,0,0,0,0,0,0,0,0,0,0,0,0,0,0,0,0,0,0,0,0,0,0,0,0,0,0,0,0,0,0,0,0,0,0,0,0,0,0,0,0,0,0,0,0,0,0,0,0,0,0,0,0,0,0,0,0,0,0,0,0,0,0,0,0,0,0,0,0,0,0,0,0,0,0,0,0,0,0,0,0,0,0,0,0,0,0]
[null,"Хоккей на траве (жен.)","235",0,0,0,0,0,0,0,0,0,0,0,0,0,0,0,0,0,0,0,0,0,0,0,0,0,0,0,0,0,0,0,0,0,0,0,0,0,0,0,0,0,0,0,0,0,0,0,0,0,0,0,0,0,0,0,0,0,0,0,0,0,0,0,0,0,0,0,0,0,0,0,0,0,0,0,0,0,0,0,0,0,0,0,0,0,0,0,0,0,0,0,0,0,0,0,0]
[null,"Индорхоккей","236",0,0,0,0,0,0,0,0,0,0,0,0,0,0,0,0,0,0,0,0,0,0,0,0,0,0,0,0,0,0,0,0,0,0,0,0,0,0,0,0,0,0,0,0,0,0,0,0,0,0,0,0,0,0,0,0,0,0,0,0,0,0,0,0,0,0,0,0,0,0,0,0,0,0,0,0,0,0,0,0,0,0,0,0,0,0,0,0,0,0,0,0,0,0,0,0]
[null,"Хоккей с мячом","237",0,0,0,0,0,0,0,0,0,0,0,0,0,0,0,0,0,0,0,0,0,0,0,0,0,0,0,0,0,0,0,0,0,0,0,0,0,0,0,0,0,0,0,0,0,0,0,0,0,0,0,0,0,0,0,0,0,0,0,0,0,0,0,0,0,0,0,0,0,0,0,0,0,0,0,0,0,0,0,0,0,0,0,0,0,0,0,0,0,0,0,0,0,0,0,0]
[null,"Художественная гимнастика","238",0,0,0,0,0,0,0,0,0,0,0,0,0,0,0,0,0,0,0,0,0,0,0,0,0,0,0,0,0,0,0,0,0,0,0,0,0,0,0,0,0,0,0,0,0,0,0,0,0,0,0,0,0,0,0,0,0,0,0,0,0,0,0,0,0,0,0,0,0,0,0,0,0,0,0,0,0,0,0,0,0,0,0,0,0,0,0,0,0,0,0,0,0,0,0,0]
[null,"Хуреш","239",0,0,0,0,0,0,0,0,0,0,0,0,0,0,0,0,0,0,0,0,0,0,0,0,0,0,0,0,0,0,0,0,0,0,0,0,0,0,0,0,0,0,0,0,0,0,0,0,0,0,0,0,0,0,0,0,0,0,0,0,0,0,0,0,0,0,0,0,0,0,0,0,0,0,0,0,0,0,0,0,0,0,0,0,0,0,0,0,0,0,0,0,0,0,0,0]
[null,"Чир спорт","240",0,0,0,0,0,0,0,0,0,0,0,0,0,0,0,0,0,0,0,0,0,0,0,0,0,0,0,0,0,0,0,0,0,0,0,0,0,0,0,0,0,0,0,0,0,0,0,0,0,0,0,0,0,0,0,0,0,0,0,0,0,0,0,0,0,0,0,0,0,0,0,0,0,0,0,0,0,0,0,0,0,0,0,0,0,0,0,0,0,0,0,0,0,0,0,0]
[null,"Шахматы","241",0,0,0,0,0,0,0,0,0,0,0,0,0,0,0,0,0,0,0,0,0,0,0,0,0,0,0,0,0,0,0,0,0,0,0,0,0,0,0,0,0,0,0,0,0,0,0,0,0,0,0,0,0,0,0,0,0,0,0,0,0,0,0,0,0,0,0,0,0,0,0,0,0,0,0,0,0,0,0,0,0,0,0,0,0,0,0,0,0,0,0,0,0,0,0,0]
[null,"Шашки","242",0,0,0,0,0,0,0,0,0,0,0,0,0,0,0,0,0,0,0,0,0,0,0,0,0,0,0,0,0,0,0,0,0,0,0,0,0,0,0,0,0,0,0,0,0,0,0,0,0,0,0,0,0,0,0,0,0,0,0,0,0,0,0,0,0,0,0,0,0,0,0,0,0,0,0,0,0,0,0,0,0,0,0,0,0,0,0,0,0,0,0,0,0,0,0,0]
[null,"Шодсанлат","243",0,0,0,0,0,0,0,0,0,0,0,0,0,0,0,0,0,0,0,0,0,0,0,0,0,0,0,0,0,0,0,0,0,0,0,0,0,0,0,0,0,0,0,0,0,0,0,0,0,0,0,0,0,0,0,0,0,0,0,0,0,0,0,0,0,0,0,0,0,0,0,0,0,0,0,0,0,0,0,0,0,0,0,0,0,0,0,0,0,0,0,0,0,0,0,0]
[null,"Эстетическая гимнастика","244",0,0,0,0,0,0,0,0,0,0,0,0,0,0,0,0,0,0,0,0,0,0,0,0,0,0,0,0,0,0,0,0,0,0,0,0,0,0,0,0,0,0,0,0,0,0,0,0,0,0,0,0,0,0,0,0,0,0,0,0,0,0,0,0,0,0,0,0,0,0,0,0,0,0,0,0,0,0,0,0,0,0,0,0,0,0,0,0,0,0,0,0,0,0,0,0]
[null,"Якутские национальные прыжки","245",0,0,0,0,0,0,0,0,0,0,0,0,0,0,0,0,0,0,0,0,0,0,0,0,0,0,0,0,0,0,0,0,0,0,0,0,0,0,0,0,0,0,0,0,0,0,0,0,0,0,0,0,0,0,0,0,0,0,0,0,0,0,0,0,0,0,0,0,0,0,0,0,0,0,0,0,0,0,0,0,0,0,0,0,0,0,0,0,0,0,0,0,0,0,0,0]
[null,"ИТОГО","246",{"$f":"SUM(D9:D20,D23:D26,D29:D33,D38:D41,D44:D48,D53:D55,D59:D68,D73:D82,D85:D91,D94:D98,D106:D120,D123:D128,D131,D136,D137,D143:D146,D151:D182,D188:D194,D200,D199,D204:D210,D213:D216,D221:D225,D231,D232,D237,D238,D241,D245:D253)","v":0},{"$f":"SUM(E9:E20,E23:E26,E29:E33,E38:E41,E44:E48,E53:E55,E59:E68,E73:E82,E85:E91,E94:E98,E106:E120,E123:E128,E131,E136,E137,E143:E146,E151:E182,E188:E194,E200,E199,E204:E210,E213:E216,E221:E225,E231,E232,E237,E238,E241,E245:E253)","v":2},0,1,0,0,1,0,0,0,0,0,{"$f":"SUM(P9:P20,P23:P26,P29:P33,P38:P41,P44:P48,P53:P55,P59:P68,P73:P82,P85:P91,P94:P98,P106:P120,P123:P128,P131,P136,P137,P143:P146,P151:P182,P188:P194,P200,P199,P204:P210,P213:P216,P221:P225,P231,P232,P237,P238,P241,P245:P253)","v":0},0,0,0,0,5,1,0,0,0,1,0,0,0,0,0,0,0,0,0,0,1,0,0,0,0,0,1,0,0,0,0,0,0,0,0,0,1,0,0,0,0,1,0,0,0,0,0,0,0,0,0,0,{"$f":"SUM(BQ9:BQ20,BQ23:BQ26,BQ29:BQ33,BQ38:BQ41,BQ44:BQ48,BQ53:BQ55,BQ59:BQ68,BQ73:BQ82,BQ85:BQ91,BQ94:BQ98,BQ106:BQ120,BQ123:BQ128,BQ131,BQ136,BQ137,BQ143:BQ146,BQ151:BQ182,BQ188:BQ194,BQ200,BQ199,BQ204:BQ210,BQ213:BQ216,BQ221:BQ225,BQ231,BQ232,BQ237,BQ238,BQ241,BQ245:BQ253)","v":3},1,0,0,0,1,0,0,0,0,0,0,0,0,0,0,0,0,0,0,0,0,1,0,0,0,0,0,0,0,0]
[null,"ИТОГО по олимпийским видам спорта","247",{"$f":"D256+D257","v":0},{"$f":"E256+E257","v":1},0,1,0,0,1,0,0,0,0,0,0,0,0,0,0,4,1,0,0,0,1,0,0,0,0,0,0,0,0,0,0,1,0,0,0,0,0,1,0,0,0,0,0,0,0,0,0,0,0,0,0,0,1,0,0,0,0,0,0,0,0,0,0,{"$f":"BQ256+BQ257","v":3},1,0,0,0,1,0,0,0,0,0,0,0,0,0,0,0,0,0,0,0,0,1,0,0,0,0,0,0,0,0]
[null,"  в том числе: \n  по летним видам спорта","248",{"$f":"SUM(D19,D20,D23,D30,D33,D41,D48,D55,D61,D65,D67:D68,D76,D79,D90,D98,D114,D116,D120,D128,D131,D137,D146,D160:D162,D164,D177,D178,D182,D188,D194,D200,D208:D210,D213,D216,D232,D241,D246)","v":0},{"$f":"SUM(E19,E20,E23,E30,E33,E41,E48,E55,E61,E65,E67:E68,E76,E79,E90,E98,E114,E116,E120,E128,E131,E137,E146,E160:E162,E164,E177,E178,E182,E188,E194,E200,E208:E210,E213,E216,E232,E241,E246)","v":1},0,1,0,0,1,0,0,0,0,0,0,0,0,0,0,4,1,0,0,0,1,0,0,0,0,0,0,0,0,0,0,1,0,0,0,0,0,1,0,0,0,0,0,0,0,0,0,0,0,0,0,0,1,0,0,0,0,0,0,0,0,0,0,{"$f":"SUM(BQ19,BQ20,BQ23,BQ30,BQ33,BQ41,BQ48,BQ55,BQ61,BQ65,BQ67:BQ68,BQ76,BQ79,BQ90,BQ98,BQ114,BQ116,BQ120,BQ128,BQ131,BQ137,BQ146,BQ160:BQ162,BQ164,BQ177,BQ178,BQ182,BQ188,BQ194,BQ200,BQ208:BQ210,BQ213,BQ216,BQ232,BQ241,BQ246)","v":3},1,0,0,0,1,0,0,0,0,0,0,0,0,0,0,0,0,0,0,0,0,1,0,0,0,0,0,0,0,0]
[null,"  по зимним видам спорта","249",{"$f":"SUM(D24,D26,D63,D82,D91,D106:D107,D136,D158,D176,D221,D225,D238)","v":0},{"$f":"SUM(E24,E26,E63,E82,E91,E106:E107,E136,E158,E176,E221,E225,E238)","v":0},0,0,0,0,0,0,0,0,0,0,0,0,0,0,0,0,0,0,0,0,0,0,0,0,0,0,0,0,0,0,0,0,0,0,0,0,0,0,0,0,0,0,0,0,0,0,0,0,0,0,0,0,0,0,0,0,0,0,0,0,0,0,0,{"$f":"SUM(BQ24,BQ26,BQ63,BQ82,BQ91,BQ106:BQ107,BQ136,BQ158,BQ176,BQ221,BQ225,BQ238)","v":0},0,0,0,0,0,0,0,0,0,0,0,0,0,0,0,0,0,0,0,0,0,0,0,0,0,0,0,0,0,0]
[null,"ИТОГО по неолимпийским видам спорта","250",{"$f":"SUM(D9:D16,D18,D25,D29,D31,D32,D38:D40,D44,D47,D53,D54,D59:D60,D64,D74,D75,D77,D78,D80,D85:D87,D89,D94:D97,D112:D113,D115,D117:D119,D123:D124,D126:D127,D143:D145,D151:D157,D159,D163,D175,D179:D181,D189:D193,D199,D204:D207,D214:D215,D222:D224,D231,D245,D248:D250,D252)","v":0},{"$f":"SUM(E9:E16,E18,E25,E29,E31,E32,E38:E40,E44,E47,E53,E54,E59:E60,E64,E74,E75,E77,E78,E80,E85:E87,E89,E94:E97,E112:E113,E115,E117:E119,E123:E124,E126:E127,E143:E145,E151:E157,E159,E163,E175,E179:E181,E189:E193,E199,E204:E207,E214:E215,E222:E224,E231,E245,E248:E250,E252)","v":1},0,0,0,0,0,0,0,0,0,0,0,0,0,0,0,1,0,0,0,0,0,0,0,0,0,0,0,0,0,0,0,0,0,0,0,0,0,0,0,0,0,0,0,0,0,0,0,1,0,0,0,0,0,0,0,0,0,0,0,0,0,0,0,{"$f":"SUM(BQ9:BQ16,BQ18,BQ25,BQ29,BQ31,BQ32,BQ38:BQ40,BQ44,BQ47,BQ53,BQ54,BQ59:BQ60,BQ64,BQ74,BQ75,BQ77,BQ78,BQ80,BQ85:BQ87,BQ89,BQ94:BQ97,BQ112:BQ113,BQ115,BQ117:BQ119,BQ123:BQ124,BQ126:BQ127,BQ143:BQ145,BQ151:BQ157,BQ159,BQ163,BQ175,BQ179:BQ181,BQ189:BQ193,BQ199,BQ204:BQ207,BQ214:BQ215,BQ222:BQ224,BQ231,BQ245,BQ248:BQ250,BQ252)","v":0},0,0,0,0,0,0,0,0,0,0,0,0,0,0,0,0,0,0,0,0,0,0,0,0,0,0,0,0,0,0]
[null,"ИТОГО по национальным видам спорта","251",{"$f":"SUM(D62,D81,D108,D237,D247,D251,D253)","v":0},{"$f":"SUM(E62,E81,E108,E237,E247,E251,E253)","v":0},0,0,0,0,0,0,0,0,0,0,0,0,0,0,0,0,0,0,0,0,0,0,0,0,0,0,0,0,0,0,0,0,0,0,0,0,0,0,0,0,0,0,0,0,0,0,0,0,0,0,0,0,0,0,0,0,0,0,0,0,0,0,0,{"$f":"SUM(BQ62,BQ81,BQ108,BQ237,BQ247,BQ251,BQ253)","v":0},0,0,0,0,0,0,0,0,0,0,0,0,0,0,0,0,0,0,0,0,0,0,0,0,0,0,0,0,0,0]
[null,"ИТОГО по прикладным видам спорта","252",{"$f":"SUM(D17,D45,D46,D66,D73,D88,D109:D111,D125,D165:D173,D174)","v":0},{"$f":"SUM(E17,E45,E46,E66,E73,E88,E109:E111,E125,E165:E173,E174)","v":0},0,0,0,0,0,0,0,0,0,0,0,0,0,0,0,0,0,0,0,0,0,0,0,0,0,0,0,0,0,0,0,0,0,0,0,0,0,0,0,0,0,0,0,0,0,0,0,0,0,0,0,0,0,0,0,0,0,0,0,0,0,0,0,{"$f":"SUM(BQ17,BQ45,BQ46,BQ66,BQ73,BQ88,BQ109:BQ111,BQ125,BQ165:BQ173,BQ174)","v":0},0,0,0,0,0,0,0,0,0,0,0,0,0,0,0,0,0,0,0,0,0,0,0,0,0,0,0,0,0,0]
[null,"По ведомственной\nпринадлежности:\n   органы управления в сфере\n   образования","253",0,2,0,0,0,0,0,0,0,0,0,0,0,0,0,0,0,5,0,0,0,0,0,0,0,0,0,0,0,0,0,0,0,1,0,0,0,0,0,0,0,0,0,0,0,0,0,0,0,1,0,0,0,0,0,0,0,0,0,0,0,0,0,0,0,3,0,0,0,0,0,0,0,0,0,0,0,0,0,0,0,0,0,0,0,0,0,0,0,0,0,0,0,0,0,0]
[null,"органы управления в сфере физической культуры и спорта","254",0,0,0,1,0,0,1,0,0,0,0,0,0,0,0,0,0,0,1,0,0,0,1,0,0,0,0,0,0,0,0,0,0,0,0,0,0,0,0,1,0,0,0,0,0,0,0,0,0,0,0,0,0,0,1,0,0,0,0,0,0,0,0,0,0,0,1,0,0,0,1,0,0,0,0,0,0,0,0,0,0,0,0,0,0,0,0,1,0,0,0,0,0,0,0,0]
[null,"другая ведомственная принадлежность","255",0,0,0,0,0,0,0,0,0,0,0,0,0,0,0,0,0,0,0,0,0,0,0,0,0,0,0,0,0,0,0,0,0,0,0,0,0,0,0,0,0,0,0,0,0,0,0,0,0,0,0,0,0,0,0,0,0,0,0,0,0,0,0,0,0,0,0,0,0,0,0,0,0,0,0,0,0,0,0,0,0,0,0,0,0,0,0,0,0,0,0,0,0,0,0,0]

{"sheet":"Раздел7","index":7,"n_rows":292,"n_cols":37,"rows_kept":292,"cut":false,"hidden":false,"merged":[[0,0,122,0],[2,1,5,1],[2,2,5,2],[2,36,5,36],[1,28,1,33],[2,3,5,3],[2,4,2,33],[0,1,0,33],[0,34,122,34],[3,4,4,8],[3,9,4,13],[3,14,4,18],[3,19,4,23],[3,24,4,28],[3,29,4,33]]}
[null,"Раздел VII. Всероссийские спортивные соревнования"]
[null,null,null,null,null,null,null,null,null,null,null,null,null,null,null,null,null,null,null,null,null,null,null,null,null,null,null,null,"Коды по ОКЕИ: человек – 792, единица - 642"]
[null,"Виды спорта","№ строки","Всего зани-маю-щихся","Результаты выступлений на соревнованиях",null,null,null,null,null,null,null,null,null,null,null,null,null,null,null,null,null,null,null,null,null,null,null,null,null,null,null,null,null,null,null,"Раздел2 графа3\nЧисло отделений"]
[null,null,null,null,"Всего",null,null,null,null,"Чемпионат России",null,null,null,null,"Первенство России среди юниоров и юниорок",null,null,null,null,"Первенство России среди юношей и девушек",null,null,null,null,"Кубок России",null,null,null,null,"Прочие официальные всероссийские соревнования"]
[]
[null,null,null,null,1,2,3,"4-6","учас-тие",1,2,3,"4-6","учас-тие",1,2,3,"4-6","учас-тие",1,2,3,"4-6","учас-тие",1,2,3,"4-6","учас-тие",1,2,3,"4-6","учас-тие"]
[null,1,2,3,4,5,6,7,8,9,10,11,12,13,14,15,16,17,18,19,20,21,22,23,24,25,26,27,28,29,30,31,32,33]
[null,"Авиамодельный спорт","01",0,0,0,0,0,0,0,0,0,0,0,0,0,0,0,0,0,0,0,0,0,0,0,0,0,0,0,0,0,0,0,null,null,{"$f":"Раздел2!#REF!","v":{"$error":"#REF!"}}]
[null,"Автомобильный спорт","02",0,0,0,0,0,0,0,0,0,0,0,0,0,0,0,0,0,0,0,0,0,0,0,0,0,0,0,0,0,0,0,null,null,{"$f":"Раздел2!#REF!","v":{"$error":"#REF!"}}]
[null,"Автомодельный спорт","03",0,0,0,0,0,0,0,0,0,0,0,0,0,0,0,0,0,0,0,0,0,0,0,0,0,0,0,0,0,0,0,null,null,{"$f":"Раздел2!#REF!","v":{"$error":"#REF!"}}]
[null,"Айкидо","04",0,0,0,0,0,0,0,0,0,0,0,0,0,0,0,0,0,0,0,0,0,0,0,0,0,0,0,0,0,0,0,null,null,{"$f":"Раздел2!#REF!","v":{"$error":"#REF!"}}]
[null,"Айсшток","05",0,0,0,0,0,0,0,0,0,0,0,0,0,0,0,0,0,0,0,0,0,0,0,0,0,0,0,0,0,0,0,null,null,{"$f":"Раздел2!#REF!","v":{"$error":"#REF!"}}]
[null,"Акробатический рок-н-ролл","06",0,0,0,0,0,0,0,0,0,0,0,0,0,0,0,0,0,0,0,0,0,0,0,0,0,0,0,0,0,0,0,null,null,{"$f":"Раздел2!#REF!","v":{"$error":"#REF!"}}]
[null,"Альпинизм","07",0,0,0,0,0,0,0,0,0,0,0,0,0,0,0,0,0,0,0,0,0,0,0,0,0,0,0,0,0,0,0,null,null,{"$f":"Раздел2!#REF!","v":{"$error":"#REF!"}}]
[null,"Американский футбол","08",0,0,0,0,0,0,0,0,0,0,0,0,0,0,0,0,0,0,0,0,0,0,0,0,0,0,0,0,0,0,0,null,null,{"$f":"Раздел2!#REF!","v":{"$error":"#REF!"}}]
[null,"Армейский рукопашный бой","09",0,0,0,0,0,0,0,0,0,0,0,0,0,0,0,0,0,0,0,0,0,0,0,0,0,0,0,0,0,0,0,null,null,{"$f":"Раздел2!#REF!","v":{"$error":"#REF!"}}]
[null,"Армрестлинг","10",0,0,0,0,0,0,0,0,0,0,0,0,0,0,0,0,0,0,0,0,0,0,0,0,0,0,0,0,0,0,0,null,null,{"$f":"Раздел2!#REF!","v":{"$error":"#REF!"}}]
[null,"Бадминтон","11",0,0,0,0,0,0,0,0,0,0,0,0,0,0,0,0,0,0,0,0,0,0,0,0,0,0,0,0,0,0,0,null,null,{"$f":"Раздел2!#REF!","v":{"$error":"#REF!"}}]
[null,"Баскетбол - всего","12",96,0,0,0,0,0,0,0,0,0,0,0,0,0,0,0,0,0,0,0,0,0,0,0,0,0,0,0,0,0,0,null,null,{"$f":"Раздел2!#REF!","v":{"$error":"#REF!"}}]
[null,"в том числе:\nБаскетбол (муж.)","13",52,0,0,0,0,0,0,0,0,0,0,0,0,0,0,0,0,0,0,0,0,0,0,0,0,0,0,0,0,0,0,null,null,{"$f":"Раздел2!#REF!","v":{"$error":"#REF!"}}]
[null,"Баскетбол (жен.)","14",44,0,0,0,0,0,0,0,0,0,0,0,0,0,0,0,0,0,0,0,0,0,0,0,0,0,0,0,0,0,0,null,null,{"$f":"Раздел2!#REF!","v":{"$error":"#REF!"}}]
[null,"Бейсбол","15",0,0,0,0,0,0,0,0,0,0,0,0,0,0,0,0,0,0,0,0,0,0,0,0,0,0,0,0,0,0,0,null,null,{"$f":"Раздел2!#REF!","v":{"$error":"#REF!"}}]
[null,"Биатлон","16",50,1,0,0,0,1,0,0,0,0,0,0,0,0,0,1,0,0,0,0,0,1,0,0,0,0,0,0,0,0,0,null,null,{"$f":"Раздел2!#REF!","v":{"$error":"#REF!"}}]
[null,"Бильярдный спорт","17",0,0,0,0,0,0,0,0,0,0,0,0,0,0,0,0,0,0,0,0,0,0,0,0,0,0,0,0,0,0,0,null,null,{"$f":"Раздел2!#REF!","v":{"$error":"#REF!"}}]
[null,"Бобслей - всего","18",0,0,0,0,0,0,0,0,0,0,0,0,0,0,0,0,0,0,0,0,0,0,0,0,0,0,0,0,0,0,0,null,null,{"$f":"Раздел2!#REF!","v":{"$error":"#REF!"}}]
[null,"в том числе:\nБобслей","19",0,0,0,0,0,0,0,0,0,0,0,0,0,0,0,0,0,0,0,0,0,0,0,0,0,0,0,0,0,0,0,null,null,{"$f":"Раздел2!#REF!","v":{"$error":"#REF!"}}]
[null,"Скелетон","20",0,0,0,0,0,0,0,0,0,0,0,0,0,0,0,0,0,0,0,0,0,0,0,0,0,0,0,0,0,0,0,null,null,{"$f":"Раздел2!#REF!","v":{"$error":"#REF!"}}]
[null,"Бодибилдинг","21",0,0,0,0,0,0,0,0,0,0,0,0,0,0,0,0,0,0,0,0,0,0,0,0,0,0,0,0,0,0,0,null,null,{"$f":"Раздел2!#REF!","v":{"$error":"#REF!"}}]
[null,"Бокс","22",382,0,0,0,0,9,0,0,0,0,0,0,0,0,0,0,0,0,0,0,0,0,0,0,0,0,0,0,0,0,9,null,null,{"$f":"Раздел2!#REF!","v":{"$error":"#REF!"}}]
[null,"Борьба на поясах","23",0,0,0,0,0,0,0,0,0,0,0,0,0,0,0,0,0,0,0,0,0,0,0,0,0,0,0,0,0,0,0,null,null,{"$f":"Раздел2!#REF!","v":{"$error":"#REF!"}}]
[null,"Боулинг","24",0,0,0,0,0,0,0,0,0,0,0,0,0,0,0,0,0,0,0,0,0,0,0,0,0,0,0,0,0,0,0,null,null,{"$f":"Раздел2!#REF!","v":{"$error":"#REF!"}}]
[null,"Велосипедный спорт - всего","25",0,0,0,0,0,0,0,0,0,0,0,0,0,0,0,0,0,0,0,0,0,0,0,0,0,0,0,0,0,0,0,null,null,{"$f":"Раздел2!#REF!","v":{"$error":"#REF!"}}]
[null,"в том числе:\nBMX","26",0,0,0,0,0,0,0,0,0,0,0,0,0,0,0,0,0,0,0,0,0,0,0,0,0,0,0,0,0,0,0]
[null,"Маунтинбайк","27",0,0,0,0,0,0,0,0,0,0,0,0,0,0,0,0,0,0,0,0,0,0,0,0,0,0,0,0,0,0,0]
[null,"Трек","28",0,0,0,0,0,0,0,0,0,0,0,0,0,0,0,0,0,0,0,0,0,0,0,0,0,0,0,0,0,0,0]
[null,"Шоссе","29",0,0,0,0,0,0,0,0,0,0,0,0,0,0,0,0,0,0,0,0,0,0,0,0,0,0,0,0,0,0,0]
[null,"Вертолетный спорт","30",0,0,0,0,0,0,0,0,0,0,0,0,0,0,0,0,0,0,0,0,0,0,0,0,0,0,0,0,0,0,0,null,null,{"$f":"Раздел2!#REF!","v":{"$error":"#REF!"}}]
[null,"Водно-моторный спорт","31",0,0,0,0,0,0,0,0,0,0,0,0,0,0,0,0,0,0,0,0,0,0,0,0,0,0,0,0,0,0,0,null,null,{"$f":"Раздел2!#REF!","v":{"$error":"#REF!"}}]
[null,"Водно-спасательное многоборье","32",0,0,0,0,0,0,0,0,0,0,0,0,0,0,0,0,0,0,0,0,0,0,0,0,0,0,0,0,0,0,0,null,null,{"$f":"Раздел2!#REF!","v":{"$error":"#REF!"}}]
[null,"Водное поло - всего ","33",0,0,0,0,0,0,0,0,0,0,0,0,0,0,0,0,0,0,0,0,0,0,0,0,0,0,0,0,0,0,0,null,null,{"$f":"Раздел2!#REF!","v":{"$error":"#REF!"}}]
[null,"в том числе:\nВодное поло (муж.)","34",0,0,0,0,0,0,0,0,0,0,0,0,0,0,0,0,0,0,0,0,0,0,0,0,0,0,0,0,0,0,0,null,null,{"$f":"Раздел2!#REF!","v":{"$error":"#REF!"}}]
[null,"Водное поло (жен.)","35",0,0,0,0,0,0,0,0,0,0,0,0,0,0,0,0,0,0,0,0,0,0,0,0,0,0,0,0,0,0,0,null,null,{"$f":"Раздел2!#REF!","v":{"$error":"#REF!"}}]
[null,"Воднолыжный спорт","36",0,0,0,0,0,0,0,0,0,0,0,0,0,0,0,0,0,0,0,0,0,0,0,0,0,0,0,0,0,0,0,null,null,{"$f":"Раздел2!#REF!","v":{"$error":"#REF!"}}]
[null,"Военно-прикладной спорт","37",0,0,0,0,0,0,0,0,0,0,0,0,0,0,0,0,0,0,0,0,0,0,0,0,0,0,0,0,0,0,0,null,null,{"$f":"Раздел2!#REF!","v":{"$error":"#REF!"}}]
[null,"Военно-спортивное многоборье","38",0,0,0,0,0,0,0,0,0,0,0,0,0,0,0,0,0,0,0,0,0,0,0,0,0,0,0,0,0,0,0,null,null,{"$f":"Раздел2!#REF!","v":{"$error":"#REF!"}}]
[null,"Воздухоплавательный спорт","39",0,0,0,0,0,0,0,0,0,0,0,0,0,0,0,0,0,0,0,0,0,0,0,0,0,0,0,0,0,0,0,null,null,{"$f":"Раздел2!#REF!","v":{"$error":"#REF!"}}]
[null,"Волейбол - всего","40",1080,0,0,0,0,0,0,0,0,0,0,0,0,0,0,0,0,0,0,0,0,0,0,0,0,0,0,0,0,0,0,null,null,{"$f":"Раздел2!#REF!","v":{"$error":"#REF!"}}]
[null,"в том числе:\nВолейбол (муж.)","41",517,0,0,0,0,0,0,0,0,0,0,0,0,0,0,0,0,0,0,0,0,0,0,0,0,0,0,0,0,0,0,null,null,{"$f":"Раздел2!#REF!","v":{"$error":"#REF!"}}]
[null,"Волейбол (жен.)","42",563,0,0,0,0,0,0,0,0,0,0,0,0,0,0,0,0,0,0,0,0,0,0,0,0,0,0,0,0,0,0,null,null,{"$f":"Раздел2!#REF!","v":{"$error":"#REF!"}}]
[null,"Пляжный волейбол (муж.)","43",0,0,0,0,0,0,0,0,0,0,0,0,0,0,0,0,0,0,0,0,0,0,0,0,0,0,0,0,0,0,0,null,null,{"$f":"Раздел2!#REF!","v":{"$error":"#REF!"}}]
[null,"Пляжный волейбол (жен.)","44",0,0,0,0,0,0,0,0,0,0,0,0,0,0,0,0,0,0,0,0,0,0,0,0,0,0,0,0,0,0,0,null,null,{"$f":"Раздел2!#REF!","v":{"$error":"#REF!"}}]
[null,"Восточное боевое единоборство","45",0,0,0,0,0,0,0,0,0,0,0,0,0,0,0,0,0,0,0,0,0,0,0,0,0,0,0,0,0,0,0,null,null,{"$f":"Раздел2!#REF!","v":{"$error":"#REF!"}}]
[null,"Всестилевое каратэ","46",0,0,0,0,0,0,0,0,0,0,0,0,0,0,0,0,0,0,0,0,0,0,0,0,0,0,0,0,0,0,0,null,null,{"$f":"Раздел2!#REF!","v":{"$error":"#REF!"}}]
[null,"Гандбол - всего","47",428,0,0,0,0,0,0,0,0,0,0,0,0,0,0,0,0,0,0,0,0,0,0,0,0,0,0,0,0,0,0,null,null,{"$f":"Раздел2!#REF!","v":{"$error":"#REF!"}}]
[null,"в том числе:\nГандбол (муж.)","48",205,0,0,0,0,0,0,0,0,0,0,0,0,0,0,0,0,0,0,0,0,0,0,0,0,0,0,0,0,0,0,null,null,{"$f":"Раздел2!#REF!","v":{"$error":"#REF!"}}]
[null,"Гандбол (жен.)","49",223,0,0,0,0,0,0,0,0,0,0,0,0,0,0,0,0,0,0,0,0,0,0,0,0,0,0,0,0,0,0,null,null,{"$f":"Раздел2!#REF!","v":{"$error":"#REF!"}}]
[null,"Пляжный гандбол","50",0,0,0,0,0,0,0,0,0,0,0,0,0,0,0,0,0,0,0,0,0,0,0,0,0,0,0,0,0,0,0,null,null,{"$f":"Раздел2!#REF!","v":{"$error":"#REF!"}}]
[null,"Гиревой спорт","51",35,0,0,0,0,0,0,0,0,0,0,0,0,0,0,0,0,0,0,0,0,0,0,0,0,0,0,0,0,0,0,null,null,{"$f":"Раздел2!#REF!","v":{"$error":"#REF!"}}]
[null,"Го","52",0,0,0,0,0,0,0,0,0,0,0,0,0,0,0,0,0,0,0,0,0,0,0,0,0,0,0,0,0,0,0,null,null,{"$f":"Раздел2!#REF!","v":{"$error":"#REF!"}}]
[null,"Гольф","53",0,0,0,0,0,0,0,0,0,0,0,0,0,0,0,0,0,0,0,0,0,0,0,0,0,0,0,0,0,0,0,null,null,{"$f":"Раздел2!#REF!","v":{"$error":"#REF!"}}]
[null,"Гонки на охотничьих лыжах","54",0,0,0,0,0,0,0,0,0,0,0,0,0,0,0,0,0,0,0,0,0,0,0,0,0,0,0,0,0,0,0,null,null,{"$f":"Раздел2!#REF!","v":{"$error":"#REF!"}}]
[null,"Горнолыжный спорт","55",350,0,0,1,3,16,0,0,0,0,0,0,0,0,0,0,0,0,0,0,0,0,0,0,0,0,0,0,1,3,16,null,null,{"$f":"Раздел2!#REF!","v":{"$error":"#REF!"}}]
[null,"Городошный спорт","56",0,0,0,0,0,0,0,0,0,0,0,0,0,0,0,0,0,0,0,0,0,0,0,0,0,0,0,0,0,0,0,null,null,{"$f":"Раздел2!#REF!","v":{"$error":"#REF!"}}]
[null,"Гребля на байдарках и каноэ","57",0,0,0,0,0,0,0,0,0,0,0,0,0,0,0,0,0,0,0,0,0,0,0,0,0,0,0,0,0,0,0,null,null,{"$f":"Раздел2!#REF!","v":{"$error":"#REF!"}}]
[null,"Гребля на шлюпках","58",0,0,0,0,0,0,0,0,0,0,0,0,0,0,0,0,0,0,0,0,0,0,0,0,0,0,0,0,0,0,0,null,null,{"$f":"Раздел2!#REF!","v":{"$error":"#REF!"}}]
[null,"Гребной слалом","59",37,4,6,2,0,73,0,2,0,0,21,3,3,2,0,22,0,1,0,0,12,1,0,0,0,18,0,0,0,0,0,null,null,{"$f":"Раздел2!#REF!","v":{"$error":"#REF!"}}]
[null,"Гребной спорт - всего","60",0,0,0,0,0,0,0,0,0,0,0,0,0,0,0,0,0,0,0,0,0,0,0,0,0,0,0,0,0,0,0,null,null,{"$f":"Раздел2!#REF!","v":{"$error":"#REF!"}}]
[null,"в том числе:\nАкадемическая гребля","61",0,0,0,0,0,0,0,0,0,0,0,0,0,0,0,0,0,0,0,0,0,0,0,0,0,0,0,0,0,0,0,null,null,{"$f":"Раздел2!#REF!","v":{"$error":"#REF!"}}]
[null,"Гребля-индор","62",0,0,0,0,0,0,0,0,0,0,0,0,0,0,0,0,0,0,0,0,0,0,0,0,0,0,0,0,0,0,0,null,null,{"$f":"Раздел2!#REF!","v":{"$error":"#REF!"}}]
[null,"Народная гребля","63",0,0,0,0,0,0,0,0,0,0,0,0,0,0,0,0,0,0,0,0,0,0,0,0,0,0,0,0,0,0,0,null,null,{"$f":"Раздел2!#REF!","v":{"$error":"#REF!"}}]
[null,"Прибрежная гребля","64",0,0,0,0,0,0,0,0,0,0,0,0,0,0,0,0,0,0,0,0,0,0,0,0,0,0,0,0,0,0,0,null,null,{"$f":"Раздел2!#REF!","v":{"$error":"#REF!"}}]
[null,"Гребно-парусное двоеборье","65",0,0,0,0,0,0,0,0,0,0,0,0,0,0,0,0,0,0,0,0,0,0,0,0,0,0,0,0,0,0,0,null,null,{"$f":"Раздел2!#REF!","v":{"$error":"#REF!"}}]
[null,"Дартс","66",0,0,0,0,0,0,0,0,0,0,0,0,0,0,0,0,0,0,0,0,0,0,0,0,0,0,0,0,0,0,0,null,null,{"$f":"Раздел2!#REF!","v":{"$error":"#REF!"}}]
[null,"Джиу-джитсу","67",0,0,0,0,0,0,0,0,0,0,0,0,0,0,0,0,0,0,0,0,0,0,0,0,0,0,0,0,0,0,0,null,null,{"$f":"Раздел2!#REF!","v":{"$error":"#REF!"}}]
[null,"Дзюдо","68",674,13,11,4,1,51,7,8,2,0,5,0,0,0,0,1,0,0,0,0,0,0,0,0,0,0,6,3,2,1,45,null,null,{"$f":"Раздел2!#REF!","v":{"$error":"#REF!"}}]
[null,"Ездовой спорт","69",0,0,0,0,0,0,0,0,0,0,0,0,0,0,0,0,0,0,0,0,0,0,0,0,0,0,0,0,0,0,0,null,null,{"$f":"Раздел2!#REF!","v":{"$error":"#REF!"}}]
[null,"Капоэйра","70",0,0,0,0,0,0,0,0,0,0,0,0,0,0,0,0,0,0,0,0,0,0,0,0,0,0,0,0,0,0,0,null,null,{"$f":"Раздел2!#REF!","v":{"$error":"#REF!"}}]
[null,"Каратэ","71",0,0,0,0,0,0,0,0,0,0,0,0,0,0,0,0,0,0,0,0,0,0,0,0,0,0,0,0,0,0,0,null,null,{"$f":"Раздел2!#REF!","v":{"$error":"#REF!"}}]
[null,"Кендо","72",0,0,0,0,0,0,0,0,0,0,0,0,0,0,0,0,0,0,0,0,0,0,0,0,0,0,0,0,0,0,0,null,null,{"$f":"Раздел2!#REF!","v":{"$error":"#REF!"}}]
[null,"Керешу","73",0,0,0,0,0,0,0,0,0,0,0,0,0,0,0,0,0,0,0,0,0,0,0,0,0,0,0,0,0,0,0,null,null,{"$f":"Раздел2!#REF!","v":{"$error":"#REF!"}}]
[null,"Кёрлинг - всего","74",0,0,0,0,0,0,0,0,0,0,0,0,0,0,0,0,0,0,0,0,0,0,0,0,0,0,0,0,0,0,0,null,null,{"$f":"Раздел2!#REF!","v":{"$error":"#REF!"}}]
[null,"в том числе:\nКерлинг (муж.)","75",0,0,0,0,0,0,0,0,0,0,0,0,0,0,0,0,0,0,0,0,0,0,0,0,0,0,0,0,0,0,0,null,null,{"$f":"Раздел2!#REF!","v":{"$error":"#REF!"}}]
[null,"Керлинг (жен.)","76",0,0,0,0,0,0,0,0,0,0,0,0,0,0,0,0,0,0,0,0,0,0,0,0,0,0,0,0,0,0,0,null,null,{"$f":"Раздел2!#REF!","v":{"$error":"#REF!"}}]
[null,"Кикбоксинг","77",39,1,2,0,0,6,0,0,0,0,0,0,1,0,0,3,0,0,0,0,0,0,0,0,0,0,1,1,0,0,3,null,null,{"$f":"Раздел2!#REF!","v":{"$error":"#REF!"}}]
[null,"Кинологический спорт","78",0,0,0,0,0,0,0,0,0,0,0,0,0,0,0,0,0,0,0,0,0,0,0,0,0,0,0,0,0,0,0,null,null,{"$f":"Раздел2!#REF!","v":{"$error":"#REF!"}}]
[null,"Киокусинкай","79",0,0,0,0,0,0,0,0,0,0,0,0,0,0,0,0,0,0,0,0,0,0,0,0,0,0,0,0,0,0,0,null,null,{"$f":"Раздел2!#REF!","v":{"$error":"#REF!"}}]
[null,"Комплексное единоборство","80",0,0,0,0,0,0,0,0,0,0,0,0,0,0,0,0,0,0,0,0,0,0,0,0,0,0,0,0,0,0,0,null,null,{"$f":"Раздел2!#REF!","v":{"$error":"#REF!"}}]
[null,"Компьютерный спорт","81",0,0,0,0,0,0,0,0,0,0,0,0,0,0,0,0,0,0,0,0,0,0,0,0,0,0,0,0,0,0,0,null,null,{"$f":"Раздел2!#REF!","v":{"$error":"#REF!"}}]
[null,"Конный спорт","82",105,0,1,1,0,4,0,0,0,0,0,0,0,0,0,0,0,0,0,0,0,0,0,0,0,0,0,1,1,0,4,null,null,{"$f":"Раздел2!#REF!","v":{"$error":"#REF!"}}]
[null,"Конькобежный спорт - всего","83",0,0,0,0,0,0,0,0,0,0,0,0,0,0,0,0,0,0,0,0,0,0,0,0,0,0,0,0,0,0,0,null,null,{"$f":"Раздел2!#REF!","v":{"$error":"#REF!"}}]
[null,"в том числе:\nКонькобежный спорт","84",0,0,0,0,0,0,0,0,0,0,0,0,0,0,0,0,0,0,0,0,0,0,0,0,0,0,0,0,0,0,0,null,null,{"$f":"Раздел2!#REF!","v":{"$error":"#REF!"}}]
[null,"Шорт-трек","85",0,0,0,0,0,0,0,0,0,0,0,0,0,0,0,0,0,0,0,0,0,0,0,0,0,0,0,0,0,0,0,null,null,{"$f":"Раздел2!#REF!","v":{"$error":"#REF!"}}]
[null,"Корэш","86",0,0,0,0,0,0,0,0,0,0,0,0,0,0,0,0,0,0,0,0,0,0,0,0,0,0,0,0,0,0,0,null,null,{"$f":"Раздел2!#REF!","v":{"$error":"#REF!"}}]
[null,"Корфбол","87",0,0,0,0,0,0,0,0,0,0,0,0,0,0,0,0,0,0,0,0,0,0,0,0,0,0,0,0,0,0,0,null,null,{"$f":"Раздел2!#REF!","v":{"$error":"#REF!"}}]
[null,"Кудо","88",0,0,0,0,0,0,0,0,0,0,0,0,0,0,0,0,0,0,0,0,0,0,0,0,0,0,0,0,0,0,0,null,null,{"$f":"Раздел2!#REF!","v":{"$error":"#REF!"}}]
[null,"Лапта","89",0,0,0,0,0,0,0,0,0,0,0,0,0,0,0,0,0,0,0,0,0,0,0,0,0,0,0,0,0,0,0,null,null,{"$f":"Раздел2!#REF!","v":{"$error":"#REF!"}}]
[null,"Легкая атлетика - всего","90",462,0,0,0,0,22,0,0,0,0,0,0,0,0,0,0,0,0,0,0,0,0,0,0,0,0,0,0,0,0,22,null,null,{"$f":"Раздел2!#REF!","v":{"$error":"#REF!"}}]
[null,"в том числе:\nСпринтерский и барьерный бег","91",162,0,0,0,0,12,0,0,0,0,0,0,0,0,0,0,0,0,0,0,0,0,0,0,0,0,0,0,0,0,12,null,null,{"$f":"Раздел2!#REF!","v":{"$error":"#REF!"}}]
[null,"Бег на средние дистанции и бег с препятствиями","92",112,0,0,0,0,7,0,0,0,0,0,0,0,0,0,0,0,0,0,0,0,0,0,0,0,0,0,0,0,0,7,null,null,{"$f":"Раздел2!#REF!","v":{"$error":"#REF!"}}]
[null,"Бег на длинные и сверхдлинные дистанции","93",53,0,0,0,0,0,0,0,0,0,0,0,0,0,0,0,0,0,0,0,0,0,0,0,0,0,0,0,0,0,0,null,null,{"$f":"Раздел2!#REF!","v":{"$error":"#REF!"}}]
[null,"Многоборья","94",87,0,0,0,0,0,0,0,0,0,0,0,0,0,0,0,0,0,0,0,0,0,0,0,0,0,0,0,0,0,0,null,null,{"$f":"Раздел2!#REF!","v":{"$error":"#REF!"}}]
[null,"Прыжки","95",26,0,0,0,0,3,0,0,0,0,0,0,0,0,0,0,0,0,0,0,0,0,0,0,0,0,0,0,0,0,3,null,null,{"$f":"Раздел2!#REF!","v":{"$error":"#REF!"}}]
[null,"Метания","96",10,0,0,0,0,0,0,0,0,0,0,0,0,0,0,0,0,0,0,0,0,0,0,0,0,0,0,0,0,0,0,null,null,{"$f":"Раздел2!#REF!","v":{"$error":"#REF!"}}]
[null,"Спортивная ходьба","97",12,0,0,0,0,0,0,0,0,0,0,0,0,0,0,0,0,0,0,0,0,0,0,0,0,0,0,0,0,0,0,null,null,{"$f":"Раздел2!#REF!","v":{"$error":"#REF!"}}]
[null,"Лыжное двоеборье","98",0,0,0,0,0,0,0,0,0,0,0,0,0,0,0,0,0,0,0,0,0,0,0,0,0,0,0,0,0,0,0,null,null,{"$f":"Раздел2!#REF!","v":{"$error":"#REF!"}}]
[null,"Лыжные гонки","99",293,0,0,0,0,0,0,0,0,0,0,0,0,0,0,0,0,0,0,0,0,0,0,0,0,0,0,0,0,0,0,null,null,{"$f":"Раздел2!#REF!","v":{"$error":"#REF!"}}]
[null,"Мас-рестлинг","100",0,0,0,0,0,0,0,0,0,0,0,0,0,0,0,0,0,0,0,0,0,0,0,0,0,0,0,0,0,0,0,null,null,{"$f":"Раздел2!#REF!","v":{"$error":"#REF!"}}]
[null,"Международное военно-спортивное многоборье","101",0,0,0,0,0,0,0,0,0,0,0,0,0,0,0,0,0,0,0,0,0,0,0,0,0,0,0,0,0,0,0,null,null,{"$f":"Раздел2!#REF!","v":{"$error":"#REF!"}}]
[null,"Многоборье кинологов","102",0,0,0,0,0,0,0,0,0,0,0,0,0,0,0,0,0,0,0,0,0,0,0,0,0,0,0,0,0,0,0,null,null,{"$f":"Раздел2!#REF!","v":{"$error":"#REF!"}}]
[null,"Многоборье спасателей МЧС России","103",0,0,0,0,0,0,0,0,0,0,0,0,0,0,0,0,0,0,0,0,0,0,0,0,0,0,0,0,0,0,0,null,null,{"$f":"Раздел2!#REF!","v":{"$error":"#REF!"}}]
[null,"Морское многоборье","104",0,0,0,0,0,0,0,0,0,0,0,0,0,0,0,0,0,0,0,0,0,0,0,0,0,0,0,0,0,0,0,null,null,{"$f":"Раздел2!#REF!","v":{"$error":"#REF!"}}]
[null,"Мотоциклетный спорт","105",0,0,0,0,0,0,0,0,0,0,0,0,0,0,0,0,0,0,0,0,0,0,0,0,0,0,0,0,0,0,0,null,null,{"$f":"Раздел2!#REF!","v":{"$error":"#REF!"}}]
[null,"Настольный теннис","106",155,0,0,0,0,0,0,0,0,0,0,0,0,0,0,0,0,0,0,0,0,0,0,0,0,0,0,0,0,0,0,null,null,{"$f":"Раздел2!#REF!","v":{"$error":"#REF!"}}]
[null,"Парашютный спорт","107",0,0,0,0,0,0,0,0,0,0,0,0,0,0,0,0,0,0,0,0,0,0,0,0,0,0,0,0,0,0,0,null,null,{"$f":"Раздел2!#REF!","v":{"$error":"#REF!"}}]
[null,"Парусный спорт","108",0,0,0,0,0,0,0,0,0,0,0,0,0,0,0,0,0,0,0,0,0,0,0,0,0,0,0,0,0,0,0,null,null,{"$f":"Раздел2!#REF!","v":{"$error":"#REF!"}}]
[null,"Пауэрлифтинг","109",8,0,0,0,0,0,0,0,0,0,0,0,0,0,0,0,0,0,0,0,0,0,0,0,0,0,0,0,0,0,0,null,null,{"$f":"Раздел2!#REF!","v":{"$error":"#REF!"}}]
[null,"Перетягивание каната","110",0,0,0,0,0,0,0,0,0,0,0,0,0,0,0,0,0,0,0,0,0,0,0,0,0,0,0,0,0,0,0,null,null,{"$f":"Раздел2!#REF!","v":{"$error":"#REF!"}}]
[null,"Петанк","111",0,0,0,0,0,0,0,0,0,0,0,0,0,0,0,0,0,0,0,0,0,0,0,0,0,0,0,0,0,0,0,null,null,{"$f":"Раздел2!#REF!","v":{"$error":"#REF!"}}]
[null,"Плавание - всего","112",139,0,0,0,0,0,0,0,0,0,0,0,0,0,0,0,0,0,0,0,0,0,0,0,0,0,0,0,0,0,0,null,null,{"$f":"Раздел2!#REF!","v":{"$error":"#REF!"}}]
[null,"в том числе:\nПлавание ","113",139,0,0,0,0,0,0,0,0,0,0,0,0,0,0,0,0,0,0,0,0,0,0,0,0,0,0,0,0,0,0,null,null,{"$f":"Раздел2!#REF!","v":{"$error":"#REF!"}}]
[null,"Открытая вода","114",0,0,0,0,0,0,0,0,0,0,0,0,0,0,0,0,0,0,0,0,0,0,0,0,0,0,0,0,0,0,0,null,null,{"$f":"Раздел2!#REF!","v":{"$error":"#REF!"}}]
[null,"Планерный спорт","115",0,0,0,0,0,0,0,0,0,0,0,0,0,0,0,0,0,0,0,0,0,0,0,0,0,0,0,0,0,0,0,null,null,{"$f":"Раздел2!#REF!","v":{"$error":"#REF!"}}]
[null,"Подводный спорт","116",0,0,0,0,0,0,0,0,0,0,0,0,0,0,0,0,0,0,0,0,0,0,0,0,0,0,0,0,0,0,0]
[null,"Пожарно-спасательный спорт","117",0,0,0,0,0,0,0,0,0,0,0,0,0,0,0,0,0,0,0,0,0,0,0,0,0,0,0,0,0,0,0]
[null,"Полиатлон","118",0,0,1,1,0,3,0,0,0,0,1,0,0,0,0,0,0,0,0,0,0,0,0,0,0,0,0,1,1,0,2]
[null,"Практическая стрельба","119",0,0,0,0,0,0,0,0,0,0,0,0,0,0,0,0,0,0,0,0,0,0,0,0,0,0,0,0,0,0,0]
[null,"Прыжки в воду - всего","120",0,0,0,0,0,0,0,0,0,0,0,0,0,0,0,0,0,0,0,0,0,0,0,0,0,0,0,0,0,0,0]
[null,"в том числе:\nПрыжки в воду","121",0,0,0,0,0,0,0,0,0,0,0,0,0,0,0,0,0,0,0,0,0,0,0,0,0,0,0,0,0,0,0]
[null,"Прыжки в открытый водоем","122",0,0,0,0,0,0,0,0,0,0,0,0,0,0,0,0,0,0,0,0,0,0,0,0,0,0,0,0,0,0,0]
[null,"Прыжки на батуте - всего","123",100,0,0,0,0,0,0,0,0,0,0,0,0,0,0,0,0,0,0,0,0,0,0,0,0,0,0,0,0,0,0]
[null,"в том числе:\nАкробатическая дорожка","124",20,0,0,0,0,0,0,0,0,0,0,0,0,0,0,0,0,0,0,0,0,0,0,0,0,0,0,0,0,0,0]
[null,"Двойной минитрамп","125",20,0,0,0,0,0,0,0,0,0,0,0,0,0,0,0,0,0,0,0,0,0,0,0,0,0,0,0,0,0,0]
[null,"Индивидуальные прыжки","126",60,0,0,0,0,0,0,0,0,0,0,0,0,0,0,0,0,0,0,0,0,0,0,0,0,0,0,0,0,0,0]
[null,"Синхронные прыжки","127",0,0,0,0,0,0,0,0,0,0,0,0,0,0,0,0,0,0,0,0,0,0,0,0,0,0,0,0,0,0,0]
[null,"Прыжки на лыжах с трамплина","128",0,0,0,0,0,0,0,0,0,0,0,0,0,0,0,0,0,0,0,0,0,0,0,0,0,0,0,0,0,0,0]
[null,"Пулевая стрельба - всего","129",0,0,0,0,0,0,0,0,0,0,0,0,0,0,0,0,0,0,0,0,0,0,0,0,0,0,0,0,0,0,0]
[null,"в том числе:\nПневматическая винтовка","130",0,0,0,0,0,0,0,0,0,0,0,0,0,0,0,0,0,0,0,0,0,0,0,0,0,0,0,0,0,0,0]
[null,"Пневматический пистолет","131",0,0,0,0,0,0,0,0,0,0,0,0,0,0,0,0,0,0,0,0,0,0,0,0,0,0,0,0,0,0,0]
[null,"Малокалиберная винтовка","132",0,0,0,0,0,0,0,0,0,0,0,0,0,0,0,0,0,0,0,0,0,0,0,0,0,0,0,0,0,0,0]
[null,"Малокалиберный пистолет","133",0,0,0,0,0,0,0,0,0,0,0,0,0,0,0,0,0,0,0,0,0,0,0,0,0,0,0,0,0,0,0]
[null,"Движущаяся мишень","134",0,0,0,0,0,0,0,0,0,0,0,0,0,0,0,0,0,0,0,0,0,0,0,0,0,0,0,0,0,0,0]
[null,"Пэйнтбол","135",0,0,0,0,0,0,0,0,0,0,0,0,0,0,0,0,0,0,0,0,0,0,0,0,0,0,0,0,0,0,0]
[null,"Радиоспорт","136",0,0,0,0,0,0,0,0,0,0,0,0,0,0,0,0,0,0,0,0,0,0,0,0,0,0,0,0,0,0,0]
[null,"Рафтинг","137",0,3,2,2,0,34,1,1,1,0,22,0,0,0,0,0,0,0,0,0,0,0,0,0,0,6,2,1,1,0,6]
[null,"Регби - всего","138",0,0,0,0,0,0,0,0,0,0,0,0,0,0,0,0,0,0,0,0,0,0,0,0,0,0,0,0,0,0,0]
[null,"в том числе:\nРегби","139",0,0,0,0,0,0,0,0,0,0,0,0,0,0,0,0,0,0,0,0,0,0,0,0,0,0,0,0,0,0,0]
[null,"Регби 7 (муж.)","140",0,0,0,0,0,0,0,0,0,0,0,0,0,0,0,0,0,0,0,0,0,0,0,0,0,0,0,0,0,0,0]
[null,"Регби 7 (жен.)","141",0,0,0,0,0,0,0,0,0,0,0,0,0,0,0,0,0,0,0,0,0,0,0,0,0,0,0,0,0,0,0]
[null,"Регби - пляжное","142",0,0,0,0,0,0,0,0,0,0,0,0,0,0,0,0,0,0,0,0,0,0,0,0,0,0,0,0,0,0,0]
[null,"Регбол","143",0,0,0,0,0,0,0,0,0,0,0,0,0,0,0,0,0,0,0,0,0,0,0,0,0,0,0,0,0,0,0]
[null,"Роллер спорт","144",0,0,0,0,0,0,0,0,0,0,0,0,0,0,0,0,0,0,0,0,0,0,0,0,0,0,0,0,0,0,0]
[null,"Рукопашный бой","145",0,0,0,0,0,0,0,0,0,0,0,0,0,0,0,0,0,0,0,0,0,0,0,0,0,0,0,0,0,0,0]
[null,"Рыболовный спорт","146",0,0,0,0,0,0,0,0,0,0,0,0,0,0,0,0,0,0,0,0,0,0,0,0,0,0,0,0,0,0,0]
[null,"Сават","147",0,0,0,0,0,0,0,0,0,0,0,0,0,0,0,0,0,0,0,0,0,0,0,0,0,0,0,0,0,0,0]
[null,"Самбо","148",1359,27,28,49,18,237,2,4,3,1,25,0,0,1,0,9,0,0,0,0,6,1,1,0,1,11,24,23,45,16,186]
[null,"Самолетный спорт","149",0,0,0,0,0,0,0,0,0,0,0,0,0,0,0,0,0,0,0,0,0,0,0,0,0,0,0,0,0,0,0]
[null,"Санный спорт","150",0,0,0,0,0,0,0,0,0,0,0,0,0,0,0,0,0,0,0,0,0,0,0,0,0,0,0,0,0,0,0]
[null,"Северное многоборье","151",0,0,0,0,0,0,0,0,0,0,0,0,0,0,0,0,0,0,0,0,0,0,0,0,0,0,0,0,0,0,0]
[null,"Серфинг","152",0,0,0,0,0,0,0,0,0,0,0,0,0,0,0,0,0,0,0,0,0,0,0,0,0,0,0,0,0,0,0]
[null,"Синхронное плавание","153",0,0,0,0,0,0,0,0,0,0,0,0,0,0,0,0,0,0,0,0,0,0,0,0,0,0,0,0,0,0,0]
[null,"Скалолазание","154",0,0,0,0,0,0,0,0,0,0,0,0,0,0,0,0,0,0,0,0,0,0,0,0,0,0,0,0,0,0,0]
[null,"Сквош","155",0,0,0,0,0,0,0,0,0,0,0,0,0,0,0,0,0,0,0,0,0,0,0,0,0,0,0,0,0,0,0]
[null,"Скейтбординг","156",0,0,0,0,0,0,0,0,0,0,0,0,0,0,0,0,0,0,0,0,0,0,0,0,0,0,0,0,0,0,0]
[null,"Служебно-прикладной спорт","157",0,0,0,0,0,0,0,0,0,0,0,0,0,0,0,0,0,0,0,0,0,0,0,0,0,0,0,0,0,0,0]
[null,"Служебно-прикладной спорт ФСО России","158",0,0,0,0,0,0,0,0,0,0,0,0,0,0,0,0,0,0,0,0,0,0,0,0,0,0,0,0,0,0,0]
[null,"Служебно-прикладной спорт ФТС России","159",0,0,0,0,0,0,0,0,0,0,0,0,0,0,0,0,0,0,0,0,0,0,0,0,0,0,0,0,0,0,0]
[null,"Служебное двоеборье","160",0,0,0,0,0,0,0,0,0,0,0,0,0,0,0,0,0,0,0,0,0,0,0,0,0,0,0,0,0,0,0]
[null,"Служебное единоборство","161",0,0,0,0,0,0,0,0,0,0,0,0,0,0,0,0,0,0,0,0,0,0,0,0,0,0,0,0,0,0,0]
[null,"Служебное многоборье","162",0,0,0,0,0,0,0,0,0,0,0,0,0,0,0,0,0,0,0,0,0,0,0,0,0,0,0,0,0,0,0]
[null,"Служебный биатлон","163",0,0,0,0,0,0,0,0,0,0,0,0,0,0,0,0,0,0,0,0,0,0,0,0,0,0,0,0,0,0,0]
[null,"Спасательный спорт","164",0,0,0,0,0,0,0,0,0,0,0,0,0,0,0,0,0,0,0,0,0,0,0,0,0,0,0,0,0,0,0]
[null,"Стрельба из боевого ручного стрелкового оружия","165",0,0,0,0,0,0,0,0,0,0,0,0,0,0,0,0,0,0,0,0,0,0,0,0,0,0,0,0,0,0,0]
[null,"Стрельба из штатного или табельного оружия","166",0,0,0,0,0,0,0,0,0,0,0,0,0,0,0,0,0,0,0,0,0,0,0,0,0,0,0,0,0,0,0]
[null,"Смешанное боевое единоборство (ММА)","167",0,0,0,0,0,0,0,0,0,0,0,0,0,0,0,0,0,0,0,0,0,0,0,0,0,0,0,0,0,0,0]
[null,"Сноуборд","168",30,0,0,0,0,0,0,0,0,0,0,0,0,0,0,0,0,0,0,0,0,0,0,0,0,0,0,0,0,0,0]
[null,"Современное пятиборье","169",0,0,0,0,0,0,0,0,0,0,0,0,0,0,0,0,0,0,0,0,0,0,0,0,0,0,0,0,0,0,0]
[null,"Софтбол","170",0,0,0,0,0,0,0,0,0,0,0,0,0,0,0,0,0,0,0,0,0,0,0,0,0,0,0,0,0,0,0]
[null,"Спорт сверхлегкой авиации","171",0,0,0,0,0,0,0,0,0,0,0,0,0,0,0,0,0,0,0,0,0,0,0,0,0,0,0,0,0,0,0]
[null,"Спортивная акробатика","172",226,2,4,2,0,17,0,0,0,0,0,0,0,0,0,0,0,0,0,0,0,0,0,0,0,0,2,4,2,0,17]
[null,"Спортивная аэробика","173",0,0,0,0,0,0,0,0,0,0,0,0,0,0,0,0,0,0,0,0,0,0,0,0,0,0,0,0,0,0,0]
[null,"Спортивная борьба - всего","174",1194,13,11,32,40,275,0,0,1,0,4,0,1,1,0,10,0,0,0,0,3,0,0,0,0,0,13,10,30,40,258]
[null,"в том числе:\nВольная борьба","175",78,0,0,0,0,0,0,0,0,0,0,0,0,0,0,0,0,0,0,0,0,0,0,0,0,0,0,0,0,0,0]
[null,"Греко-римская борьба","176",1116,13,11,32,40,275,0,0,1,0,4,0,1,1,0,10,0,0,0,0,3,0,0,0,0,0,13,10,30,40,258]
[null,"Грэпплинг","177",0,0,0,0,0,0,0,0,0,0,0,0,0,0,0,0,0,0,0,0,0,0,0,0,0,0,0,0,0,0,0]
[null,"Грэпплинг-ги","178",0,0,0,0,0,0,0,0,0,0,0,0,0,0,0,0,0,0,0,0,0,0,0,0,0,0,0,0,0,0,0]
[null,"Панкратион","179",0,0,0,0,0,0,0,0,0,0,0,0,0,0,0,0,0,0,0,0,0,0,0,0,0,0,0,0,0,0,0]
[null,"Спортивная гимнастика","180",0,0,0,0,0,0,0,0,0,0,0,0,0,0,0,0,0,0,0,0,0,0,0,0,0,0,0,0,0,0,0]
[null,"Спортивная йога","181",0,0,0,0,0,0,0,0,0,0,0,0,0,0,0,0,0,0,0,0,0,0,0,0,0,0,0,0,0,0,0]
[null,"Спортивно-прикладное собаководство","182",0,0,0,0,0,0,0,0,0,0,0,0,0,0,0,0,0,0,0,0,0,0,0,0,0,0,0,0,0,0,0]
[null,"Спортивное ориентирование","183",114,0,0,0,0,19,0,0,0,0,0,0,0,0,0,3,0,0,0,0,0,0,0,0,0,0,0,0,0,0,16]
[null,"Спортивный бридж","184",0,0,0,0,0,0,0,0,0,0,0,0,0,0,0,0,0,0,0,0,0,0,0,0,0,0,0,0,0,0,0]
[null,"Спортивный туризм","185",0,0,0,0,0,0,0,0,0,0,0,0,0,0,0,0,0,0,0,0,0,0,0,0,0,0,0,0,0,0,0]
[null,"Стендовая стрельба - всего","186",0,0,0,0,0,0,0,0,0,0,0,0,0,0,0,0,0,0,0,0,0,0,0,0,0,0,0,0,0,0,0]
[null,"в том числе:\nТрап","187",0,0,0,0,0,0,0,0,0,0,0,0,0,0,0,0,0,0,0,0,0,0,0,0,0,0,0,0,0,0,0]
[null,"Скит","188",0,0,0,0,0,0,0,0,0,0,0,0,0,0,0,0,0,0,0,0,0,0,0,0,0,0,0,0,0,0,0]
[null,"Дубль-трап","189",0,0,0,0,0,0,0,0,0,0,0,0,0,0,0,0,0,0,0,0,0,0,0,0,0,0,0,0,0,0,0]
[null,"Спортинг","190",0,0,0,0,0,0,0,0,0,0,0,0,0,0,0,0,0,0,0,0,0,0,0,0,0,0,0,0,0,0,0]
[null,"Стрельба из арбалета","191",0,0,0,0,0,0,0,0,0,0,0,0,0,0,0,0,0,0,0,0,0,0,0,0,0,0,0,0,0,0,0]
[null,"Стрельба из лука - всего","192",16,0,0,0,0,0,0,0,0,0,0,0,0,0,0,0,0,0,0,0,0,0,0,0,0,0,0,0,0,0,0]
[null,"в том числе:\nКлассический лук","193",16,0,0,0,0,0,0,0,0,0,0,0,0,0,0,0,0,0,0,0,0,0,0,0,0,0,0,0,0,0,0]
[null,"   Блочный лук","194",0,0,0,0,0,0,0,0,0,0,0,0,0,0,0,0,0,0,0,0,0,0,0,0,0,0,0,0,0,0,0]
[null,"   Ачери ","195",0,0,0,0,0,0,0,0,0,0,0,0,0,0,0,0,0,0,0,0,0,0,0,0,0,0,0,0,0,0,0]
[null,"Судомодельный спорт","196",0,0,0,0,0,0,0,0,0,0,0,0,0,0,0,0,0,0,0,0,0,0,0,0,0,0,0,0,0,0,0]
[null,"Сумо","197",0,0,0,0,0,0,0,0,0,0,0,0,0,0,0,0,0,0,0,0,0,0,0,0,0,0,0,0,0,0,0]
[null,"Тайский бокс","198",0,0,0,0,0,0,0,0,0,0,0,0,0,0,0,0,0,0,0,0,0,0,0,0,0,0,0,0,0,0,0]
[null,"Танцевальный спорт","199",0,0,0,0,0,0,0,0,0,0,0,0,0,0,0,0,0,0,0,0,0,0,0,0,0,0,0,0,0,0,0]
[null,"Теннис","200",0,0,0,0,0,0,0,0,0,0,0,0,0,0,0,0,0,0,0,0,0,0,0,0,0,0,0,0,0,0,0]
[null,"Триатлон","201",0,0,0,0,0,0,0,0,0,0,0,0,0,0,0,0,0,0,0,0,0,0,0,0,0,0,0,0,0,0,0]
[null,"Тхэквондо - всего","202",0,0,0,0,0,0,0,0,0,0,0,0,0,0,0,0,0,0,0,0,0,0,0,0,0,0,0,0,0,0,0]
[null,"в том числе:\nТхэквондо (ГТФ, ИТФ, МФТ)","203",0,0,0,0,0,0,0,0,0,0,0,0,0,0,0,0,0,0,0,0,0,0,0,0,0,0,0,0,0,0,0]
[null,"Тхэквондо (ВТФ)","204",0,0,0,0,0,0,0,0,0,0,0,0,0,0,0,0,0,0,0,0,0,0,0,0,0,0,0,0,0,0,0]
[null,"Тяжелая атлетика","205",0,0,0,0,0,0,0,0,0,0,0,0,0,0,0,0,0,0,0,0,0,0,0,0,0,0,0,0,0,0,0]
[null,"Универсальный бой","206",0,0,0,0,0,0,0,0,0,0,0,0,0,0,0,0,0,0,0,0,0,0,0,0,0,0,0,0,0,0,0]
[null,"Ушу","207",0,0,0,0,0,0,0,0,0,0,0,0,0,0,0,0,0,0,0,0,0,0,0,0,0,0,0,0,0,0,0]
[null,"Фехтование - всего","208",0,0,0,0,0,0,0,0,0,0,0,0,0,0,0,0,0,0,0,0,0,0,0,0,0,0,0,0,0,0,0]
[null,"в том числе:\nРапира","209",0,0,0,0,0,0,0,0,0,0,0,0,0,0,0,0,0,0,0,0,0,0,0,0,0,0,0,0,0,0,0]
[null,"Сабля","210",0,0,0,0,0,0,0,0,0,0,0,0,0,0,0,0,0,0,0,0,0,0,0,0,0,0,0,0,0,0,0]
[null,"Шпага","211",0,0,0,0,0,0,0,0,0,0,0,0,0,0,0,0,0,0,0,0,0,0,0,0,0,0,0,0,0,0,0]
[null,"Арт-фехтование","212",0,0,0,0,0,0,0,0,0,0,0,0,0,0,0,0,0,0,0,0,0,0,0,0,0,0,0,0,0,0,0]
[null,"Фигурное катание на коньках","213",0,0,0,0,0,0,0,0,0,0,0,0,0,0,0,0,0,0,0,0,0,0,0,0,0,0,0,0,0,0,0]
[null,"Фитнес-аэробика","214",0,0,0,0,0,0,0,0,0,0,0,0,0,0,0,0,0,0,0,0,0,0,0,0,0,0,0,0,0,0,0]
[null,"Флаинг диск","215",0,0,0,0,0,0,0,0,0,0,0,0,0,0,0,0,0,0,0,0,0,0,0,0,0,0,0,0,0,0,0]
[null,"Флорбол","216",0,0,0,0,0,0,0,0,0,0,0,0,0,0,0,0,0,0,0,0,0,0,0,0,0,0,0,0,0,0,0]
[null,"Фристайл - всего","217",0,0,0,0,0,0,0,0,0,0,0,0,0,0,0,0,0,0,0,0,0,0,0,0,0,0,0,0,0,0,0]
[null,"в том числе:\nАкробатика","218",0,0,0,0,0,0,0,0,0,0,0,0,0,0,0,0,0,0,0,0,0,0,0,0,0,0,0,0,0,0,0]
[null,"Могул","219",0,0,0,0,0,0,0,0,0,0,0,0,0,0,0,0,0,0,0,0,0,0,0,0,0,0,0,0,0,0,0]
[null,"Ски-кросс","220",0,0,0,0,0,0,0,0,0,0,0,0,0,0,0,0,0,0,0,0,0,0,0,0,0,0,0,0,0,0,0]
[null,"Хаф-пайп","221",0,0,0,0,0,0,0,0,0,0,0,0,0,0,0,0,0,0,0,0,0,0,0,0,0,0,0,0,0,0,0]
[null,"Слоуп-стайл","222",0,0,0,0,0,0,0,0,0,0,0,0,0,0,0,0,0,0,0,0,0,0,0,0,0,0,0,0,0,0,0]
[null,"Функциональное многоборье","223",0,0,0,0,0,0,0,0,0,0,0,0,0,0,0,0,0,0,0,0,0,0,0,0,0,0,0,0,0,0,0]
[null,"Футбол - всего","224",596,0,0,0,0,15,0,0,0,0,0,0,0,0,0,0,0,0,0,0,0,0,0,0,0,0,0,0,0,0,15]
[null,"в том числе:\nФутбол (муж.)","225",585,0,0,0,0,15,0,0,0,0,0,0,0,0,0,0,0,0,0,0,0,0,0,0,0,0,0,0,0,0,15]
[null,"Футбол (жен.)","226",0,0,0,0,0,0,0,0,0,0,0,0,0,0,0,0,0,0,0,0,0,0,0,0,0,0,0,0,0,0,0]
[null,"Мини-футбол (футзал)","227",11,0,0,0,0,0,0,0,0,0,0,0,0,0,0,0,0,0,0,0,0,0,0,0,0,0,0,0,0,0,0]
[null,"Пляжный футбол","228",0,0,0,0,0,0,0,0,0,0,0,0,0,0,0,0,0,0,0,0,0,0,0,0,0,0,0,0,0,0,0]
[null,"Хапсагай","229",0,0,0,0,0,0,0,0,0,0,0,0,0,0,0,0,0,0,0,0,0,0,0,0,0,0,0,0,0,0,0]
[null,"Хоккей - всего","230",100,0,0,0,0,0,0,0,0,0,0,0,0,0,0,0,0,0,0,0,0,0,0,0,0,0,0,0,0,0,0]
[null,"в том числе:\nХоккей (муж.)","231",100,0,0,0,0,0,0,0,0,0,0,0,0,0,0,0,0,0,0,0,0,0,0,0,0,0,0,0,0,0,0]
[null,"Хоккей (жен.)","232",0,0,0,0,0,0,0,0,0,0,0,0,0,0,0,0,0,0,0,0,0,0,0,0,0,0,0,0,0,0,0]
[null,"Хоккей на траве - всего","233",0,0,0,0,0,0,0,0,0,0,0,0,0,0,0,0,0,0,0,0,0,0,0,0,0,0,0,0,0,0,0]
[null,"в том числе:\nХоккей на траве (муж.)","234",0,0,0,0,0,0,0,0,0,0,0,0,0,0,0,0,0,0,0,0,0,0,0,0,0,0,0,0,0,0,0]
[null,"Хоккей на траве (жен.)","235",0,0,0,0,0,0,0,0,0,0,0,0,0,0,0,0,0,0,0,0,0,0,0,0,0,0,0,0,0,0,0]
[null,"Индорхоккей","236",0,0,0,0,0,0,0,0,0,0,0,0,0,0,0,0,0,0,0,0,0,0,0,0,0,0,0,0,0,0,0]
[null,"Хоккей с мячом","237",166,0,0,0,0,27,0,0,0,0,0,0,0,0,0,0,0,0,0,0,0,0,0,0,0,0,0,0,0,0,27]
[null,"Художественная гимнастика","238",232,0,0,0,0,1,0,0,0,0,0,0,0,0,0,0,0,0,0,0,0,0,0,0,0,0,0,0,0,0,1]
[null,"Хуреш","239",0,0,0,0,0,0,0,0,0,0,0,0,0,0,0,0,0,0,0,0,0,0,0,0,0,0,0,0,0,0,0]
[null,"Чир спорт","240",0,0,0,0,0,0,0,0,0,0,0,0,0,0,0,0,0,0,0,0,0,0,0,0,0,0,0,0,0,0,0]
[null,"Шахматы","241",30,0,0,0,0,0,0,0,0,0,0,0,0,0,0,0,0,0,0,0,0,0,0,0,0,0,0,0,0,0,0]
[null,"Шашки","242",0,0,0,0,0,0,0,0,0,0,0,0,0,0,0,0,0,0,0,0,0,0,0,0,0,0,0,0,0,0,0]
[null,"Шодсанлат","243",0,0,0,0,0,0,0,0,0,0,0,0,0,0,0,0,0,0,0,0,0,0,0,0,0,0,0,0,0,0,0]
[null,"Эстетическая гимнастика","244",0,0,0,0,0,0,0,0,0,0,0,0,0,0,0,0,0,0,0,0,0,0,0,0,0,0,0,0,0,0,0]
[null,"Якутские национальные прыжки","245",0,0,0,0,0,0,0,0,0,0,0,0,0,0,0,0,0,0,0,0,0,0,0,0,0,0,0,0,0,0,0]
[null,"ИТОГО","246",8496,64,66,94,62,810,10,15,7,1,78,3,5,4,0,49,0,1,0,0,21,3,1,0,1,35,48,44,83,60,627]
[null,"ИТОГО по олимпийским видам спорта","247",6519,31,29,40,44,467,7,10,3,0,30,3,4,3,0,34,0,1,0,0,15,2,0,0,0,18,19,14,34,44,370]
[null,"  в том числе: \n  по летним видам спорта","248",5696,30,29,39,41,450,7,10,3,0,30,3,4,3,0,33,0,1,0,0,15,1,0,0,0,18,19,14,33,41,354]
[null,"  по зимним видам спорта","249",823,1,0,1,3,17,0,0,0,0,0,0,0,0,0,1,0,0,0,0,0,1,0,0,0,0,0,0,1,3,16]
[null,"ИТОГО по неолимпийским видам спорта","250",1977,33,37,54,18,343,3,5,4,1,48,0,1,1,0,15,0,0,0,0,6,1,1,0,1,17,29,30,49,16,257]
[null,"ИТОГО по национальным видам спорта","251",0,0,0,0,0,0,0,0,0,0,0,0,0,0,0,0,0,0,0,0,0,0,0,0,0,0,0,0,0,0,0]
[null,"ИТОГО по прикладным видам спорта","252",0,0,0,0,0,0,0,0,0,0,0,0,0,0,0,0,0,0,0,0,0,0,0,0,0,0,0,0,0,0,0]
[null,"        По виду организации: \nДЮСШ - отделения, не соответствующие Перечню \"Олимпийский\"","253",7565,16,13,11,4,105,7,5,2,0,0,0,0,0,0,0,0,0,0,0,0,1,0,0,0,0,8,8,9,4,105]
[null,"     из них по \n     ведомственной\n     принадлежности: \nорганы управления в сфере образования","254",6101,13,9,8,1,57,7,5,2,0,0,0,0,0,0,0,0,0,0,0,0,0,0,0,0,0,6,4,6,1,57]
[null,"органы управления в сфере физической культуры и \nспорта","255",1464,3,4,3,3,48,0,0,0,0,0,0,0,0,0,0,0,0,0,0,0,1,0,0,0,0,2,4,3,3,48]
[null,"другая ведомственная принадлежность","256",0,0,0,0,0,0,0,0,0,0,0,0,0,0,0,0,0,0,0,0,0,0,0,0,0,0,0,0,0,0,0]
[null,"СШ - отделения, не соответствующие Перечню \"Олимпийский\"","257",704,7,8,18,24,172,0,0,0,0,3,0,1,0,0,11,0,0,0,0,6,0,0,0,0,1,7,7,18,24,151]
[null,"     из них по \n     ведомственной\n     принадлежности: \nорганы управления в сфере образования","258",0,0,0,0,0,0,0,0,0,0,0,0,0,0,0,0,0,0,0,0,0,0,0,0,0,0,0,0,0,0,0]
[null,"органы управления в сфере физической культуры и \nспорта","259",704,7,8,18,24,172,0,0,0,0,3,0,1,0,0,11,0,0,0,0,6,0,0,0,0,1,7,7,18,24,151]
[null,"другая ведомственная принадлежность","260",0,0,0,0,0,0,0,0,0,0,0,0,0,0,0,0,0,0,0,0,0,0,0,0,0,0,0,0,0,0,0]
[null,"СДЮСШОР - отделения, соответствующие Перечню \"Олимпийский\"","261",0,0,0,0,0,0,0,0,0,0,0,0,0,0,0,0,0,0,0,0,0,0,0,0,0,0,0,0,0,0,0]
[null,"     из них по \n     ведомственной\n     принадлежности:\nорганы управления в сфере образования","262",0,0,0,0,0,0,0,0,0,0,0,0,0,0,0,0,0,0,0,0,0,0,0,0,0,0,0,0,0,0,0]
[null,"органы управления в сфере физической культуры и спорта","263",0,0,0,0,0,0,0,0,0,0,0,0,0,0,0,0,0,0,0,0,0,0,0,0,0,0,0,0,0,0,0]
[null,"другая ведомственная принадлежность","264",0,0,0,0,0,0,0,0,0,0,0,0,0,0,0,0,0,0,0,0,0,0,0,0,0,0,0,0,0,0,0]
[null,"СШОР - отделения, соответствующие Перечню \"Олимпийский\"","265",37,1,3,0,0,46,0,1,0,0,10,0,1,0,0,14,0,1,0,0,12,1,0,0,0,10,0,0,0,0,0]
[null,"     из них по \n     ведомственной\n     принадлежности:\nорганы управления в сфере образования","266",0,0,0,0,0,0,0,0,0,0,0,0,0,0,0,0,0,0,0,0,0,0,0,0,0,0,0,0,0,0,0]
[null,"органы управления в сфере физической культуры и спорта","267",37,1,3,0,0,46,0,1,0,0,10,0,1,0,0,14,0,1,0,0,12,1,0,0,0,10,0,0,0,0,0]
[null,"другая ведомственная принадлежность","268",0,0,0,0,0,0,0,0,0,0,0,0,0,0,0,0,0,0,0,0,0,0,0,0,0,0,0,0,0,0,0]
[null,"УОР","269",0,0,0,0,0,0,0,0,0,0,0,0,0,0,0,0,0,0,0,0,0,0,0,0,0,0,0,0,0,0,0]
[null,"     из них по\n     ведомственной\n     принадлежности:\nорганы управления в сфере образования","270",0,0,0,0,0,0,0,0,0,0,0,0,0,0,0,0,0,0,0,0,0,0,0,0,0,0,0,0,0,0,0]
[null,"органы управления в сфере физической культуры и спорта","271",0,0,0,0,0,0,0,0,0,0,0,0,0,0,0,0,0,0,0,0,0,0,0,0,0,0,0,0,0,0,0]
[null,"другая ведомственная принадлежность","272",0,0,0,0,0,0,0,0,0,0,0,0,0,0,0,0,0,0,0,0,0,0,0,0,0,0,0,0,0,0,0]
[null,"ЦСП","273",0,40,42,65,34,487,3,9,5,1,65,3,3,4,0,24,0,0,0,0,3,1,1,0,1,24,33,29,56,32,371]
[null,"     из них по\n     ведомственной\n     принадлежности:\nорганы управления в сфере образования","274",0,0,0,0,0,0,0,0,0,0,0,0,0,0,0,0,0,0,0,0,0,0,0,0,0,0,0,0,0,0,0]
[null,"органы управления в сфере физической культуры и спорта","275",0,40,42,65,34,487,3,9,5,1,65,3,3,4,0,24,0,0,0,0,3,1,1,0,1,24,33,29,56,32,371]
[null,"другая ведомственная принадлежность","276",0,0,0,0,0,0,0,0,0,0,0,0,0,0,0,0,0,0,0,0,0,0,0,0,0,0,0,0,0,0,0]
[null,"ЦОП","277",0,0,0,0,0,0,0,0,0,0,0,0,0,0,0,0,0,0,0,0,0,0,0,0,0,0,0,0,0,0,0]
[null,"     из них по\n     ведомственной\n     принадлежности:\nорганы управления в сфере образования","278",0,0,0,0,0,0,0,0,0,0,0,0,0,0,0,0,0,0,0,0,0,0,0,0,0,0,0,0,0,0,0]
[null,"органы управления в сфере физической культуры и спорта","279",0,0,0,0,0,0,0,0,0,0,0,0,0,0,0,0,0,0,0,0,0,0,0,0,0,0,0,0,0,0,0]
[null,"другая ведомственная принадлежность","280",0,0,0,0,0,0,0,0,0,0,0,0,0,0,0,0,0,0,0,0,0,0,0,0,0,0,0,0,0,0,0]
[null,"Другие организации","281",190,0,0,0,0,0,0,0,0,0,0,0,0,0,0,0,0,0,0,0,0,0,0,0,0,0,0,0,0,0,0]
[null,"     из них по\n     ведомственной\n     принадлежности:\nорганы управления в сфере образования","282",190,0,0,0,0,0,0,0,0,0,0,0,0,0,0,0,0,0,0,0,0,0,0,0,0,0,0,0,0,0,0]
[null,"органы управления в сфере физической культуры и спорта","283",0,0,0,0,0,0,0,0,0,0,0,0,0,0,0,0,0,0,0,0,0,0,0,0,0,0,0,0,0,0,0]
[null,"другая ведомственная принадлежность","284",0,0,0,0,0,0,0,0,0,0,0,0,0,0,0,0,0,0,0,0,0,0,0,0,0,0,0,0,0,0,0]
[null,null,null,0,0,0,0,0,0,0,0,0,0,0,0,0,0,0,0,0,0,0,0,0,0,0,0,0,0,0,0,0,0,0]

{"sheet":"Раздел8","index":8,"n_rows":292,"n_cols":62,"rows_kept":292,"cut":false,"hidden":false,"merged":[[0,59,122,59],[2,61,5,61],[3,4,4,8],[3,9,4,13],[3,19,4,23],[3,24,4,28],[3,29,4,33],[3,34,4,38],[3,39,4,43],[3,44,4,48],[3,49,4,53],[3,54,4,58],[1,51,1,58],[2,34,2,58],[0,0,122,0],[2,1,5,1],[2,2,5,2],[0,1,0,33],[2,3,5,3],[2,4,2,33],[1,24,1,33],[3,14,4,18]]}
[null,"Раздел VIII. Международные спортивные соревнования"]
[null,null,null,null,null,null,null,null,null,null,null,null,null,null,null,null,null,null,null,null,null,null,null,null,"Коды по ОКЕИ: человек - 792, единица - 642"]
[null,"Виды спорта","№ строки","Всего зани-маю-щихся","Результаты выступлений на соревнованиях",null,null,null,null,null,null,null,null,null,null,null,null,null,null,null,null,null,null,null,null,null,null,null,null,null,null,null,null,null,"Результаты выступлений на соревнованиях",null,null,null,null,null,null,null,null,null,null,null,null,null,null,null,null,null,null,null,null,null,null,null,null,null,null,"Раздел2 графа3\nЧисло отделений"]
[null,null,null,null,"Всего",null,null,null,null,"Олимпийские игры",null,null,null,null,"Чемпионат мира",null,null,null,null,"Юношеские Олимпийские игры",null,null,null,null,"Первенство мира",null,null,null,null,"Кубок мира",null,null,null,null,"Этапы Кубка мира",null,null,null,null,"Чемпионат Европы",null,null,null,null,"Первенство Европы",null,null,null,null,"Кубок Европы",null,null,null,null,"Прочие официальные между-народные соревнования"]
[]
[null,null,null,null,1,2,3,"4-6","учас-тие",1,2,3,"4-6","учас-тие",1,2,3,"4-6","учас-тие",1,2,3,"4-6","учас-тие",1,2,3,"4-6","учас-тие",1,2,3,"4-6","учас-тие",1,2,3,"4-6","учас-тие",1,2,3,"4-6","учас-тие",1,2,3,"4-6","учас-тие",1,2,3,"4-6","учас-тие",1,2,3,"4-6","учас-тие"]
[null,1,2,3,4,5,6,7,8,9,10,11,12,13,14,15,16,17,18,19,20,21,22,23,24,25,26,27,28,29,30,31,32,33,34,35,36,37,38,39,40,41,42,43,44,45,46,47,48,49,50,51,52,53,54,55,56,57,58]
[null,"Авиамодельный спорт","01",0,0,0,0,0,0,0,0,0,0,0,0,0,0,0,0,0,0,0,0,0,0,0,0,0,0,0,0,0,0,0,0,0,0,0,0,0,0,0,0,0,0,0,0,0,0,0,0,0,0,0,0,0,0,0,0,null,null,{"$f":"Раздел2!#REF!","v":{"$error":"#REF!"}}]
[null,"Автомобильный спорт","02",0,0,0,0,0,0,0,0,0,0,0,0,0,0,0,0,0,0,0,0,0,0,0,0,0,0,0,0,0,0,0,0,0,0,0,0,0,0,0,0,0,0,0,0,0,0,0,0,0,0,0,0,0,0,0,0,null,null,{"$f":"Раздел2!#REF!","v":{"$error":"#REF!"}}]
[null,"Автомодельный спорт","03",0,0,0,0,0,0,0,0,0,0,0,0,0,0,0,0,0,0,0,0,0,0,0,0,0,0,0,0,0,0,0,0,0,0,0,0,0,0,0,0,0,0,0,0,0,0,0,0,0,0,0,0,0,0,0,0,null,null,{"$f":"Раздел2!#REF!","v":{"$error":"#REF!"}}]
[null,"Айкидо","04",0,0,0,0,0,0,0,0,0,0,0,0,0,0,0,0,0,0,0,0,0,0,0,0,0,0,0,0,0,0,0,0,0,0,0,0,0,0,0,0,0,0,0,0,0,0,0,0,0,0,0,0,0,0,0,0,null,null,{"$f":"Раздел2!#REF!","v":{"$error":"#REF!"}}]
[null,"Айсшток","05",0,0,0,0,0,0,0,0,0,0,0,0,0,0,0,0,0,0,0,0,0,0,0,0,0,0,0,0,0,0,0,0,0,0,0,0,0,0,0,0,0,0,0,0,0,0,0,0,0,0,0,0,0,0,0,0,null,null,{"$f":"Раздел2!#REF!","v":{"$error":"#REF!"}}]
[null,"Акробатический рок-н-ролл","06",0,0,0,0,0,0,0,0,0,0,0,0,0,0,0,0,0,0,0,0,0,0,0,0,0,0,0,0,0,0,0,0,0,0,0,0,0,0,0,0,0,0,0,0,0,0,0,0,0,0,0,0,0,0,0,0,null,null,{"$f":"Раздел2!#REF!","v":{"$error":"#REF!"}}]
[null,"Альпинизм","07",0,0,0,0,0,0,0,0,0,0,0,0,0,0,0,0,0,0,0,0,0,0,0,0,0,0,0,0,0,0,0,0,0,0,0,0,0,0,0,0,0,0,0,0,0,0,0,0,0,0,0,0,0,0,0,0,null,null,{"$f":"Раздел2!#REF!","v":{"$error":"#REF!"}}]
[null,"Американский футбол","08",0,0,0,0,0,0,0,0,0,0,0,0,0,0,0,0,0,0,0,0,0,0,0,0,0,0,0,0,0,0,0,0,0,0,0,0,0,0,0,0,0,0,0,0,0,0,0,0,0,0,0,0,0,0,0,0,null,null,{"$f":"Раздел2!#REF!","v":{"$error":"#REF!"}}]
[null,"Армейский рукопашный бой","09",0,0,0,0,0,0,0,0,0,0,0,0,0,0,0,0,0,0,0,0,0,0,0,0,0,0,0,0,0,0,0,0,0,0,0,0,0,0,0,0,0,0,0,0,0,0,0,0,0,0,0,0,0,0,0,0,null,null,{"$f":"Раздел2!#REF!","v":{"$error":"#REF!"}}]
[null,"Армрестлинг","10",0,0,0,0,0,0,0,0,0,0,0,0,0,0,0,0,0,0,0,0,0,0,0,0,0,0,0,0,0,0,0,0,0,0,0,0,0,0,0,0,0,0,0,0,0,0,0,0,0,0,0,0,0,0,0,0,null,null,{"$f":"Раздел2!#REF!","v":{"$error":"#REF!"}}]
[null,"Бадминтон","11",0,0,0,0,0,0,0,0,0,0,0,0,0,0,0,0,0,0,0,0,0,0,0,0,0,0,0,0,0,0,0,0,0,0,0,0,0,0,0,0,0,0,0,0,0,0,0,0,0,0,0,0,0,0,0,0,null,null,{"$f":"Раздел2!#REF!","v":{"$error":"#REF!"}}]
[null,"Баскетбол - всего","12",96,0,0,0,0,0,0,0,0,0,0,0,0,0,0,0,0,0,0,0,0,0,0,0,0,0,0,0,0,0,0,0,0,0,0,0,0,0,0,0,0,0,0,0,0,0,0,0,0,0,0,0,0,0,0,0,null,null,{"$f":"Раздел2!#REF!","v":{"$error":"#REF!"}}]
[null,"в том числе:\nБаскетбол (муж.)","13",52,0,0,0,0,0,0,0,0,0,0,0,0,0,0,0,0,0,0,0,0,0,0,0,0,0,0,0,0,0,0,0,0,0,0,0,0,0,0,0,0,0,0,0,0,0,0,0,0,0,0,0,0,0,0,0,null,null,{"$f":"Раздел2!#REF!","v":{"$error":"#REF!"}}]
[null,"Баскетбол (жен.)","14",44,0,0,0,0,0,0,0,0,0,0,0,0,0,0,0,0,0,0,0,0,0,0,0,0,0,0,0,0,0,0,0,0,0,0,0,0,0,0,0,0,0,0,0,0,0,0,0,0,0,0,0,0,0,0,0,null,null,{"$f":"Раздел2!#REF!","v":{"$error":"#REF!"}}]
[null,"Бейсбол","15",0,0,0,0,0,0,0,0,0,0,0,0,0,0,0,0,0,0,0,0,0,0,0,0,0,0,0,0,0,0,0,0,0,0,0,0,0,0,0,0,0,0,0,0,0,0,0,0,0,0,0,0,0,0,0,0,null,null,{"$f":"Раздел2!#REF!","v":{"$error":"#REF!"}}]
[null,"Биатлон","16",50,0,0,0,0,0,0,0,0,0,0,0,0,0,0,0,0,0,0,0,0,0,0,0,0,0,0,0,0,0,0,0,0,0,0,0,0,0,0,0,0,0,0,0,0,0,0,0,0,0,0,0,0,0,0,0,null,null,{"$f":"Раздел2!#REF!","v":{"$error":"#REF!"}}]
[null,"Бильярдный спорт","17",0,0,0,0,0,0,0,0,0,0,0,0,0,0,0,0,0,0,0,0,0,0,0,0,0,0,0,0,0,0,0,0,0,0,0,0,0,0,0,0,0,0,0,0,0,0,0,0,0,0,0,0,0,0,0,0,null,null,{"$f":"Раздел2!#REF!","v":{"$error":"#REF!"}}]
[null,"Бобслей - всего","18",0,0,0,0,0,0,0,0,0,0,0,0,0,0,0,0,0,0,0,0,0,0,0,0,0,0,0,0,0,0,0,0,0,0,0,0,0,0,0,0,0,0,0,0,0,0,0,0,0,0,0,0,0,0,0,0,null,null,{"$f":"Раздел2!#REF!","v":{"$error":"#REF!"}}]
[null,"в том числе:\nБобслей","19",0,0,0,0,0,0,0,0,0,0,0,0,0,0,0,0,0,0,0,0,0,0,0,0,0,0,0,0,0,0,0,0,0,0,0,0,0,0,0,0,0,0,0,0,0,0,0,0,0,0,0,0,0,0,0,0,null,null,{"$f":"Раздел2!#REF!","v":{"$error":"#REF!"}}]
[null,"Скелетон","20",0,0,0,0,0,0,0,0,0,0,0,0,0,0,0,0,0,0,0,0,0,0,0,0,0,0,0,0,0,0,0,0,0,0,0,0,0,0,0,0,0,0,0,0,0,0,0,0,0,0,0,0,0,0,0,0,null,null,{"$f":"Раздел2!#REF!","v":{"$error":"#REF!"}}]
[null,"Бодибилдинг","21",0,0,0,0,0,0,0,0,0,0,0,0,0,0,0,0,0,0,0,0,0,0,0,0,0,0,0,0,0,0,0,0,0,0,0,0,0,0,0,0,0,0,0,0,0,0,0,0,0,0,0,0,0,0,0,0,null,null,{"$f":"Раздел2!#REF!","v":{"$error":"#REF!"}}]
[null,"Бокс","22",382,0,0,0,0,0,0,0,0,0,0,0,0,0,0,0,0,0,0,0,0,0,0,0,0,0,0,0,0,0,0,0,0,0,0,0,0,0,0,0,0,0,0,0,0,0,0,0,0,0,0,0,0,0,0,0,null,null,{"$f":"Раздел2!#REF!","v":{"$error":"#REF!"}}]
[null,"Борьба на поясах","23",0,0,0,0,0,0,0,0,0,0,0,0,0,0,0,0,0,0,0,0,0,0,0,0,0,0,0,0,0,0,0,0,0,0,0,0,0,0,0,0,0,0,0,0,0,0,0,0,0,0,0,0,0,0,0,0,null,null,{"$f":"Раздел2!#REF!","v":{"$error":"#REF!"}}]
[null,"Боулинг","24",0,0,0,0,0,0,0,0,0,0,0,0,0,0,0,0,0,0,0,0,0,0,0,0,0,0,0,0,0,0,0,0,0,0,0,0,0,0,0,0,0,0,0,0,0,0,0,0,0,0,0,0,0,0,0,0,null,null,{"$f":"Раздел2!#REF!","v":{"$error":"#REF!"}}]
[null,"Велосипедный спорт - всего","25",0,0,0,0,0,0,0,0,0,0,0,0,0,0,0,0,0,0,0,0,0,0,0,0,0,0,0,0,0,0,0,0,0,0,0,0,0,0,0,0,0,0,0,0,0,0,0,0,0,0,0,0,0,0,0,0,null,null,{"$f":"Раздел2!#REF!","v":{"$error":"#REF!"}}]
[null,"в том числе:\nBMX","26",0,0,0,0,0,0,0,0,0,0,0,0,0,0,0,0,0,0,0,0,0,0,0,0,0,0,0,0,0,0,0,0,0,0,0,0,0,0,0,0,0,0,0,0,0,0,0,0,0,0,0,0,0,0,0,0]
[null,"Маунтинбайк","27",0,0,0,0,0,0,0,0,0,0,0,0,0,0,0,0,0,0,0,0,0,0,0,0,0,0,0,0,0,0,0,0,0,0,0,0,0,0,0,0,0,0,0,0,0,0,0,0,0,0,0,0,0,0,0,0]
[null,"Трек","28",0,0,0,0,0,0,0,0,0,0,0,0,0,0,0,0,0,0,0,0,0,0,0,0,0,0,0,0,0,0,0,0,0,0,0,0,0,0,0,0,0,0,0,0,0,0,0,0,0,0,0,0,0,0,0,0]
[null,"Шоссе","29",0,0,0,0,0,0,0,0,0,0,0,0,0,0,0,0,0,0,0,0,0,0,0,0,0,0,0,0,0,0,0,0,0,0,0,0,0,0,0,0,0,0,0,0,0,0,0,0,0,0,0,0,0,0,0,0]
[null,"Вертолетный спорт","30",0,0,0,0,0,0,0,0,0,0,0,0,0,0,0,0,0,0,0,0,0,0,0,0,0,0,0,0,0,0,0,0,0,0,0,0,0,0,0,0,0,0,0,0,0,0,0,0,0,0,0,0,0,0,0,0,null,null,{"$f":"Раздел2!#REF!","v":{"$error":"#REF!"}}]
[null,"Водно-моторный спорт","31",0,0,0,0,0,0,0,0,0,0,0,0,0,0,0,0,0,0,0,0,0,0,0,0,0,0,0,0,0,0,0,0,0,0,0,0,0,0,0,0,0,0,0,0,0,0,0,0,0,0,0,0,0,0,0,0,null,null,{"$f":"Раздел2!#REF!","v":{"$error":"#REF!"}}]
[null,"Водно-спасательное многоборье","32",0,0,0,0,0,0,0,0,0,0,0,0,0,0,0,0,0,0,0,0,0,0,0,0,0,0,0,0,0,0,0,0,0,0,0,0,0,0,0,0,0,0,0,0,0,0,0,0,0,0,0,0,0,0,0,0,null,null,{"$f":"Раздел2!#REF!","v":{"$error":"#REF!"}}]
[null,"Водное поло - всего ","33",0,0,0,0,0,0,0,0,0,0,0,0,0,0,0,0,0,0,0,0,0,0,0,0,0,0,0,0,0,0,0,0,0,0,0,0,0,0,0,0,0,0,0,0,0,0,0,0,0,0,0,0,0,0,0,0,null,null,{"$f":"Раздел2!#REF!","v":{"$error":"#REF!"}}]
[null,"в том числе:\nВодное поло (муж.)","34",0,0,0,0,0,0,0,0,0,0,0,0,0,0,0,0,0,0,0,0,0,0,0,0,0,0,0,0,0,0,0,0,0,0,0,0,0,0,0,0,0,0,0,0,0,0,0,0,0,0,0,0,0,0,0,0,null,null,{"$f":"Раздел2!#REF!","v":{"$error":"#REF!"}}]
[null,"Водное поло (жен.)","35",0,0,0,0,0,0,0,0,0,0,0,0,0,0,0,0,0,0,0,0,0,0,0,0,0,0,0,0,0,0,0,0,0,0,0,0,0,0,0,0,0,0,0,0,0,0,0,0,0,0,0,0,0,0,0,0,null,null,{"$f":"Раздел2!#REF!","v":{"$error":"#REF!"}}]
[null,"Воднолыжный спорт","36",0,0,0,0,0,0,0,0,0,0,0,0,0,0,0,0,0,0,0,0,0,0,0,0,0,0,0,0,0,0,0,0,0,0,0,0,0,0,0,0,0,0,0,0,0,0,0,0,0,0,0,0,0,0,0,0,null,null,{"$f":"Раздел2!#REF!","v":{"$error":"#REF!"}}]
[null,"Военно-прикладной спорт","37",0,0,0,0,0,0,0,0,0,0,0,0,0,0,0,0,0,0,0,0,0,0,0,0,0,0,0,0,0,0,0,0,0,0,0,0,0,0,0,0,0,0,0,0,0,0,0,0,0,0,0,0,0,0,0,0,null,null,{"$f":"Раздел2!#REF!","v":{"$error":"#REF!"}}]
[null,"Военно-спортивное многоборье","38",0,0,0,0,0,0,0,0,0,0,0,0,0,0,0,0,0,0,0,0,0,0,0,0,0,0,0,0,0,0,0,0,0,0,0,0,0,0,0,0,0,0,0,0,0,0,0,0,0,0,0,0,0,0,0,0,null,null,{"$f":"Раздел2!#REF!","v":{"$error":"#REF!"}}]
[null,"Воздухоплавательный спорт","39",0,0,0,0,0,0,0,0,0,0,0,0,0,0,0,0,0,0,0,0,0,0,0,0,0,0,0,0,0,0,0,0,0,0,0,0,0,0,0,0,0,0,0,0,0,0,0,0,0,0,0,0,0,0,0,0,null,null,{"$f":"Раздел2!#REF!","v":{"$error":"#REF!"}}]
[null,"Волейбол - всего","40",1080,0,0,0,0,0,0,0,0,0,0,0,0,0,0,0,0,0,0,0,0,0,0,0,0,0,0,0,0,0,0,0,0,0,0,0,0,0,0,0,0,0,0,0,0,0,0,0,0,0,0,0,0,0,0,0,null,null,{"$f":"Раздел2!#REF!","v":{"$error":"#REF!"}}]
[null,"в том числе:\nВолейбол (муж.)","41",517,0,0,0,0,0,0,0,0,0,0,0,0,0,0,0,0,0,0,0,0,0,0,0,0,0,0,0,0,0,0,0,0,0,0,0,0,0,0,0,0,0,0,0,0,0,0,0,0,0,0,0,0,0,0,0,null,null,{"$f":"Раздел2!#REF!","v":{"$error":"#REF!"}}]
[null,"Волейбол (жен.)","42",563,0,0,0,0,0,0,0,0,0,0,0,0,0,0,0,0,0,0,0,0,0,0,0,0,0,0,0,0,0,0,0,0,0,0,0,0,0,0,0,0,0,0,0,0,0,0,0,0,0,0,0,0,0,0,0,null,null,{"$f":"Раздел2!#REF!","v":{"$error":"#REF!"}}]
[null,"Пляжный волейбол (муж.)","43",0,0,0,0,0,0,0,0,0,0,0,0,0,0,0,0,0,0,0,0,0,0,0,0,0,0,0,0,0,0,0,0,0,0,0,0,0,0,0,0,0,0,0,0,0,0,0,0,0,0,0,0,0,0,0,0,null,null,{"$f":"Раздел2!#REF!","v":{"$error":"#REF!"}}]
[null,"Пляжный волейбол (жен.)","44",0,0,0,0,0,0,0,0,0,0,0,0,0,0,0,0,0,0,0,0,0,0,0,0,0,0,0,0,0,0,0,0,0,0,0,0,0,0,0,0,0,0,0,0,0,0,0,0,0,0,0,0,0,0,0,0,null,null,{"$f":"Раздел2!#REF!","v":{"$error":"#REF!"}}]
[null,"Восточное боевое единоборство","45",0,0,0,0,0,0,0,0,0,0,0,0,0,0,0,0,0,0,0,0,0,0,0,0,0,0,0,0,0,0,0,0,0,0,0,0,0,0,0,0,0,0,0,0,0,0,0,0,0,0,0,0,0,0,0,0,null,null,{"$f":"Раздел2!#REF!","v":{"$error":"#REF!"}}]
[null,"Всестилевое каратэ","46",0,0,0,0,0,0,0,0,0,0,0,0,0,0,0,0,0,0,0,0,0,0,0,0,0,0,0,0,0,0,0,0,0,0,0,0,0,0,0,0,0,0,0,0,0,0,0,0,0,0,0,0,0,0,0,0,null,null,{"$f":"Раздел2!#REF!","v":{"$error":"#REF!"}}]
[null,"Гандбол - всего","47",428,0,0,0,0,0,0,0,0,0,0,0,0,0,0,0,0,0,0,0,0,0,0,0,0,0,0,0,0,0,0,0,0,0,0,0,0,0,0,0,0,0,0,0,0,0,0,0,0,0,0,0,0,0,0,0,null,null,{"$f":"Раздел2!#REF!","v":{"$error":"#REF!"}}]
[null,"в том числе:\nГандбол (муж.)","48",205,0,0,0,0,0,0,0,0,0,0,0,0,0,0,0,0,0,0,0,0,0,0,0,0,0,0,0,0,0,0,0,0,0,0,0,0,0,0,0,0,0,0,0,0,0,0,0,0,0,0,0,0,0,0,0,null,null,{"$f":"Раздел2!#REF!","v":{"$error":"#REF!"}}]
[null,"Гандбол (жен.)","49",223,0,0,0,0,0,0,0,0,0,0,0,0,0,0,0,0,0,0,0,0,0,0,0,0,0,0,0,0,0,0,0,0,0,0,0,0,0,0,0,0,0,0,0,0,0,0,0,0,0,0,0,0,0,0,0,null,null,{"$f":"Раздел2!#REF!","v":{"$error":"#REF!"}}]
[null,"Пляжный гандбол","50",0,0,0,0,0,0,0,0,0,0,0,0,0,0,0,0,0,0,0,0,0,0,0,0,0,0,0,0,0,0,0,0,0,0,0,0,0,0,0,0,0,0,0,0,0,0,0,0,0,0,0,0,0,0,0,0,null,null,{"$f":"Раздел2!#REF!","v":{"$error":"#REF!"}}]
[null,"Гиревой спорт","51",35,0,0,0,0,0,0,0,0,0,0,0,0,0,0,0,0,0,0,0,0,0,0,0,0,0,0,0,0,0,0,0,0,0,0,0,0,0,0,0,0,0,0,0,0,0,0,0,0,0,0,0,0,0,0,0,null,null,{"$f":"Раздел2!#REF!","v":{"$error":"#REF!"}}]
[null,"Го","52",0,0,0,0,0,0,0,0,0,0,0,0,0,0,0,0,0,0,0,0,0,0,0,0,0,0,0,0,0,0,0,0,0,0,0,0,0,0,0,0,0,0,0,0,0,0,0,0,0,0,0,0,0,0,0,0,null,null,{"$f":"Раздел2!#REF!","v":{"$error":"#REF!"}}]
[null,"Гольф","53",0,0,0,0,0,0,0,0,0,0,0,0,0,0,0,0,0,0,0,0,0,0,0,0,0,0,0,0,0,0,0,0,0,0,0,0,0,0,0,0,0,0,0,0,0,0,0,0,0,0,0,0,0,0,0,0,null,null,{"$f":"Раздел2!#REF!","v":{"$error":"#REF!"}}]
[null,"Гонки на охотничьих лыжах","54",0,0,0,0,0,0,0,0,0,0,0,0,0,0,0,0,0,0,0,0,0,0,0,0,0,0,0,0,0,0,0,0,0,0,0,0,0,0,0,0,0,0,0,0,0,0,0,0,0,0,0,0,0,0,0,0,null,null,{"$f":"Раздел2!#REF!","v":{"$error":"#REF!"}}]
[null,"Горнолыжный спорт","55",350,0,0,0,0,0,0,0,0,0,0,0,0,0,0,0,0,0,0,0,0,0,0,0,0,0,0,0,0,0,0,0,0,0,0,0,0,0,0,0,0,0,0,0,0,0,0,0,0,0,0,0,0,0,0,0,null,null,{"$f":"Раздел2!#REF!","v":{"$error":"#REF!"}}]
[null,"Городошный спорт","56",0,0,0,0,0,0,0,0,0,0,0,0,0,0,0,0,0,0,0,0,0,0,0,0,0,0,0,0,0,0,0,0,0,0,0,0,0,0,0,0,0,0,0,0,0,0,0,0,0,0,0,0,0,0,0,0,null,null,{"$f":"Раздел2!#REF!","v":{"$error":"#REF!"}}]
[null,"Гребля на байдарках и каноэ","57",0,0,0,0,0,0,0,0,0,0,0,0,0,0,0,0,0,0,0,0,0,0,0,0,0,0,0,0,0,0,0,0,0,0,0,0,0,0,0,0,0,0,0,0,0,0,0,0,0,0,0,0,0,0,0,0,null,null,{"$f":"Раздел2!#REF!","v":{"$error":"#REF!"}}]
[null,"Гребля на шлюпках","58",0,0,0,0,0,0,0,0,0,0,0,0,0,0,0,0,0,0,0,0,0,0,0,0,0,0,0,0,0,0,0,0,0,0,0,0,0,0,0,0,0,0,0,0,0,0,0,0,0,0,0,0,0,0,0,0,null,null,{"$f":"Раздел2!#REF!","v":{"$error":"#REF!"}}]
[null,"Гребной слалом","59",37,0,0,0,0,0,0,0,0,0,0,0,0,0,0,0,0,0,0,0,0,0,0,0,0,0,0,0,0,0,0,0,0,0,0,0,0,0,0,0,0,0,0,0,0,0,0,0,0,0,0,0,0,0,0,0,null,null,{"$f":"Раздел2!#REF!","v":{"$error":"#REF!"}}]
[null,"Гребной спорт - всего","60",0,0,0,0,0,0,0,0,0,0,0,0,0,0,0,0,0,0,0,0,0,0,0,0,0,0,0,0,0,0,0,0,0,0,0,0,0,0,0,0,0,0,0,0,0,0,0,0,0,0,0,0,0,0,0,0,null,null,{"$f":"Раздел2!#REF!","v":{"$error":"#REF!"}}]
[null,"в том числе:\nАкадемическая гребля","61",0,0,0,0,0,0,0,0,0,0,0,0,0,0,0,0,0,0,0,0,0,0,0,0,0,0,0,0,0,0,0,0,0,0,0,0,0,0,0,0,0,0,0,0,0,0,0,0,0,0,0,0,0,0,0,0,null,null,{"$f":"Раздел2!#REF!","v":{"$error":"#REF!"}}]
[null,"Гребля-индор","62",0,0,0,0,0,0,0,0,0,0,0,0,0,0,0,0,0,0,0,0,0,0,0,0,0,0,0,0,0,0,0,0,0,0,0,0,0,0,0,0,0,0,0,0,0,0,0,0,0,0,0,0,0,0,0,0,null,null,{"$f":"Раздел2!#REF!","v":{"$error":"#REF!"}}]
[null,"Народная гребля","63",0,0,0,0,0,0,0,0,0,0,0,0,0,0,0,0,0,0,0,0,0,0,0,0,0,0,0,0,0,0,0,0,0,0,0,0,0,0,0,0,0,0,0,0,0,0,0,0,0,0,0,0,0,0,0,0,null,null,{"$f":"Раздел2!#REF!","v":{"$error":"#REF!"}}]
[null,"Прибрежная гребля","64",0,0,0,0,0,0,0,0,0,0,0,0,0,0,0,0,0,0,0,0,0,0,0,0,0,0,0,0,0,0,0,0,0,0,0,0,0,0,0,0,0,0,0,0,0,0,0,0,0,0,0,0,0,0,0,0,null,null,{"$f":"Раздел2!#REF!","v":{"$error":"#REF!"}}]
[null,"Гребно-парусное двоеборье","65",0,0,0,0,0,0,0,0,0,0,0,0,0,0,0,0,0,0,0,0,0,0,0,0,0,0,0,0,0,0,0,0,0,0,0,0,0,0,0,0,0,0,0,0,0,0,0,0,0,0,0,0,0,0,0,0,null,null,{"$f":"Раздел2!#REF!","v":{"$error":"#REF!"}}]
[null,"Дартс","66",0,0,0,0,0,0,0,0,0,0,0,0,0,0,0,0,0,0,0,0,0,0,0,0,0,0,0,0,0,0,0,0,0,0,0,0,0,0,0,0,0,0,0,0,0,0,0,0,0,0,0,0,0,0,0,0,null,null,{"$f":"Раздел2!#REF!","v":{"$error":"#REF!"}}]
[null,"Джиу-джитсу","67",0,0,0,0,0,0,0,0,0,0,0,0,0,0,0,0,0,0,0,0,0,0,0,0,0,0,0,0,0,0,0,0,0,0,0,0,0,0,0,0,0,0,0,0,0,0,0,0,0,0,0,0,0,0,0,0,null,null,{"$f":"Раздел2!#REF!","v":{"$error":"#REF!"}}]
[null,"Дзюдо","68",674,0,0,0,0,3,0,0,0,0,0,0,0,0,0,0,0,0,0,0,0,0,0,0,0,0,0,0,0,0,0,0,0,0,0,0,0,0,0,0,0,0,0,0,0,0,0,0,0,0,0,0,0,0,0,3,null,null,{"$f":"Раздел2!#REF!","v":{"$error":"#REF!"}}]
[null,"Ездовой спорт","69",0,0,0,0,0,0,0,0,0,0,0,0,0,0,0,0,0,0,0,0,0,0,0,0,0,0,0,0,0,0,0,0,0,0,0,0,0,0,0,0,0,0,0,0,0,0,0,0,0,0,0,0,0,0,0,0,null,null,{"$f":"Раздел2!#REF!","v":{"$error":"#REF!"}}]
[null,"Капоэйра","70",0,0,0,0,0,0,0,0,0,0,0,0,0,0,0,0,0,0,0,0,0,0,0,0,0,0,0,0,0,0,0,0,0,0,0,0,0,0,0,0,0,0,0,0,0,0,0,0,0,0,0,0,0,0,0,0,null,null,{"$f":"Раздел2!#REF!","v":{"$error":"#REF!"}}]
[null,"Каратэ","71",0,0,0,0,0,0,0,0,0,0,0,0,0,0,0,0,0,0,0,0,0,0,0,0,0,0,0,0,0,0,0,0,0,0,0,0,0,0,0,0,0,0,0,0,0,0,0,0,0,0,0,0,0,0,0,0,null,null,{"$f":"Раздел2!#REF!","v":{"$error":"#REF!"}}]
[null,"Кендо","72",0,0,0,0,0,0,0,0,0,0,0,0,0,0,0,0,0,0,0,0,0,0,0,0,0,0,0,0,0,0,0,0,0,0,0,0,0,0,0,0,0,0,0,0,0,0,0,0,0,0,0,0,0,0,0,0,null,null,{"$f":"Раздел2!#REF!","v":{"$error":"#REF!"}}]
[null,"Керешу","73",0,0,0,0,0,0,0,0,0,0,0,0,0,0,0,0,0,0,0,0,0,0,0,0,0,0,0,0,0,0,0,0,0,0,0,0,0,0,0,0,0,0,0,0,0,0,0,0,0,0,0,0,0,0,0,0,null,null,{"$f":"Раздел2!#REF!","v":{"$error":"#REF!"}}]
[null,"Кёрлинг - всего","74",0,0,0,0,0,0,0,0,0,0,0,0,0,0,0,0,0,0,0,0,0,0,0,0,0,0,0,0,0,0,0,0,0,0,0,0,0,0,0,0,0,0,0,0,0,0,0,0,0,0,0,0,0,0,0,0,null,null,{"$f":"Раздел2!#REF!","v":{"$error":"#REF!"}}]
[null,"в том числе:\nКерлинг (муж.)","75",0,0,0,0,0,0,0,0,0,0,0,0,0,0,0,0,0,0,0,0,0,0,0,0,0,0,0,0,0,0,0,0,0,0,0,0,0,0,0,0,0,0,0,0,0,0,0,0,0,0,0,0,0,0,0,0,null,null,{"$f":"Раздел2!#REF!","v":{"$error":"#REF!"}}]
[null,"Керлинг (жен.)","76",0,0,0,0,0,0,0,0,0,0,0,0,0,0,0,0,0,0,0,0,0,0,0,0,0,0,0,0,0,0,0,0,0,0,0,0,0,0,0,0,0,0,0,0,0,0,0,0,0,0,0,0,0,0,0,0,null,null,{"$f":"Раздел2!#REF!","v":{"$error":"#REF!"}}]
[null,"Кикбоксинг","77",39,0,0,0,0,0,0,0,0,0,0,0,0,0,0,0,0,0,0,0,0,0,0,0,0,0,0,0,0,0,0,0,0,0,0,0,0,0,0,0,0,0,0,0,0,0,0,0,0,0,0,0,0,0,0,0,null,null,{"$f":"Раздел2!#REF!","v":{"$error":"#REF!"}}]
[null,"Кинологический спорт","78",0,0,0,0,0,0,0,0,0,0,0,0,0,0,0,0,0,0,0,0,0,0,0,0,0,0,0,0,0,0,0,0,0,0,0,0,0,0,0,0,0,0,0,0,0,0,0,0,0,0,0,0,0,0,0,0,null,null,{"$f":"Раздел2!#REF!","v":{"$error":"#REF!"}}]
[null,"Киокусинкай","79",0,0,0,0,0,0,0,0,0,0,0,0,0,0,0,0,0,0,0,0,0,0,0,0,0,0,0,0,0,0,0,0,0,0,0,0,0,0,0,0,0,0,0,0,0,0,0,0,0,0,0,0,0,0,0,0,null,null,{"$f":"Раздел2!#REF!","v":{"$error":"#REF!"}}]
[null,"Комплексное единоборство","80",0,0,0,0,0,0,0,0,0,0,0,0,0,0,0,0,0,0,0,0,0,0,0,0,0,0,0,0,0,0,0,0,0,0,0,0,0,0,0,0,0,0,0,0,0,0,0,0,0,0,0,0,0,0,0,0,null,null,{"$f":"Раздел2!#REF!","v":{"$error":"#REF!"}}]
[null,"Компьютерный спорт","81",0,0,0,0,0,0,0,0,0,0,0,0,0,0,0,0,0,0,0,0,0,0,0,0,0,0,0,0,0,0,0,0,0,0,0,0,0,0,0,0,0,0,0,0,0,0,0,0,0,0,0,0,0,0,0,0,null,null,{"$f":"Раздел2!#REF!","v":{"$error":"#REF!"}}]
[null,"Конный спорт","82",105,0,0,0,0,0,0,0,0,0,0,0,0,0,0,0,0,0,0,0,0,0,0,0,0,0,0,0,0,0,0,0,0,0,0,0,0,0,0,0,0,0,0,0,0,0,0,0,0,0,0,0,0,0,0,0,null,null,{"$f":"Раздел2!#REF!","v":{"$error":"#REF!"}}]
[null,"Конькобежный спорт - всего","83",0,0,0,0,0,0,0,0,0,0,0,0,0,0,0,0,0,0,0,0,0,0,0,0,0,0,0,0,0,0,0,0,0,0,0,0,0,0,0,0,0,0,0,0,0,0,0,0,0,0,0,0,0,0,0,0,null,null,{"$f":"Раздел2!#REF!","v":{"$error":"#REF!"}}]
[null,"в том числе:\nКонькобежный спорт","84",0,0,0,0,0,0,0,0,0,0,0,0,0,0,0,0,0,0,0,0,0,0,0,0,0,0,0,0,0,0,0,0,0,0,0,0,0,0,0,0,0,0,0,0,0,0,0,0,0,0,0,0,0,0,0,0,null,null,{"$f":"Раздел2!#REF!","v":{"$error":"#REF!"}}]
[null,"Шорт-трек","85",0,0,0,0,0,0,0,0,0,0,0,0,0,0,0,0,0,0,0,0,0,0,0,0,0,0,0,0,0,0,0,0,0,0,0,0,0,0,0,0,0,0,0,0,0,0,0,0,0,0,0,0,0,0,0,0,null,null,{"$f":"Раздел2!#REF!","v":{"$error":"#REF!"}}]
[null,"Корэш","86",0,0,0,0,0,0,0,0,0,0,0,0,0,0,0,0,0,0,0,0,0,0,0,0,0,0,0,0,0,0,0,0,0,0,0,0,0,0,0,0,0,0,0,0,0,0,0,0,0,0,0,0,0,0,0,0,null,null,{"$f":"Раздел2!#REF!","v":{"$error":"#REF!"}}]
[null,"Корфбол","87",0,0,0,0,0,0,0,0,0,0,0,0,0,0,0,0,0,0,0,0,0,0,0,0,0,0,0,0,0,0,0,0,0,0,0,0,0,0,0,0,0,0,0,0,0,0,0,0,0,0,0,0,0,0,0,0,null,null,{"$f":"Раздел2!#REF!","v":{"$error":"#REF!"}}]
[null,"Кудо","88",0,0,0,0,0,0,0,0,0,0,0,0,0,0,0,0,0,0,0,0,0,0,0,0,0,0,0,0,0,0,0,0,0,0,0,0,0,0,0,0,0,0,0,0,0,0,0,0,0,0,0,0,0,0,0,0,null,null,{"$f":"Раздел2!#REF!","v":{"$error":"#REF!"}}]
[null,"Лапта","89",0,0,0,0,0,0,0,0,0,0,0,0,0,0,0,0,0,0,0,0,0,0,0,0,0,0,0,0,0,0,0,0,0,0,0,0,0,0,0,0,0,0,0,0,0,0,0,0,0,0,0,0,0,0,0,0,null,null,{"$f":"Раздел2!#REF!","v":{"$error":"#REF!"}}]
[null,"Легкая атлетика - всего","90",462,0,0,0,0,0,0,0,0,0,0,0,0,0,0,0,0,0,0,0,0,0,0,0,0,0,0,0,0,0,0,0,0,0,0,0,0,0,0,0,0,0,0,0,0,0,0,0,0,0,0,0,0,0,0,0,null,null,{"$f":"Раздел2!#REF!","v":{"$error":"#REF!"}}]
[null,"в том числе:\nСпринтерский и барьерный бег","91",162,0,0,0,0,0,0,0,0,0,0,0,0,0,0,0,0,0,0,0,0,0,0,0,0,0,0,0,0,0,0,0,0,0,0,0,0,0,0,0,0,0,0,0,0,0,0,0,0,0,0,0,0,0,0,0,null,null,{"$f":"Раздел2!#REF!","v":{"$error":"#REF!"}}]
[null,"Бег на средние дистанции и бег с препятствиями","92",112,0,0,0,0,0,0,0,0,0,0,0,0,0,0,0,0,0,0,0,0,0,0,0,0,0,0,0,0,0,0,0,0,0,0,0,0,0,0,0,0,0,0,0,0,0,0,0,0,0,0,0,0,0,0,0,null,null,{"$f":"Раздел2!#REF!","v":{"$error":"#REF!"}}]
[null,"Бег на длинные и сверхдлинные дистанции","93",53,0,0,0,0,0,0,0,0,0,0,0,0,0,0,0,0,0,0,0,0,0,0,0,0,0,0,0,0,0,0,0,0,0,0,0,0,0,0,0,0,0,0,0,0,0,0,0,0,0,0,0,0,0,0,0,null,null,{"$f":"Раздел2!#REF!","v":{"$error":"#REF!"}}]
[null,"Многоборья","94",87,0,0,0,0,0,0,0,0,0,0,0,0,0,0,0,0,0,0,0,0,0,0,0,0,0,0,0,0,0,0,0,0,0,0,0,0,0,0,0,0,0,0,0,0,0,0,0,0,0,0,0,0,0,0,0,null,null,{"$f":"Раздел2!#REF!","v":{"$error":"#REF!"}}]
[null,"Прыжки","95",26,0,0,0,0,0,0,0,0,0,0,0,0,0,0,0,0,0,0,0,0,0,0,0,0,0,0,0,0,0,0,0,0,0,0,0,0,0,0,0,0,0,0,0,0,0,0,0,0,0,0,0,0,0,0,0,null,null,{"$f":"Раздел2!#REF!","v":{"$error":"#REF!"}}]
[null,"Метания","96",10,0,0,0,0,0,0,0,0,0,0,0,0,0,0,0,0,0,0,0,0,0,0,0,0,0,0,0,0,0,0,0,0,0,0,0,0,0,0,0,0,0,0,0,0,0,0,0,0,0,0,0,0,0,0,0,null,null,{"$f":"Раздел2!#REF!","v":{"$error":"#REF!"}}]
[null,"Спортивная ходьба","97",12,0,0,0,0,0,0,0,0,0,0,0,0,0,0,0,0,0,0,0,0,0,0,0,0,0,0,0,0,0,0,0,0,0,0,0,0,0,0,0,0,0,0,0,0,0,0,0,0,0,0,0,0,0,0,0,null,null,{"$f":"Раздел2!#REF!","v":{"$error":"#REF!"}}]
[null,"Лыжное двоеборье","98",0,0,0,0,0,0,0,0,0,0,0,0,0,0,0,0,0,0,0,0,0,0,0,0,0,0,0,0,0,0,0,0,0,0,0,0,0,0,0,0,0,0,0,0,0,0,0,0,0,0,0,0,0,0,0,0,null,null,{"$f":"Раздел2!#REF!","v":{"$error":"#REF!"}}]
[null,"Лыжные гонки","99",293,0,0,0,0,0,0,0,0,0,0,0,0,0,0,0,0,0,0,0,0,0,0,0,0,0,0,0,0,0,0,0,0,0,0,0,0,0,0,0,0,0,0,0,0,0,0,0,0,0,0,0,0,0,0,0,null,null,{"$f":"Раздел2!#REF!","v":{"$error":"#REF!"}}]
[null,"Мас-рестлинг","100",0,0,0,0,0,0,0,0,0,0,0,0,0,0,0,0,0,0,0,0,0,0,0,0,0,0,0,0,0,0,0,0,0,0,0,0,0,0,0,0,0,0,0,0,0,0,0,0,0,0,0,0,0,0,0,0,null,null,{"$f":"Раздел2!#REF!","v":{"$error":"#REF!"}}]
[null,"Международное военно-спортивное многоборье","101",0,0,0,0,0,0,0,0,0,0,0,0,0,0,0,0,0,0,0,0,0,0,0,0,0,0,0,0,0,0,0,0,0,0,0,0,0,0,0,0,0,0,0,0,0,0,0,0,0,0,0,0,0,0,0,0,null,null,{"$f":"Раздел2!#REF!","v":{"$error":"#REF!"}}]
[null,"Многоборье кинологов","102",0,0,0,0,0,0,0,0,0,0,0,0,0,0,0,0,0,0,0,0,0,0,0,0,0,0,0,0,0,0,0,0,0,0,0,0,0,0,0,0,0,0,0,0,0,0,0,0,0,0,0,0,0,0,0,0,null,null,{"$f":"Раздел2!#REF!","v":{"$error":"#REF!"}}]
[null,"Многоборье спасателей МЧС России","103",0,0,0,0,0,0,0,0,0,0,0,0,0,0,0,0,0,0,0,0,0,0,0,0,0,0,0,0,0,0,0,0,0,0,0,0,0,0,0,0,0,0,0,0,0,0,0,0,0,0,0,0,0,0,0,0,null,null,{"$f":"Раздел2!#REF!","v":{"$error":"#REF!"}}]
[null,"Морское многоборье","104",0,0,0,0,0,0,0,0,0,0,0,0,0,0,0,0,0,0,0,0,0,0,0,0,0,0,0,0,0,0,0,0,0,0,0,0,0,0,0,0,0,0,0,0,0,0,0,0,0,0,0,0,0,0,0,0,null,null,{"$f":"Раздел2!#REF!","v":{"$error":"#REF!"}}]
[null,"Мотоциклетный спорт","105",0,0,0,0,0,0,0,0,0,0,0,0,0,0,0,0,0,0,0,0,0,0,0,0,0,0,0,0,0,0,0,0,0,0,0,0,0,0,0,0,0,0,0,0,0,0,0,0,0,0,0,0,0,0,0,0,null,null,{"$f":"Раздел2!#REF!","v":{"$error":"#REF!"}}]
[null,"Настольный теннис","106",155,0,0,0,0,0,0,0,0,0,0,0,0,0,0,0,0,0,0,0,0,0,0,0,0,0,0,0,0,0,0,0,0,0,0,0,0,0,0,0,0,0,0,0,0,0,0,0,0,0,0,0,0,0,0,0,null,null,{"$f":"Раздел2!#REF!","v":{"$error":"#REF!"}}]
[null,"Парашютный спорт","107",0,0,0,0,0,0,0,0,0,0,0,0,0,0,0,0,0,0,0,0,0,0,0,0,0,0,0,0,0,0,0,0,0,0,0,0,0,0,0,0,0,0,0,0,0,0,0,0,0,0,0,0,0,0,0,0,null,null,{"$f":"Раздел2!#REF!","v":{"$error":"#REF!"}}]
[null,"Парусный спорт","108",0,0,0,0,0,0,0,0,0,0,0,0,0,0,0,0,0,0,0,0,0,0,0,0,0,0,0,0,0,0,0,0,0,0,0,0,0,0,0,0,0,0,0,0,0,0,0,0,0,0,0,0,0,0,0,0,null,null,{"$f":"Раздел2!#REF!","v":{"$error":"#REF!"}}]
[null,"Пауэрлифтинг","109",8,0,0,0,0,0,0,0,0,0,0,0,0,0,0,0,0,0,0,0,0,0,0,0,0,0,0,0,0,0,0,0,0,0,0,0,0,0,0,0,0,0,0,0,0,0,0,0,0,0,0,0,0,0,0,0,null,null,{"$f":"Раздел2!#REF!","v":{"$error":"#REF!"}}]
[null,"Перетягивание каната","110",0,0,0,0,0,0,0,0,0,0,0,0,0,0,0,0,0,0,0,0,0,0,0,0,0,0,0,0,0,0,0,0,0,0,0,0,0,0,0,0,0,0,0,0,0,0,0,0,0,0,0,0,0,0,0,0,null,null,{"$f":"Раздел2!#REF!","v":{"$error":"#REF!"}}]
[null,"Петанк","111",0,0,0,0,0,0,0,0,0,0,0,0,0,0,0,0,0,0,0,0,0,0,0,0,0,0,0,0,0,0,0,0,0,0,0,0,0,0,0,0,0,0,0,0,0,0,0,0,0,0,0,0,0,0,0,0,null,null,{"$f":"Раздел2!#REF!","v":{"$error":"#REF!"}}]
[null,"Плавание - всего","112",139,0,0,0,0,0,0,0,0,0,0,0,0,0,0,0,0,0,0,0,0,0,0,0,0,0,0,0,0,0,0,0,0,0,0,0,0,0,0,0,0,0,0,0,0,0,0,0,0,0,0,0,0,0,0,0,null,null,{"$f":"Раздел2!#REF!","v":{"$error":"#REF!"}}]
[null,"в том числе:\nПлавание ","113",139,0,0,0,0,0,0,0,0,0,0,0,0,0,0,0,0,0,0,0,0,0,0,0,0,0,0,0,0,0,0,0,0,0,0,0,0,0,0,0,0,0,0,0,0,0,0,0,0,0,0,0,0,0,0,0,null,null,{"$f":"Раздел2!#REF!","v":{"$error":"#REF!"}}]
[null,"Открытая вода","114",0,0,0,0,0,0,0,0,0,0,0,0,0,0,0,0,0,0,0,0,0,0,0,0,0,0,0,0,0,0,0,0,0,0,0,0,0,0,0,0,0,0,0,0,0,0,0,0,0,0,0,0,0,0,0,0,null,null,{"$f":"Раздел2!#REF!","v":{"$error":"#REF!"}}]
[null,"Планерный спорт","115",0,0,0,0,0,0,0,0,0,0,0,0,0,0,0,0,0,0,0,0,0,0,0,0,0,0,0,0,0,0,0,0,0,0,0,0,0,0,0,0,0,0,0,0,0,0,0,0,0,0,0,0,0,0,0,0,null,null,{"$f":"Раздел2!#REF!","v":{"$error":"#REF!"}}]
[null,"Подводный спорт","116",0,0,0,0,0,0,0,0,0,0,0,0,0,0,0,0,0,0,0,0,0,0,0,0,0,0,0,0,0,0,0,0,0,0,0,0,0,0,0,0,0,0,0,0,0,0,0,0,0,0,0,0,0,0,0,0]
[null,"Пожарно-спасательный спорт","117",0,0,0,0,0,0,0,0,0,0,0,0,0,0,0,0,0,0,0,0,0,0,0,0,0,0,0,0,0,0,0,0,0,0,0,0,0,0,0,0,0,0,0,0,0,0,0,0,0,0,0,0,0,0,0,0]
[null,"Полиатлон","118",0,0,0,0,0,1,0,0,0,0,0,0,0,0,0,1,0,0,0,0,0,0,0,0,0,0,0,0,0,0,0,0,0,0,0,0,0,0,0,0,0,0,0,0,0,0,0,0,0,0,0,0,0,0,0,0]
[null,"Практическая стрельба","119",0,0,0,0,0,0,0,0,0,0,0,0,0,0,0,0,0,0,0,0,0,0,0,0,0,0,0,0,0,0,0,0,0,0,0,0,0,0,0,0,0,0,0,0,0,0,0,0,0,0,0,0,0,0,0,0]
[null,"Прыжки в воду - всего","120",0,0,0,0,0,0,0,0,0,0,0,0,0,0,0,0,0,0,0,0,0,0,0,0,0,0,0,0,0,0,0,0,0,0,0,0,0,0,0,0,0,0,0,0,0,0,0,0,0,0,0,0,0,0,0,0]
[null,"в том числе:\nПрыжки в воду","121",0,0,0,0,0,0,0,0,0,0,0,0,0,0,0,0,0,0,0,0,0,0,0,0,0,0,0,0,0,0,0,0,0,0,0,0,0,0,0,0,0,0,0,0,0,0,0,0,0,0,0,0,0,0,0,0]
[null,"Прыжки в открытый водоем","122",0,0,0,0,0,0,0,0,0,0,0,0,0,0,0,0,0,0,0,0,0,0,0,0,0,0,0,0,0,0,0,0,0,0,0,0,0,0,0,0,0,0,0,0,0,0,0,0,0,0,0,0,0,0,0,0]
[null,"Прыжки на батуте - всего","123",100,0,0,0,0,0,0,0,0,0,0,0,0,0,0,0,0,0,0,0,0,0,0,0,0,0,0,0,0,0,0,0,0,0,0,0,0,0,0,0,0,0,0,0,0,0,0,0,0,0,0,0,0,0,0,0]
[null,"в том числе:\nАкробатическая дорожка","124",20,0,0,0,0,0,0,0,0,0,0,0,0,0,0,0,0,0,0,0,0,0,0,0,0,0,0,0,0,0,0,0,0,0,0,0,0,0,0,0,0,0,0,0,0,0,0,0,0,0,0,0,0,0,0,0]
[null,"Двойной минитрамп","125",20,0,0,0,0,0,0,0,0,0,0,0,0,0,0,0,0,0,0,0,0,0,0,0,0,0,0,0,0,0,0,0,0,0,0,0,0,0,0,0,0,0,0,0,0,0,0,0,0,0,0,0,0,0,0,0]
[null,"Индивидуальные прыжки","126",60,0,0,0,0,0,0,0,0,0,0,0,0,0,0,0,0,0,0,0,0,0,0,0,0,0,0,0,0,0,0,0,0,0,0,0,0,0,0,0,0,0,0,0,0,0,0,0,0,0,0,0,0,0,0,0]
[null,"Синхронные прыжки","127",0,0,0,0,0,0,0,0,0,0,0,0,0,0,0,0,0,0,0,0,0,0,0,0,0,0,0,0,0,0,0,0,0,0,0,0,0,0,0,0,0,0,0,0,0,0,0,0,0,0,0,0,0,0,0,0]
[null,"Прыжки на лыжах с трамплина","128",0,0,0,0,0,0,0,0,0,0,0,0,0,0,0,0,0,0,0,0,0,0,0,0,0,0,0,0,0,0,0,0,0,0,0,0,0,0,0,0,0,0,0,0,0,0,0,0,0,0,0,0,0,0,0,0]
[null,"Пулевая стрельба - всего","129",0,0,0,0,0,0,0,0,0,0,0,0,0,0,0,0,0,0,0,0,0,0,0,0,0,0,0,0,0,0,0,0,0,0,0,0,0,0,0,0,0,0,0,0,0,0,0,0,0,0,0,0,0,0,0,0]
[null,"в том числе:\nПневматическая винтовка","130",0,0,0,0,0,0,0,0,0,0,0,0,0,0,0,0,0,0,0,0,0,0,0,0,0,0,0,0,0,0,0,0,0,0,0,0,0,0,0,0,0,0,0,0,0,0,0,0,0,0,0,0,0,0,0,0]
[null,"Пневматический пистолет","131",0,0,0,0,0,0,0,0,0,0,0,0,0,0,0,0,0,0,0,0,0,0,0,0,0,0,0,0,0,0,0,0,0,0,0,0,0,0,0,0,0,0,0,0,0,0,0,0,0,0,0,0,0,0,0,0]
[null,"Малокалиберная винтовка","132",0,0,0,0,0,0,0,0,0,0,0,0,0,0,0,0,0,0,0,0,0,0,0,0,0,0,0,0,0,0,0,0,0,0,0,0,0,0,0,0,0,0,0,0,0,0,0,0,0,0,0,0,0,0,0,0]
[null,"Малокалиберный пистолет","133",0,0,0,0,0,0,0,0,0,0,0,0,0,0,0,0,0,0,0,0,0,0,0,0,0,0,0,0,0,0,0,0,0,0,0,0,0,0,0,0,0,0,0,0,0,0,0,0,0,0,0,0,0,0,0,0]
[null,"Движущаяся мишень","134",0,0,0,0,0,0,0,0,0,0,0,0,0,0,0,0,0,0,0,0,0,0,0,0,0,0,0,0,0,0,0,0,0,0,0,0,0,0,0,0,0,0,0,0,0,0,0,0,0,0,0,0,0,0,0,0]
[null,"Пэйнтбол","135",0,0,0,0,0,0,0,0,0,0,0,0,0,0,0,0,0,0,0,0,0,0,0,0,0,0,0,0,0,0,0,0,0,0,0,0,0,0,0,0,0,0,0,0,0,0,0,0,0,0,0,0,0,0,0,0]
[null,"Радиоспорт","136",0,0,0,0,0,0,0,0,0,0,0,0,0,0,0,0,0,0,0,0,0,0,0,0,0,0,0,0,0,0,0,0,0,0,0,0,0,0,0,0,0,0,0,0,0,0,0,0,0,0,0,0,0,0,0,0]
[null,"Рафтинг","137",0,1,0,1,0,10,0,0,0,0,0,0,0,0,0,0,0,0,0,0,0,0,0,0,0,0,0,0,0,0,0,0,0,0,0,0,0,0,1,0,6,1,0,0,0,4,0,0,0,0,0,0,0,0,0,0]
[null,"Регби - всего","138",0,0,0,0,0,0,0,0,0,0,0,0,0,0,0,0,0,0,0,0,0,0,0,0,0,0,0,0,0,0,0,0,0,0,0,0,0,0,0,0,0,0,0,0,0,0,0,0,0,0,0,0,0,0,0,0]
[null,"в том числе:\nРегби","139",0,0,0,0,0,0,0,0,0,0,0,0,0,0,0,0,0,0,0,0,0,0,0,0,0,0,0,0,0,0,0,0,0,0,0,0,0,0,0,0,0,0,0,0,0,0,0,0,0,0,0,0,0,0,0,0]
[null,"Регби 7 (муж.)","140",0,0,0,0,0,0,0,0,0,0,0,0,0,0,0,0,0,0,0,0,0,0,0,0,0,0,0,0,0,0,0,0,0,0,0,0,0,0,0,0,0,0,0,0,0,0,0,0,0,0,0,0,0,0,0,0]
[null,"Регби 7 (жен.)","141",0,0,0,0,0,0,0,0,0,0,0,0,0,0,0,0,0,0,0,0,0,0,0,0,0,0,0,0,0,0,0,0,0,0,0,0,0,0,0,0,0,0,0,0,0,0,0,0,0,0,0,0,0,0,0,0]
[null,"Регби - пляжное","142",0,0,0,0,0,0,0,0,0,0,0,0,0,0,0,0,0,0,0,0,0,0,0,0,0,0,0,0,0,0,0,0,0,0,0,0,0,0,0,0,0,0,0,0,0,0,0,0,0,0,0,0,0,0,0,0]
[null,"Регбол","143",0,0,0,0,0,0,0,0,0,0,0,0,0,0,0,0,0,0,0,0,0,0,0,0,0,0,0,0,0,0,0,0,0,0,0,0,0,0,0,0,0,0,0,0,0,0,0,0,0,0,0,0,0,0,0,0]
[null,"Роллер спорт","144",0,0,0,0,0,0,0,0,0,0,0,0,0,0,0,0,0,0,0,0,0,0,0,0,0,0,0,0,0,0,0,0,0,0,0,0,0,0,0,0,0,0,0,0,0,0,0,0,0,0,0,0,0,0,0,0]
[null,"Рукопашный бой","145",0,0,0,0,0,0,0,0,0,0,0,0,0,0,0,0,0,0,0,0,0,0,0,0,0,0,0,0,0,0,0,0,0,0,0,0,0,0,0,0,0,0,0,0,0,0,0,0,0,0,0,0,0,0,0,0]
[null,"Рыболовный спорт","146",0,0,0,0,0,0,0,0,0,0,0,0,0,0,0,0,0,0,0,0,0,0,0,0,0,0,0,0,0,0,0,0,0,0,0,0,0,0,0,0,0,0,0,0,0,0,0,0,0,0,0,0,0,0,0,0]
[null,"Сават","147",0,0,0,0,0,0,0,0,0,0,0,0,0,0,0,0,0,0,0,0,0,0,0,0,0,0,0,0,0,0,0,0,0,0,0,0,0,0,0,0,0,0,0,0,0,0,0,0,0,0,0,0,0,0,0,0]
[null,"Самбо","148",1359,10,6,5,0,26,0,0,0,0,0,1,0,0,0,1,0,0,0,0,0,0,0,0,0,0,0,0,0,0,0,0,0,0,0,0,0,0,1,0,1,0,0,0,0,0,0,0,0,0,0,9,6,4,0,24]
[null,"Самолетный спорт","149",0,0,0,0,0,0,0,0,0,0,0,0,0,0,0,0,0,0,0,0,0,0,0,0,0,0,0,0,0,0,0,0,0,0,0,0,0,0,0,0,0,0,0,0,0,0,0,0,0,0,0,0,0,0,0,0]
[null,"Санный спорт","150",0,0,0,0,0,0,0,0,0,0,0,0,0,0,0,0,0,0,0,0,0,0,0,0,0,0,0,0,0,0,0,0,0,0,0,0,0,0,0,0,0,0,0,0,0,0,0,0,0,0,0,0,0,0,0,0]
[null,"Северное многоборье","151",0,0,0,0,0,0,0,0,0,0,0,0,0,0,0,0,0,0,0,0,0,0,0,0,0,0,0,0,0,0,0,0,0,0,0,0,0,0,0,0,0,0,0,0,0,0,0,0,0,0,0,0,0,0,0,0]
[null,"Серфинг","152",0,0,0,0,0,0,0,0,0,0,0,0,0,0,0,0,0,0,0,0,0,0,0,0,0,0,0,0,0,0,0,0,0,0,0,0,0,0,0,0,0,0,0,0,0,0,0,0,0,0,0,0,0,0,0,0]
[null,"Синхронное плавание","153",0,0,0,0,0,0,0,0,0,0,0,0,0,0,0,0,0,0,0,0,0,0,0,0,0,0,0,0,0,0,0,0,0,0,0,0,0,0,0,0,0,0,0,0,0,0,0,0,0,0,0,0,0,0,0,0]
[null,"Скалолазание","154",0,0,0,0,0,0,0,0,0,0,0,0,0,0,0,0,0,0,0,0,0,0,0,0,0,0,0,0,0,0,0,0,0,0,0,0,0,0,0,0,0,0,0,0,0,0,0,0,0,0,0,0,0,0,0,0]
[null,"Сквош","155",0,0,0,0,0,0,0,0,0,0,0,0,0,0,0,0,0,0,0,0,0,0,0,0,0,0,0,0,0,0,0,0,0,0,0,0,0,0,0,0,0,0,0,0,0,0,0,0,0,0,0,0,0,0,0,0]
[null,"Скейтбординг","156",0,0,0,0,0,0,0,0,0,0,0,0,0,0,0,0,0,0,0,0,0,0,0,0,0,0,0,0,0,0,0,0,0,0,0,0,0,0,0,0,0,0,0,0,0,0,0,0,0,0,0,0,0,0,0,0]
[null,"Служебно-прикладной спорт","157",0,0,0,0,0,0,0,0,0,0,0,0,0,0,0,0,0,0,0,0,0,0,0,0,0,0,0,0,0,0,0,0,0,0,0,0,0,0,0,0,0,0,0,0,0,0,0,0,0,0,0,0,0,0,0,0]
[null,"Служебно-прикладной спорт ФСО России","158",0,0,0,0,0,0,0,0,0,0,0,0,0,0,0,0,0,0,0,0,0,0,0,0,0,0,0,0,0,0,0,0,0,0,0,0,0,0,0,0,0,0,0,0,0,0,0,0,0,0,0,0,0,0,0,0]
[null,"Служебно-прикладной спорт ФТС России","159",0,0,0,0,0,0,0,0,0,0,0,0,0,0,0,0,0,0,0,0,0,0,0,0,0,0,0,0,0,0,0,0,0,0,0,0,0,0,0,0,0,0,0,0,0,0,0,0,0,0,0,0,0,0,0,0]
[null,"Служебное двоеборье","160",0,0,0,0,0,0,0,0,0,0,0,0,0,0,0,0,0,0,0,0,0,0,0,0,0,0,0,0,0,0,0,0,0,0,0,0,0,0,0,0,0,0,0,0,0,0,0,0,0,0,0,0,0,0,0,0]
[null,"Служебное единоборство","161",0,0,0,0,0,0,0,0,0,0,0,0,0,0,0,0,0,0,0,0,0,0,0,0,0,0,0,0,0,0,0,0,0,0,0,0,0,0,0,0,0,0,0,0,0,0,0,0,0,0,0,0,0,0,0,0]
[null,"Служебное многоборье","162",0,0,0,0,0,0,0,0,0,0,0,0,0,0,0,0,0,0,0,0,0,0,0,0,0,0,0,0,0,0,0,0,0,0,0,0,0,0,0,0,0,0,0,0,0,0,0,0,0,0,0,0,0,0,0,0]
[null,"Служебный биатлон","163",0,0,0,0,0,0,0,0,0,0,0,0,0,0,0,0,0,0,0,0,0,0,0,0,0,0,0,0,0,0,0,0,0,0,0,0,0,0,0,0,0,0,0,0,0,0,0,0,0,0,0,0,0,0,0,0]
[null,"Спасательный спорт","164",0,0,0,0,0,0,0,0,0,0,0,0,0,0,0,0,0,0,0,0,0,0,0,0,0,0,0,0,0,0,0,0,0,0,0,0,0,0,0,0,0,0,0,0,0,0,0,0,0,0,0,0,0,0,0,0]
[null,"Стрельба из боевого ручного стрелкового оружия","165",0,0,0,0,0,0,0,0,0,0,0,0,0,0,0,0,0,0,0,0,0,0,0,0,0,0,0,0,0,0,0,0,0,0,0,0,0,0,0,0,0,0,0,0,0,0,0,0,0,0,0,0,0,0,0,0]
[null,"Стрельба из штатного или табельного оружия","166",0,0,0,0,0,0,0,0,0,0,0,0,0,0,0,0,0,0,0,0,0,0,0,0,0,0,0,0,0,0,0,0,0,0,0,0,0,0,0,0,0,0,0,0,0,0,0,0,0,0,0,0,0,0,0,0]
[null,"Смешанное боевое единоборство (ММА)","167",0,0,0,0,0,0,0,0,0,0,0,0,0,0,0,0,0,0,0,0,0,0,0,0,0,0,0,0,0,0,0,0,0,0,0,0,0,0,0,0,0,0,0,0,0,0,0,0,0,0,0,0,0,0,0,0]
[null,"Сноуборд","168",30,0,0,0,0,0,0,0,0,0,0,0,0,0,0,0,0,0,0,0,0,0,0,0,0,0,0,0,0,0,0,0,0,0,0,0,0,0,0,0,0,0,0,0,0,0,0,0,0,0,0,0,0,0,0,0]
[null,"Современное пятиборье","169",0,0,0,0,0,0,0,0,0,0,0,0,0,0,0,0,0,0,0,0,0,0,0,0,0,0,0,0,0,0,0,0,0,0,0,0,0,0,0,0,0,0,0,0,0,0,0,0,0,0,0,0,0,0,0,0]
[null,"Софтбол","170",0,0,0,0,0,0,0,0,0,0,0,0,0,0,0,0,0,0,0,0,0,0,0,0,0,0,0,0,0,0,0,0,0,0,0,0,0,0,0,0,0,0,0,0,0,0,0,0,0,0,0,0,0,0,0,0]
[null,"Спорт сверхлегкой авиации","171",0,0,0,0,0,0,0,0,0,0,0,0,0,0,0,0,0,0,0,0,0,0,0,0,0,0,0,0,0,0,0,0,0,0,0,0,0,0,0,0,0,0,0,0,0,0,0,0,0,0,0,0,0,0,0,0]
[null,"Спортивная акробатика","172",226,0,0,0,0,0,0,0,0,0,0,0,0,0,0,0,0,0,0,0,0,0,0,0,0,0,0,0,0,0,0,0,0,0,0,0,0,0,0,0,0,0,0,0,0,0,0,0,0,0,0,0,0,0,0,0]
[null,"Спортивная аэробика","173",0,0,0,0,0,0,0,0,0,0,0,0,0,0,0,0,0,0,0,0,0,0,0,0,0,0,0,0,0,0,0,0,0,0,0,0,0,0,0,0,0,0,0,0,0,0,0,0,0,0,0,0,0,0,0,0]
[null,"Спортивная борьба - всего","174",1194,0,1,1,0,4,0,0,0,0,0,0,0,0,0,0,0,0,0,0,0,0,0,0,0,0,0,0,0,0,0,0,0,0,0,0,0,0,0,0,0,0,0,0,0,0,0,0,0,0,0,0,1,1,0,4]
[null,"в том числе:\nВольная борьба","175",78,0,0,0,0,0,0,0,0,0,0,0,0,0,0,0,0,0,0,0,0,0,0,0,0,0,0,0,0,0,0,0,0,0,0,0,0,0,0,0,0,0,0,0,0,0,0,0,0,0,0,0,0,0,0,0]
[null,"Греко-римская борьба","176",1116,0,1,1,0,4,0,0,0,0,0,0,0,0,0,0,0,0,0,0,0,0,0,0,0,0,0,0,0,0,0,0,0,0,0,0,0,0,0,0,0,0,0,0,0,0,0,0,0,0,0,0,1,1,0,4]
[null,"Грэпплинг","177",0,0,0,0,0,0,0,0,0,0,0,0,0,0,0,0,0,0,0,0,0,0,0,0,0,0,0,0,0,0,0,0,0,0,0,0,0,0,0,0,0,0,0,0,0,0,0,0,0,0,0,0,0,0,0,0]
[null,"Грэпплинг-ги","178",0,0,0,0,0,0,0,0,0,0,0,0,0,0,0,0,0,0,0,0,0,0,0,0,0,0,0,0,0,0,0,0,0,0,0,0,0,0,0,0,0,0,0,0,0,0,0,0,0,0,0,0,0,0,0,0]
[null,"Панкратион","179",0,0,0,0,0,0,0,0,0,0,0,0,0,0,0,0,0,0,0,0,0,0,0,0,0,0,0,0,0,0,0,0,0,0,0,0,0,0,0,0,0,0,0,0,0,0,0,0,0,0,0,0,0,0,0,0]
[null,"Спортивная гимнастика","180",0,0,0,0,0,0,0,0,0,0,0,0,0,0,0,0,0,0,0,0,0,0,0,0,0,0,0,0,0,0,0,0,0,0,0,0,0,0,0,0,0,0,0,0,0,0,0,0,0,0,0,0,0,0,0,0]
[null,"Спортивная йога","181",0,0,0,0,0,0,0,0,0,0,0,0,0,0,0,0,0,0,0,0,0,0,0,0,0,0,0,0,0,0,0,0,0,0,0,0,0,0,0,0,0,0,0,0,0,0,0,0,0,0,0,0,0,0,0,0]
[null,"Спортивно-прикладное собаководство","182",0,0,0,0,0,0,0,0,0,0,0,0,0,0,0,0,0,0,0,0,0,0,0,0,0,0,0,0,0,0,0,0,0,0,0,0,0,0,0,0,0,0,0,0,0,0,0,0,0,0,0,0,0,0,0,0]
[null,"Спортивное ориентирование","183",114,0,1,0,0,2,0,0,0,0,0,0,0,0,0,1,0,0,0,0,0,0,0,0,0,0,0,0,0,0,0,0,0,0,0,0,0,0,0,0,0,0,1,0,0,1,0,0,0,0,0,0,0,0,0,0]
[null,"Спортивный бридж","184",0,0,0,0,0,0,0,0,0,0,0,0,0,0,0,0,0,0,0,0,0,0,0,0,0,0,0,0,0,0,0,0,0,0,0,0,0,0,0,0,0,0,0,0,0,0,0,0,0,0,0,0,0,0,0,0]
[null,"Спортивный туризм","185",0,0,0,0,0,0,0,0,0,0,0,0,0,0,0,0,0,0,0,0,0,0,0,0,0,0,0,0,0,0,0,0,0,0,0,0,0,0,0,0,0,0,0,0,0,0,0,0,0,0,0,0,0,0,0,0]
[null,"Стендовая стрельба - всего","186",0,0,0,0,0,0,0,0,0,0,0,0,0,0,0,0,0,0,0,0,0,0,0,0,0,0,0,0,0,0,0,0,0,0,0,0,0,0,0,0,0,0,0,0,0,0,0,0,0,0,0,0,0,0,0,0]
[null,"в том числе:\nТрап","187",0,0,0,0,0,0,0,0,0,0,0,0,0,0,0,0,0,0,0,0,0,0,0,0,0,0,0,0,0,0,0,0,0,0,0,0,0,0,0,0,0,0,0,0,0,0,0,0,0,0,0,0,0,0,0,0]
[null,"Скит","188",0,0,0,0,0,0,0,0,0,0,0,0,0,0,0,0,0,0,0,0,0,0,0,0,0,0,0,0,0,0,0,0,0,0,0,0,0,0,0,0,0,0,0,0,0,0,0,0,0,0,0,0,0,0,0,0]
[null,"Дубль-трап","189",0,0,0,0,0,0,0,0,0,0,0,0,0,0,0,0,0,0,0,0,0,0,0,0,0,0,0,0,0,0,0,0,0,0,0,0,0,0,0,0,0,0,0,0,0,0,0,0,0,0,0,0,0,0,0,0]
[null,"Спортинг","190",0,0,0,0,0,0,0,0,0,0,0,0,0,0,0,0,0,0,0,0,0,0,0,0,0,0,0,0,0,0,0,0,0,0,0,0,0,0,0,0,0,0,0,0,0,0,0,0,0,0,0,0,0,0,0,0]
[null,"Стрельба из арбалета","191",0,0,0,0,0,0,0,0,0,0,0,0,0,0,0,0,0,0,0,0,0,0,0,0,0,0,0,0,0,0,0,0,0,0,0,0,0,0,0,0,0,0,0,0,0,0,0,0,0,0,0,0,0,0,0,0]
[null,"Стрельба из лука - всего","192",16,0,0,0,0,0,0,0,0,0,0,0,0,0,0,0,0,0,0,0,0,0,0,0,0,0,0,0,0,0,0,0,0,0,0,0,0,0,0,0,0,0,0,0,0,0,0,0,0,0,0,0,0,0,0,0]
[null,"в том числе:\nКлассический лук","193",16,0,0,0,0,0,0,0,0,0,0,0,0,0,0,0,0,0,0,0,0,0,0,0,0,0,0,0,0,0,0,0,0,0,0,0,0,0,0,0,0,0,0,0,0,0,0,0,0,0,0,0,0,0,0,0]
[null,"   Блочный лук","194",0,0,0,0,0,0,0,0,0,0,0,0,0,0,0,0,0,0,0,0,0,0,0,0,0,0,0,0,0,0,0,0,0,0,0,0,0,0,0,0,0,0,0,0,0,0,0,0,0,0,0,0,0,0,0,0]
[null,"   Ачери ","195",0,0,0,0,0,0,0,0,0,0,0,0,0,0,0,0,0,0,0,0,0,0,0,0,0,0,0,0,0,0,0,0,0,0,0,0,0,0,0,0,0,0,0,0,0,0,0,0,0,0,0,0,0,0,0,0]
[null,"Судомодельный спорт","196",0,0,0,0,0,0,0,0,0,0,0,0,0,0,0,0,0,0,0,0,0,0,0,0,0,0,0,0,0,0,0,0,0,0,0,0,0,0,0,0,0,0,0,0,0,0,0,0,0,0,0,0,0,0,0,0]
[null,"Сумо","197",0,0,0,0,0,0,0,0,0,0,0,0,0,0,0,0,0,0,0,0,0,0,0,0,0,0,0,0,0,0,0,0,0,0,0,0,0,0,0,0,0,0,0,0,0,0,0,0,0,0,0,0,0,0,0,0]
[null,"Тайский бокс","198",0,0,0,0,0,0,0,0,0,0,0,0,0,0,0,0,0,0,0,0,0,0,0,0,0,0,0,0,0,0,0,0,0,0,0,0,0,0,0,0,0,0,0,0,0,0,0,0,0,0,0,0,0,0,0,0]
[null,"Танцевальный спорт","199",0,0,0,0,0,0,0,0,0,0,0,0,0,0,0,0,0,0,0,0,0,0,0,0,0,0,0,0,0,0,0,0,0,0,0,0,0,0,0,0,0,0,0,0,0,0,0,0,0,0,0,0,0,0,0,0]
[null,"Теннис","200",0,0,0,0,0,0,0,0,0,0,0,0,0,0,0,0,0,0,0,0,0,0,0,0,0,0,0,0,0,0,0,0,0,0,0,0,0,0,0,0,0,0,0,0,0,0,0,0,0,0,0,0,0,0,0,0]
[null,"Триатлон","201",0,0,0,0,0,0,0,0,0,0,0,0,0,0,0,0,0,0,0,0,0,0,0,0,0,0,0,0,0,0,0,0,0,0,0,0,0,0,0,0,0,0,0,0,0,0,0,0,0,0,0,0,0,0,0,0]
[null,"Тхэквондо - всего","202",0,0,0,0,0,0,0,0,0,0,0,0,0,0,0,0,0,0,0,0,0,0,0,0,0,0,0,0,0,0,0,0,0,0,0,0,0,0,0,0,0,0,0,0,0,0,0,0,0,0,0,0,0,0,0,0]
[null,"в том числе:\nТхэквондо (ГТФ, ИТФ, МФТ)","203",0,0,0,0,0,0,0,0,0,0,0,0,0,0,0,0,0,0,0,0,0,0,0,0,0,0,0,0,0,0,0,0,0,0,0,0,0,0,0,0,0,0,0,0,0,0,0,0,0,0,0,0,0,0,0,0]
[null,"Тхэквондо (ВТФ)","204",0,0,0,0,0,0,0,0,0,0,0,0,0,0,0,0,0,0,0,0,0,0,0,0,0,0,0,0,0,0,0,0,0,0,0,0,0,0,0,0,0,0,0,0,0,0,0,0,0,0,0,0,0,0,0,0]
[null,"Тяжелая атлетика","205",0,0,0,0,0,0,0,0,0,0,0,0,0,0,0,0,0,0,0,0,0,0,0,0,0,0,0,0,0,0,0,0,0,0,0,0,0,0,0,0,0,0,0,0,0,0,0,0,0,0,0,0,0,0,0,0]
[null,"Универсальный бой","206",0,0,0,0,0,0,0,0,0,0,0,0,0,0,0,0,0,0,0,0,0,0,0,0,0,0,0,0,0,0,0,0,0,0,0,0,0,0,0,0,0,0,0,0,0,0,0,0,0,0,0,0,0,0,0,0]
[null,"Ушу","207",0,0,0,0,0,0,0,0,0,0,0,0,0,0,0,0,0,0,0,0,0,0,0,0,0,0,0,0,0,0,0,0,0,0,0,0,0,0,0,0,0,0,0,0,0,0,0,0,0,0,0,0,0,0,0,0]
[null,"Фехтование - всего","208",0,0,0,0,0,0,0,0,0,0,0,0,0,0,0,0,0,0,0,0,0,0,0,0,0,0,0,0,0,0,0,0,0,0,0,0,0,0,0,0,0,0,0,0,0,0,0,0,0,0,0,0,0,0,0,0]
[null,"в том числе:\nРапира","209",0,0,0,0,0,0,0,0,0,0,0,0,0,0,0,0,0,0,0,0,0,0,0,0,0,0,0,0,0,0,0,0,0,0,0,0,0,0,0,0,0,0,0,0,0,0,0,0,0,0,0,0,0,0,0,0]
[null,"Сабля","210",0,0,0,0,0,0,0,0,0,0,0,0,0,0,0,0,0,0,0,0,0,0,0,0,0,0,0,0,0,0,0,0,0,0,0,0,0,0,0,0,0,0,0,0,0,0,0,0,0,0,0,0,0,0,0,0]
[null,"Шпага","211",0,0,0,0,0,0,0,0,0,0,0,0,0,0,0,0,0,0,0,0,0,0,0,0,0,0,0,0,0,0,0,0,0,0,0,0,0,0,0,0,0,0,0,0,0,0,0,0,0,0,0,0,0,0,0,0]
[null,"Арт-фехтование","212",0,0,0,0,0,0,0,0,0,0,0,0,0,0,0,0,0,0,0,0,0,0,0,0,0,0,0,0,0,0,0,0,0,0,0,0,0,0,0,0,0,0,0,0,0,0,0,0,0,0,0,0,0,0,0,0]
[null,"Фигурное катание на коньках","213",0,0,0,0,0,0,0,0,0,0,0,0,0,0,0,0,0,0,0,0,0,0,0,0,0,0,0,0,0,0,0,0,0,0,0,0,0,0,0,0,0,0,0,0,0,0,0,0,0,0,0,0,0,0,0,0]
[null,"Фитнес-аэробика","214",0,0,0,0,0,0,0,0,0,0,0,0,0,0,0,0,0,0,0,0,0,0,0,0,0,0,0,0,0,0,0,0,0,0,0,0,0,0,0,0,0,0,0,0,0,0,0,0,0,0,0,0,0,0,0,0]
[null,"Флаинг диск","215",0,0,0,0,0,0,0,0,0,0,0,0,0,0,0,0,0,0,0,0,0,0,0,0,0,0,0,0,0,0,0,0,0,0,0,0,0,0,0,0,0,0,0,0,0,0,0,0,0,0,0,0,0,0,0,0]
[null,"Флорбол","216",0,0,0,0,0,0,0,0,0,0,0,0,0,0,0,0,0,0,0,0,0,0,0,0,0,0,0,0,0,0,0,0,0,0,0,0,0,0,0,0,0,0,0,0,0,0,0,0,0,0,0,0,0,0,0,0]
[null,"Фристайл - всего","217",0,0,0,0,0,0,0,0,0,0,0,0,0,0,0,0,0,0,0,0,0,0,0,0,0,0,0,0,0,0,0,0,0,0,0,0,0,0,0,0,0,0,0,0,0,0,0,0,0,0,0,0,0,0,0,0]
[null,"в том числе:\nАкробатика","218",0,0,0,0,0,0,0,0,0,0,0,0,0,0,0,0,0,0,0,0,0,0,0,0,0,0,0,0,0,0,0,0,0,0,0,0,0,0,0,0,0,0,0,0,0,0,0,0,0,0,0,0,0,0,0,0]
[null,"Могул","219",0,0,0,0,0,0,0,0,0,0,0,0,0,0,0,0,0,0,0,0,0,0,0,0,0,0,0,0,0,0,0,0,0,0,0,0,0,0,0,0,0,0,0,0,0,0,0,0,0,0,0,0,0,0,0,0]
[null,"Ски-кросс","220",0,0,0,0,0,0,0,0,0,0,0,0,0,0,0,0,0,0,0,0,0,0,0,0,0,0,0,0,0,0,0,0,0,0,0,0,0,0,0,0,0,0,0,0,0,0,0,0,0,0,0,0,0,0,0,0]
[null,"Хаф-пайп","221",0,0,0,0,0,0,0,0,0,0,0,0,0,0,0,0,0,0,0,0,0,0,0,0,0,0,0,0,0,0,0,0,0,0,0,0,0,0,0,0,0,0,0,0,0,0,0,0,0,0,0,0,0,0,0,0]
[null,"Слоуп-стайл","222",0,0,0,0,0,0,0,0,0,0,0,0,0,0,0,0,0,0,0,0,0,0,0,0,0,0,0,0,0,0,0,0,0,0,0,0,0,0,0,0,0,0,0,0,0,0,0,0,0,0,0,0,0,0,0,0]
[null,"Функциональное многоборье","223",0,0,0,0,0,0,0,0,0,0,0,0,0,0,0,0,0,0,0,0,0,0,0,0,0,0,0,0,0,0,0,0,0,0,0,0,0,0,0,0,0,0,0,0,0,0,0,0,0,0,0,0,0,0,0,0]
[null,"Футбол - всего","224",596,0,0,0,0,0,0,0,0,0,0,0,0,0,0,0,0,0,0,0,0,0,0,0,0,0,0,0,0,0,0,0,0,0,0,0,0,0,0,0,0,0,0,0,0,0,0,0,0,0,0,0,0,0,0,0]
[null,"в том числе:\nФутбол (муж.)","225",585,0,0,0,0,0,0,0,0,0,0,0,0,0,0,0,0,0,0,0,0,0,0,0,0,0,0,0,0,0,0,0,0,0,0,0,0,0,0,0,0,0,0,0,0,0,0,0,0,0,0,0,0,0,0,0]
[null,"Футбол (жен.)","226",0,0,0,0,0,0,0,0,0,0,0,0,0,0,0,0,0,0,0,0,0,0,0,0,0,0,0,0,0,0,0,0,0,0,0,0,0,0,0,0,0,0,0,0,0,0,0,0,0,0,0,0,0,0,0,0]
[null,"Мини-футбол (футзал)","227",11,0,0,0,0,0,0,0,0,0,0,0,0,0,0,0,0,0,0,0,0,0,0,0,0,0,0,0,0,0,0,0,0,0,0,0,0,0,0,0,0,0,0,0,0,0,0,0,0,0,0,0,0,0,0,0]
[null,"Пляжный футбол","228",0,0,0,0,0,0,0,0,0,0,0,0,0,0,0,0,0,0,0,0,0,0,0,0,0,0,0,0,0,0,0,0,0,0,0,0,0,0,0,0,0,0,0,0,0,0,0,0,0,0,0,0,0,0,0,0]
[null,"Хапсагай","229",0,0,0,0,0,0,0,0,0,0,0,0,0,0,0,0,0,0,0,0,0,0,0,0,0,0,0,0,0,0,0,0,0,0,0,0,0,0,0,0,0,0,0,0,0,0,0,0,0,0,0,0,0,0,0,0]
[null,"Хоккей - всего","230",100,0,0,0,0,0,0,0,0,0,0,0,0,0,0,0,0,0,0,0,0,0,0,0,0,0,0,0,0,0,0,0,0,0,0,0,0,0,0,0,0,0,0,0,0,0,0,0,0,0,0,0,0,0,0,0]
[null,"в том числе:\nХоккей (муж.)","231",100,0,0,0,0,0,0,0,0,0,0,0,0,0,0,0,0,0,0,0,0,0,0,0,0,0,0,0,0,0,0,0,0,0,0,0,0,0,0,0,0,0,0,0,0,0,0,0,0,0,0,0,0,0,0,0]
[null,"Хоккей (жен.)","232",0,0,0,0,0,0,0,0,0,0,0,0,0,0,0,0,0,0,0,0,0,0,0,0,0,0,0,0,0,0,0,0,0,0,0,0,0,0,0,0,0,0,0,0,0,0,0,0,0,0,0,0,0,0,0,0]
[null,"Хоккей на траве - всего","233",0,0,0,0,0,0,0,0,0,0,0,0,0,0,0,0,0,0,0,0,0,0,0,0,0,0,0,0,0,0,0,0,0,0,0,0,0,0,0,0,0,0,0,0,0,0,0,0,0,0,0,0,0,0,0,0]
[null,"в том числе:\nХоккей на траве (муж.)","234",0,0,0,0,0,0,0,0,0,0,0,0,0,0,0,0,0,0,0,0,0,0,0,0,0,0,0,0,0,0,0,0,0,0,0,0,0,0,0,0,0,0,0,0,0,0,0,0,0,0,0,0,0,0,0,0]
[null,"Хоккей на траве (жен.)","235",0,0,0,0,0,0,0,0,0,0,0,0,0,0,0,0,0,0,0,0,0,0,0,0,0,0,0,0,0,0,0,0,0,0,0,0,0,0,0,0,0,0,0,0,0,0,0,0,0,0,0,0,0,0,0,0]
[null,"Индорхоккей","236",0,0,0,0,0,0,0,0,0,0,0,0,0,0,0,0,0,0,0,0,0,0,0,0,0,0,0,0,0,0,0,0,0,0,0,0,0,0,0,0,0,0,0,0,0,0,0,0,0,0,0,0,0,0,0,0]
[null,"Хоккей с мячом","237",166,0,0,0,0,0,0,0,0,0,0,0,0,0,0,0,0,0,0,0,0,0,0,0,0,0,0,0,0,0,0,0,0,0,0,0,0,0,0,0,0,0,0,0,0,0,0,0,0,0,0,0,0,0,0,0]
[null,"Художественная гимнастика","238",232,0,0,0,0,0,0,0,0,0,0,0,0,0,0,0,0,0,0,0,0,0,0,0,0,0,0,0,0,0,0,0,0,0,0,0,0,0,0,0,0,0,0,0,0,0,0,0,0,0,0,0,0,0,0,0]
[null,"Хуреш","239",0,0,0,0,0,0,0,0,0,0,0,0,0,0,0,0,0,0,0,0,0,0,0,0,0,0,0,0,0,0,0,0,0,0,0,0,0,0,0,0,0,0,0,0,0,0,0,0,0,0,0,0,0,0,0,0]
[null,"Чир спорт","240",0,0,0,0,0,0,0,0,0,0,0,0,0,0,0,0,0,0,0,0,0,0,0,0,0,0,0,0,0,0,0,0,0,0,0,0,0,0,0,0,0,0,0,0,0,0,0,0,0,0,0,0,0,0,0,0]
[null,"Шахматы","241",30,0,0,0,0,0,0,0,0,0,0,0,0,0,0,0,0,0,0,0,0,0,0,0,0,0,0,0,0,0,0,0,0,0,0,0,0,0,0,0,0,0,0,0,0,0,0,0,0,0,0,0,0,0,0,0]
[null,"Шашки","242",0,0,0,0,0,0,0,0,0,0,0,0,0,0,0,0,0,0,0,0,0,0,0,0,0,0,0,0,0,0,0,0,0,0,0,0,0,0,0,0,0,0,0,0,0,0,0,0,0,0,0,0,0,0,0,0]
[null,"Шодсанлат","243",0,0,0,0,0,0,0,0,0,0,0,0,0,0,0,0,0,0,0,0,0,0,0,0,0,0,0,0,0,0,0,0,0,0,0,0,0,0,0,0,0,0,0,0,0,0,0,0,0,0,0,0,0,0,0,0]
[null,"Эстетическая гимнастика","244",0,0,0,0,0,0,0,0,0,0,0,0,0,0,0,0,0,0,0,0,0,0,0,0,0,0,0,0,0,0,0,0,0,0,0,0,0,0,0,0,0,0,0,0,0,0,0,0,0,0,0,0,0,0,0,0]
[null,"Якутские национальные прыжки","245",0,0,0,0,0,0,0,0,0,0,0,0,0,0,0,0,0,0,0,0,0,0,0,0,0,0,0,0,0,0,0,0,0,0,0,0,0,0,0,0,0,0,0,0,0,0,0,0,0,0,0,0,0,0,0,0]
[null,"ИТОГО","246",8496,11,8,7,0,46,0,0,0,0,0,1,0,0,0,3,0,0,0,0,0,0,0,0,0,0,0,0,0,0,0,0,0,0,0,0,0,0,2,0,7,1,1,0,0,5,0,0,0,0,0,9,7,5,0,31]
[null,"ИТОГО по олимпийским видам спорта","247",6519,0,1,1,0,7,0,0,0,0,0,0,0,0,0,0,0,0,0,0,0,0,0,0,0,0,0,0,0,0,0,0,0,0,0,0,0,0,0,0,0,0,0,0,0,0,0,0,0,0,0,0,1,1,0,7]
[null,"  в том числе: \n  по летним видам спорта","248",5696,0,1,1,0,7,0,0,0,0,0,0,0,0,0,0,0,0,0,0,0,0,0,0,0,0,0,0,0,0,0,0,0,0,0,0,0,0,0,0,0,0,0,0,0,0,0,0,0,0,0,0,1,1,0,7]
[null,"  по зимним видам спорта","249",823,0,0,0,0,0,0,0,0,0,0,0,0,0,0,0,0,0,0,0,0,0,0,0,0,0,0,0,0,0,0,0,0,0,0,0,0,0,0,0,0,0,0,0,0,0,0,0,0,0,0,0,0,0,0,0]
[null,"ИТОГО по неолимпийским видам спорта","250",1977,11,7,6,0,39,0,0,0,0,0,1,0,0,0,3,0,0,0,0,0,0,0,0,0,0,0,0,0,0,0,0,0,0,0,0,0,0,2,0,7,1,1,0,0,5,0,0,0,0,0,9,6,4,0,24]
[null,"ИТОГО по национальным видам спорта","251",0,0,0,0,0,0,0,0,0,0,0,0,0,0,0,0,0,0,0,0,0,0,0,0,0,0,0,0,0,0,0,0,0,0,0,0,0,0,0,0,0,0,0,0,0,0,0,0,0,0,0,0,0,0,0,0]
[null,"ИТОГО по прикладным видам спорта","252",0,0,0,0,0,0,0,0,0,0,0,0,0,0,0,0,0,0,0,0,0,0,0,0,0,0,0,0,0,0,0,0,0,0,0,0,0,0,0,0,0,0,0,0,0,0,0,0,0,0,0,0,0,0,0,0]
[null,"        По виду организации: \nДЮСШ - отделения, не соответствующие Перечню \"Олимпийский\"","253",7565,0,0,0,0,3,0,0,0,0,0,0,0,0,0,0,0,0,0,0,0,0,0,0,0,0,0,0,0,0,0,0,0,0,0,0,0,0,0,0,0,0,0,0,0,0,0,0,0,0,0,0,0,0,0,3]
[null,"     из них по \n     ведомственной\n     принадлежности: \nорганы управления в сфере образования","254",6101,0,0,0,0,3,0,0,0,0,0,0,0,0,0,0,0,0,0,0,0,0,0,0,0,0,0,0,0,0,0,0,0,0,0,0,0,0,0,0,0,0,0,0,0,0,0,0,0,0,0,0,0,0,0,3]
[null,"органы управления в сфере физической культуры и \nспорта","255",1464,0,0,0,0,0,0,0,0,0,0,0,0,0,0,0,0,0,0,0,0,0,0,0,0,0,0,0,0,0,0,0,0,0,0,0,0,0,0,0,0,0,0,0,0,0,0,0,0,0,0,0,0,0,0,0]
[null,"другая ведомственная принадлежность","256",0,0,0,0,0,0,0,0,0,0,0,0,0,0,0,0,0,0,0,0,0,0,0,0,0,0,0,0,0,0,0,0,0,0,0,0,0,0,0,0,0,0,0,0,0,0,0,0,0,0,0,0,0,0,0,0]
[null,"СШ - отделения, не соответствующие Перечню \"Олимпийский\"","257",704,0,0,0,0,0,0,0,0,0,0,0,0,0,0,0,0,0,0,0,0,0,0,0,0,0,0,0,0,0,0,0,0,0,0,0,0,0,0,0,0,0,0,0,0,0,0,0,0,0,0,0,0,0,0,0]
[null,"     из них по \n     ведомственной\n     принадлежности: \nорганы управления в сфере образования","258",0,0,0,0,0,0,0,0,0,0,0,0,0,0,0,0,0,0,0,0,0,0,0,0,0,0,0,0,0,0,0,0,0,0,0,0,0,0,0,0,0,0,0,0,0,0,0,0,0,0,0,0,0,0,0,0]
[null,"органы управления в сфере физической культуры и \nспорта","259",704,0,0,0,0,0,0,0,0,0,0,0,0,0,0,0,0,0,0,0,0,0,0,0,0,0,0,0,0,0,0,0,0,0,0,0,0,0,0,0,0,0,0,0,0,0,0,0,0,0,0,0,0,0,0,0]
[null,"другая ведомственная принадлежность","260",0,0,0,0,0,0,0,0,0,0,0,0,0,0,0,0,0,0,0,0,0,0,0,0,0,0,0,0,0,0,0,0,0,0,0,0,0,0,0,0,0,0,0,0,0,0,0,0,0,0,0,0,0,0,0,0]
[null,"СДЮСШОР - отделения, соответствующие Перечню \"Олимпийский\"","261",0,0,0,0,0,0,0,0,0,0,0,0,0,0,0,0,0,0,0,0,0,0,0,0,0,0,0,0,0,0,0,0,0,0,0,0,0,0,0,0,0,0,0,0,0,0,0,0,0,0,0,0,0,0,0,0]
[null,"     из них по \n     ведомственной\n     принадлежности:\nорганы управления в сфере образования","262",0,0,0,0,0,0,0,0,0,0,0,0,0,0,0,0,0,0,0,0,0,0,0,0,0,0,0,0,0,0,0,0,0,0,0,0,0,0,0,0,0,0,0,0,0,0,0,0,0,0,0,0,0,0,0,0]
[null,"органы управления в сфере физической культуры и спорта","263",0,0,0,0,0,0,0,0,0,0,0,0,0,0,0,0,0,0,0,0,0,0,0,0,0,0,0,0,0,0,0,0,0,0,0,0,0,0,0,0,0,0,0,0,0,0,0,0,0,0,0,0,0,0,0,0]
[null,"другая ведомственная принадлежность","264",0,0,0,0,0,0,0,0,0,0,0,0,0,0,0,0,0,0,0,0,0,0,0,0,0,0,0,0,0,0,0,0,0,0,0,0,0,0,0,0,0,0,0,0,0,0,0,0,0,0,0,0,0,0,0,0]
[null,"СШОР - отделения, соответствующие Перечню \"Олимпийский\"","265",37,0,0,0,0,0,0,0,0,0,0,0,0,0,0,0,0,0,0,0,0,0,0,0,0,0,0,0,0,0,0,0,0,0,0,0,0,0,0,0,0,0,0,0,0,0,0,0,0,0,0,0,0,0,0,0]
[null,"     из них по \n     ведомственной\n     принадлежности:\nорганы управления в сфере образования","266",0,0,0,0,0,0,0,0,0,0,0,0,0,0,0,0,0,0,0,0,0,0,0,0,0,0,0,0,0,0,0,0,0,0,0,0,0,0,0,0,0,0,0,0,0,0,0,0,0,0,0,0,0,0,0,0]
[null,"органы управления в сфере физической культуры и спорта","267",37,0,0,0,0,0,0,0,0,0,0,0,0,0,0,0,0,0,0,0,0,0,0,0,0,0,0,0,0,0,0,0,0,0,0,0,0,0,0,0,0,0,0,0,0,0,0,0,0,0,0,0,0,0,0,0]
[null,"другая ведомственная принадлежность","268",0,0,0,0,0,0,0,0,0,0,0,0,0,0,0,0,0,0,0,0,0,0,0,0,0,0,0,0,0,0,0,0,0,0,0,0,0,0,0,0,0,0,0,0,0,0,0,0,0,0,0,0,0,0,0,0]
[null,"УОР","269",0,0,0,0,0,0,0,0,0,0,0,0,0,0,0,0,0,0,0,0,0,0,0,0,0,0,0,0,0,0,0,0,0,0,0,0,0,0,0,0,0,0,0,0,0,0,0,0,0,0,0,0,0,0,0,0]
[null,"     из них по\n     ведомственной\n     принадлежности:\nорганы управления в сфере образования","270",0,0,0,0,0,0,0,0,0,0,0,0,0,0,0,0,0,0,0,0,0,0,0,0,0,0,0,0,0,0,0,0,0,0,0,0,0,0,0,0,0,0,0,0,0,0,0,0,0,0,0,0,0,0,0,0]
[null,"органы управления в сфере физической культуры и спорта","271",0,0,0,0,0,0,0,0,0,0,0,0,0,0,0,0,0,0,0,0,0,0,0,0,0,0,0,0,0,0,0,0,0,0,0,0,0,0,0,0,0,0,0,0,0,0,0,0,0,0,0,0,0,0,0,0]
[null,"другая ведомственная принадлежность","272",0,0,0,0,0,0,0,0,0,0,0,0,0,0,0,0,0,0,0,0,0,0,0,0,0,0,0,0,0,0,0,0,0,0,0,0,0,0,0,0,0,0,0,0,0,0,0,0,0,0,0,0,0,0,0,0]
[null,"ЦСП","273",0,11,8,7,0,43,0,0,0,0,0,1,0,0,0,3,0,0,0,0,0,0,0,0,0,0,0,0,0,0,0,0,0,0,0,0,0,0,2,0,7,1,1,0,0,5,0,0,0,0,0,9,7,5,0,28]
[null,"     из них по\n     ведомственной\n     принадлежности:\nорганы управления в сфере образования","274",0,0,0,0,0,0,0,0,0,0,0,0,0,0,0,0,0,0,0,0,0,0,0,0,0,0,0,0,0,0,0,0,0,0,0,0,0,0,0,0,0,0,0,0,0,0,0,0,0,0,0,0,0,0,0,0]
[null,"органы управления в сфере физической культуры и спорта","275",0,11,8,7,0,43,0,0,0,0,0,1,0,0,0,3,0,0,0,0,0,0,0,0,0,0,0,0,0,0,0,0,0,0,0,0,0,0,2,0,7,1,1,0,0,5,0,0,0,0,0,9,7,5,0,28]
[null,"другая ведомственная принадлежность","276",0,0,0,0,0,0,0,0,0,0,0,0,0,0,0,0,0,0,0,0,0,0,0,0,0,0,0,0,0,0,0,0,0,0,0,0,0,0,0,0,0,0,0,0,0,0,0,0,0,0,0,0,0,0,0,0]
[null,"ЦОП","277",0,0,0,0,0,0,0,0,0,0,0,0,0,0,0,0,0,0,0,0,0,0,0,0,0,0,0,0,0,0,0,0,0,0,0,0,0,0,0,0,0,0,0,0,0,0,0,0,0,0,0,0,0,0,0,0]
[null,"     из них по\n     ведомственной\n     принадлежности:\nорганы управления в сфере образования","278",0,0,0,0,0,0,0,0,0,0,0,0,0,0,0,0,0,0,0,0,0,0,0,0,0,0,0,0,0,0,0,0,0,0,0,0,0,0,0,0,0,0,0,0,0,0,0,0,0,0,0,0,0,0,0,0]
[null,"органы управления в сфере физической культуры и спорта","279",0,0,0,0,0,0,0,0,0,0,0,0,0,0,0,0,0,0,0,0,0,0,0,0,0,0,0,0,0,0,0,0,0,0,0,0,0,0,0,0,0,0,0,0,0,0,0,0,0,0,0,0,0,0,0,0]
[null,"другая ведомственная принадлежность","280",0,0,0,0,0,0,0,0,0,0,0,0,0,0,0,0,0,0,0,0,0,0,0,0,0,0,0,0,0,0,0,0,0,0,0,0,0,0,0,0,0,0,0,0,0,0,0,0,0,0,0,0,0,0,0,0]
[null,"Другие организации","281",190,0,0,0,0,0,0,0,0,0,0,0,0,0,0,0,0,0,0,0,0,0,0,0,0,0,0,0,0,0,0,0,0,0,0,0,0,0,0,0,0,0,0,0,0,0,0,0,0,0,0,0,0,0,0,0]
[null,"     из них по\n     ведомственной\n     принадлежности:\nорганы управления в сфере образования","282",190,0,0,0,0,0,0,0,0,0,0,0,0,0,0,0,0,0,0,0,0,0,0,0,0,0,0,0,0,0,0,0,0,0,0,0,0,0,0,0,0,0,0,0,0,0,0,0,0,0,0,0,0,0,0,0]
[null,"органы управления в сфере физической культуры и спорта","283",0,0,0,0,0,0,0,0,0,0,0,0,0,0,0,0,0,0,0,0,0,0,0,0,0,0,0,0,0,0,0,0,0,0,0,0,0,0,0,0,0,0,0,0,0,0,0,0,0,0,0,0,0,0,0,0]
[null,"другая ведомственная принадлежность","284",0,0,0,0,0,0,0,0,0,0,0,0,0,0,0,0,0,0,0,0,0,0,0,0,0,0,0,0,0,0,0,0,0,0,0,0,0,0,0,0,0,0,0,0,0,0,0,0,0,0,0,0,0,0,0,0]
[null,null,null,0,0,0,0,0,0,0,0,0,0,0,0,0,0,0,0,0,0,0,0,0,0,0,0,0,0,0,0,0,0,0,0,0,0,0,0,0,0,0,0,0,0,0,0,0,0,0,0,0,0,0,0,0,0,0,0]

{"sheet":"Раздел9","index":9,"n_rows":291,"n_cols":18,"rows_kept":291,"cut":false,"hidden":false,"merged":[[4,14,5,14],[4,15,5,15],[3,12,3,15],[4,9,5,9],[4,10,5,10],[4,11,5,11],[4,12,5,12],[4,13,5,13],[0,0,122,0],[0,1,0,16],[1,12,1,17],[2,1,5,1],[2,2,5,2],[2,3,3,4],[2,5,2,16],[2,17,5,17],[3,5,3,8],[3,9,3,11],[3,16,5,16],[4,3,5,3],[4,4,5,4],[4,5,5,5],[4,6,5,6],[4,7,4,8]]}
[null,"Раздел IX. Тренерский состав"]
[null,null,null,null,null,null,null,null,null,null,null,null,"Код по ОКЕИ: человек – 792"]
[null,"Виды спорта","№ строки","Число тренеров",null,"из них (гр. 4) имеют:",null,null,null,null,null,null,null,null,null,null,null,"Число тренеров-преподавателей (из гр. 3)"]
[null,null,null,null,null,"профессиональное образование",null,null,null,"квалификационную категорию",null,null,"в возрасте:",null,null,null,"Звание «Заслуженный тренер России»"]
[null,null,null,"Всего","в том числе штатных","высшее","среднее","в том числе\nфизкультурное",null,"высшую","первую","вторую","до 30 лет","31-45 лет","46-60 лет","старше 60 лет"]
[null,null,null,null,null,null,null,"высшее","среднее"]
[null,1,2,3,4,5,6,7,8,9,10,11,12,13,14,15,16,17]
[null,"Авиамодельный спорт","01",0,0,0,0,0,0,0,0,0,0,0,0,0,0,0]
[null,"Автомобильный спорт","02",0,0,0,0,0,0,0,0,0,0,0,0,0,0,0]
[null,"Автомодельный спорт","03",0,0,0,0,0,0,0,0,0,0,0,0,0,0,0]
[null,"Айкидо","04",0,0,0,0,0,0,0,0,0,0,0,0,0,0,0]
[null,"Айсшток","05",0,0,0,0,0,0,0,0,0,0,0,0,0,0,0]
[null,"Акробатический рок-н-ролл","06",0,0,0,0,0,0,0,0,0,0,0,0,0,0,0]
[null,"Альпинизм","07",0,0,0,0,0,0,0,0,0,0,0,0,0,0,0]
[null,"Американский футбол","08",0,0,0,0,0,0,0,0,0,0,0,0,0,0,0]
[null,"Армейский рукопашный бой","09",0,0,0,0,0,0,0,0,0,0,0,0,0,0,0]
[null,"Армрестлинг","10",0,0,0,0,0,0,0,0,0,0,0,0,0,0,0]
[null,"Бадминтон","11",0,0,0,0,0,0,0,0,0,0,0,0,0,0,0]
[null,"Баскетбол - всего","12",2,1,1,0,1,0,0,0,1,0,0,1,0,0,2]
[null,"в том числе:\nБаскетбол (муж.)","13",2,1,1,0,1,0,0,0,1,0,0,1,0,0,2]
[null,"Баскетбол (жен.)","14",0,0,0,0,0,0,0,0,0,0,0,0,0,0,0]
[null,"Бейсбол","15",0,0,0,0,0,0,0,0,0,0,0,0,0,0,0]
[null,"Биатлон","16",3,2,1,1,0,1,1,0,0,1,1,0,0,0,1]
[null,"Бильярдный спорт","17",0,0,0,0,0,0,0,0,0,0,0,0,0,0,0]
[null,"Бобслей - всего","18",0,0,0,0,0,0,0,0,0,0,0,0,0,0,0]
[null,"в том числе:\nБобслей","19",0,0,0,0,0,0,0,0,0,0,0,0,0,0,0]
[null,"Скелетон","20",0,0,0,0,0,0,0,0,0,0,0,0,0,0,0]
[null,"Бодибилдинг","21",0,0,0,0,0,0,0,0,0,0,0,0,0,0,0]
[null,"Бокс","22",12,8,4,4,2,3,1,3,0,0,4,3,1,0,12]
[null,"Борьба на поясах","23",0,0,0,0,0,0,0,0,0,0,0,0,0,0,0]
[null,"Боулинг","24",0,0,0,0,0,0,0,0,0,0,0,0,0,0,0]
[null,"Велосипедный спорт - всего","25",0,0,0,0,0,0,0,0,0,0,0,0,0,0,0]
[null,"в том числе:\nBMX","26",0,0,0,0,0,0,0,0,0,0,0,0,0,0,0]
[null,"Маунтинбайк","27",0,0,0,0,0,0,0,0,0,0,0,0,0,0,0]
[null,"Трек","28",0,0,0,0,0,0,0,0,0,0,0,0,0,0,0]
[null,"Шоссе","29",0,0,0,0,0,0,0,0,0,0,0,0,0,0,0]
[null,"Вертолетный спорт","30",0,0,0,0,0,0,0,0,0,0,0,0,0,0,0]
[null,"Водно-моторный спорт","31",0,0,0,0,0,0,0,0,0,0,0,0,0,0,0]
[null,"Водно-спасательное многоборье","32",0,0,0,0,0,0,0,0,0,0,0,0,0,0,0]
[null,"Водное поло - всего ","33",0,0,0,0,0,0,0,0,0,0,0,0,0,0,0]
[null,"в том числе:\nВодное поло (муж.)","34",0,0,0,0,0,0,0,0,0,0,0,0,0,0,0]
[null,"Водное поло (жен.)","35",0,0,0,0,0,0,0,0,0,0,0,0,0,0,0]
[null,"Воднолыжный спорт","36",0,0,0,0,0,0,0,0,0,0,0,0,0,0,0]
[null,"Военно-прикладной спорт","37",0,0,0,0,0,0,0,0,0,0,0,0,0,0,0]
[null,"Военно-спортивное многоборье","38",0,0,0,0,0,0,0,0,0,0,0,0,0,0,0]
[null,"Воздухоплавательный спорт","39",0,0,0,0,0,0,0,0,0,0,0,0,0,0,0]
[null,"Волейбол - всего","40",45,27,15,8,9,6,3,2,1,4,11,9,3,0,43]
[null,"в том числе:\nВолейбол (муж.)","41",21,10,6,3,5,3,0,2,1,1,4,5,0,0,20]
[null,"Волейбол (жен.)","42",24,17,9,5,4,3,3,0,0,3,7,4,3,0,23]
[null,"Пляжный волейбол (муж.)","43",0,0,0,0,0,0,0,0,0,0,0,0,0,0,0]
[null,"Пляжный волейбол (жен.)","44",0,0,0,0,0,0,0,0,0,0,0,0,0,0,0]
[null,"Восточное боевое единоборство","45",0,0,0,0,0,0,0,0,0,0,0,0,0,0,0]
[null,"Всестилевое каратэ","46",0,0,0,0,0,0,0,0,0,0,0,0,0,0,0]
[null,"Гандбол - всего","47",16,12,5,6,3,3,2,2,0,2,4,4,2,0,15]
[null,"в том числе:\nГандбол (муж.)","48",7,5,1,3,1,2,1,1,0,1,2,1,1,0,6]
[null,"Гандбол (жен.)","49",9,7,4,3,2,1,1,1,0,1,2,3,1,0,9]
[null,"Пляжный гандбол","50",0,0,0,0,0,0,0,0,0,0,0,0,0,0,0]
[null,"Гиревой спорт","51",1,0,0,0,0,0,0,0,0,0,0,0,0,0,0]
[null,"Го","52",0,0,0,0,0,0,0,0,0,0,0,0,0,0,0]
[null,"Гольф","53",0,0,0,0,0,0,0,0,0,0,0,0,0,0,0]
[null,"Гонки на охотничьих лыжах","54",0,0,0,0,0,0,0,0,0,0,0,0,0,0,0]
[null,"Горнолыжный спорт","55",6,6,5,1,0,0,2,3,1,2,2,2,0,0,0]
[null,"Городошный спорт","56",0,0,0,0,0,0,0,0,0,0,0,0,0,0,0]
[null,"Гребля на байдарках и каноэ","57",0,0,0,0,0,0,0,0,0,0,0,0,0,0,0]
[null,"Гребля на шлюпках","58",0,0,0,0,0,0,0,0,0,0,0,0,0,0,0]
[null,"Гребной слалом","59",3,3,3,0,1,0,2,1,0,0,1,2,0,0,2]
[null,"Гребной спорт - всего","60",0,0,0,0,0,0,0,0,0,0,0,0,0,0,0]
[null,"в том числе:\nАкадемическая гребля","61",0,0,0,0,0,0,0,0,0,0,0,0,0,0,0]
[null,"Гребля-индор","62",0,0,0,0,0,0,0,0,0,0,0,0,0,0,0]
[null,"Народная гребля","63",0,0,0,0,0,0,0,0,0,0,0,0,0,0,0]
[null,"Прибрежная гребля","64",0,0,0,0,0,0,0,0,0,0,0,0,0,0,0]
[null,"Гребно-парусное двоеборье","65",0,0,0,0,0,0,0,0,0,0,0,0,0,0,0]
[null,"Дартс","66",0,0,0,0,0,0,0,0,0,0,0,0,0,0,0]
[null,"Джиу-джитсу","67",0,0,0,0,0,0,0,0,0,0,0,0,0,0,0]
[null,"Дзюдо","68",22,17,7,9,5,8,3,4,1,4,8,5,0,0,17]
[null,"Ездовой спорт","69",0,0,0,0,0,0,0,0,0,0,0,0,0,0,0]
[null,"Капоэйра","70",0,0,0,0,0,0,0,0,0,0,0,0,0,0,0]
[null,"Каратэ","71",0,0,0,0,0,0,0,0,0,0,0,0,0,0,0]
[null,"Кендо","72",0,0,0,0,0,0,0,0,0,0,0,0,0,0,0]
[null,"Керешу","73",0,0,0,0,0,0,0,0,0,0,0,0,0,0,0]
[null,"Кёрлинг - всего","74",0,0,0,0,0,0,0,0,0,0,0,0,0,0,0]
[null,"в том числе:\nКерлинг (муж.)","75",0,0,0,0,0,0,0,0,0,0,0,0,0,0,0]
[null,"Керлинг (жен.)","76",0,0,0,0,0,0,0,0,0,0,0,0,0,0,0]
[null,"Кикбоксинг","77",2,2,2,0,1,0,1,0,1,0,1,1,0,0,2]
[null,"Кинологический спорт","78",0,0,0,0,0,0,0,0,0,0,0,0,0,0,0]
[null,"Киокусинкай","79",0,0,0,0,0,0,0,0,0,0,0,0,0,0,0]
[null,"Комплексное единоборство","80",0,0,0,0,0,0,0,0,0,0,0,0,0,0,0]
[null,"Компьютерный спорт","81",0,0,0,0,0,0,0,0,0,0,0,0,0,0,0]
[null,"Конный спорт","82",4,4,0,4,0,2,0,0,0,2,0,2,0,0,4]
[null,"Конькобежный спорт - всего","83",0,0,0,0,0,0,0,0,0,0,0,0,0,0,0]
[null,"в том числе:\nКонькобежный спорт","84",0,0,0,0,0,0,0,0,0,0,0,0,0,0,0]
[null,"Шорт-трек","85",0,0,0,0,0,0,0,0,0,0,0,0,0,0,0]
[null,"Корэш","86",0,0,0,0,0,0,0,0,0,0,0,0,0,0,0]
[null,"Корфбол","87",0,0,0,0,0,0,0,0,0,0,0,0,0,0,0]
[null,"Кудо","88",0,0,0,0,0,0,0,0,0,0,0,0,0,0,0]
[null,"Лапта","89",0,0,0,0,0,0,0,0,0,0,0,0,0,0,0]
[null,"Легкая атлетика - всего","90",20,8,7,1,7,1,5,1,1,1,3,2,2,0,20]
[null,"в том числе:\nСпринтерский и барьерный бег","91",6,2,2,0,2,0,1,0,1,1,0,1,0,0,6]
[null,"Бег на средние дистанции и бег с препятствиями","92",2,1,1,0,1,0,1,0,0,0,0,1,0,0,2]
[null,"Бег на длинные и сверхдлинные дистанции","93",3,0,0,0,0,0,0,0,0,0,0,0,0,0,3]
[null,"Многоборья","94",5,3,2,1,2,1,1,1,0,0,2,0,1,0,5]
[null,"Прыжки","95",2,1,1,0,1,0,1,0,0,0,0,0,1,0,2]
[null,"Метания","96",1,0,0,0,0,0,0,0,0,0,0,0,0,0,1]
[null,"Спортивная ходьба","97",1,1,1,0,1,0,1,0,0,0,1,0,0,0,1]
[null,"Лыжное двоеборье","98",0,0,0,0,0,0,0,0,0,0,0,0,0,0,0]
[null,"Лыжные гонки","99",13,7,4,3,3,3,2,2,2,1,1,3,2,0,11]
[null,"Мас-рестлинг","100",0,0,0,0,0,0,0,0,0,0,0,0,0,0,0]
[null,"Международное военно-спортивное многоборье","101",0,0,0,0,0,0,0,0,0,0,0,0,0,0,0]
[null,"Многоборье кинологов","102",0,0,0,0,0,0,0,0,0,0,0,0,0,0,0]
[null,"Многоборье спасателей МЧС России","103",0,0,0,0,0,0,0,0,0,0,0,0,0,0,0]
[null,"Морское многоборье","104",0,0,0,0,0,0,0,0,0,0,0,0,0,0,0]
[null,"Мотоциклетный спорт","105",0,0,0,0,0,0,0,0,0,0,0,0,0,0,0]
[null,"Настольный теннис","106",9,4,2,2,0,1,1,1,0,0,2,2,0,0,9]
[null,"Парашютный спорт","107",0,0,0,0,0,0,0,0,0,0,0,0,0,0,0]
[null,"Парусный спорт","108",0,0,0,0,0,0,0,0,0,0,0,0,0,0,0]
[null,"Пауэрлифтинг","109",1,0,0,0,0,0,0,0,0,0,0,0,0,0,0]
[null,"Перетягивание каната","110",0,0,0,0,0,0,0,0,0,0,0,0,0,0,0]
[null,"Петанк","111",0,0,0,0,0,0,0,0,0,0,0,0,0,0,0]
[null,"Плавание - всего","112",2,1,0,1,0,0,0,0,0,1,0,0,0,0,2]
[null,"в том числе:\nПлавание ","113",2,1,0,1,0,0,0,0,0,1,0,0,0,0,2]
[null,"Открытая вода","114",0,0,0,0,0,0,0,0,0,0,0,0,0,0,0]
[null,"Планерный спорт","115",0,0,0,0,0,0,0,0,0,0,0,0,0,0,0]
[null,"Подводный спорт","116",0,0,0,0,0,0,0,0,0,0,0,0,0,0,0]
[null,"Пожарно-спасательный спорт","117",0,0,0,0,0,0,0,0,0,0,0,0,0,0,0]
[null,"Полиатлон","118",0,0,0,0,0,0,0,0,0,0,0,0,0,0,0]
[null,"Практическая стрельба","119",0,0,0,0,0,0,0,0,0,0,0,0,0,0,0]
[null,"Прыжки в воду - всего","120",0,0,0,0,0,0,0,0,0,0,0,0,0,0,0]
[null,"в том числе:\nПрыжки в воду","121",0,0,0,0,0,0,0,0,0,0,0,0,0,0,0]
[null,"Прыжки в открытый водоем","122",0,0,0,0,0,0,0,0,0,0,0,0,0,0,0]
[null,"Прыжки на батуте - всего","123",2,2,2,0,2,0,1,0,0,0,2,0,0,0,2]
[null,"в том числе:\nАкробатическая дорожка","124",0,0,0,0,0,0,0,0,0,0,0,0,0,0,0]
[null,"Двойной минитрамп","125",0,0,0,0,0,0,0,0,0,0,0,0,0,0,0]
[null,"Индивидуальные прыжки","126",0,0,0,0,0,0,0,0,0,0,0,0,0,0,0]
[null,"Синхронные прыжки","127",0,0,0,0,0,0,0,0,0,0,0,0,0,0,0]
[null,"Прыжки на лыжах с трамплина","128",0,0,0,0,0,0,0,0,0,0,0,0,0,0,0]
[null,"Пулевая стрельба - всего","129",0,0,0,0,0,0,0,0,0,0,0,0,0,0,0]
[null,"в том числе:\nПневматическая винтовка","130",0,0,0,0,0,0,0,0,0,0,0,0,0,0,0]
[null,"Пневматический пистолет","131",0,0,0,0,0,0,0,0,0,0,0,0,0,0,0]
[null,"Малокалиберная винтовка","132",0,0,0,0,0,0,0,0,0,0,0,0,0,0,0]
[null,"Малокалиберный пистолет","133",0,0,0,0,0,0,0,0,0,0,0,0,0,0,0]
[null,"Движущаяся мишень","134",0,0,0,0,0,0,0,0,0,0,0,0,0,0,0]
[null,"Пэйнтбол","135",0,0,0,0,0,0,0,0,0,0,0,0,0,0,0]
[null,"Радиоспорт","136",0,0,0,0,0,0,0,0,0,0,0,0,0,0,0]
[null,"Рафтинг","137",0,0,0,0,0,0,0,0,0,0,0,0,0,0,0]
[null,"Регби - всего","138",0,0,0,0,0,0,0,0,0,0,0,0,0,0,0]
[null,"в том числе:\nРегби","139",0,0,0,0,0,0,0,0,0,0,0,0,0,0,0]
[null,"Регби 7 (муж.)","140",0,0,0,0,0,0,0,0,0,0,0,0,0,0,0]
[null,"Регби 7 (жен.)","141",0,0,0,0,0,0,0,0,0,0,0,0,0,0,0]
[null,"Регби - пляжное","142",0,0,0,0,0,0,0,0,0,0,0,0,0,0,0]
[null,"Регбол","143",0,0,0,0,0,0,0,0,0,0,0,0,0,0,0]
[null,"Роллер спорт","144",0,0,0,0,0,0,0,0,0,0,0,0,0,0,0]
[null,"Рукопашный бой","145",0,0,0,0,0,0,0,0,0,0,0,0,0,0,0]
[null,"Рыболовный спорт","146",0,0,0,0,0,0,0,0,0,0,0,0,0,0,0]
[null,"Сават","147",0,0,0,0,0,0,0,0,0,0,0,0,0,0,0]
[null,"Самбо","148",57,41,20,19,9,19,9,7,2,15,15,10,1,1,53]
[null,"Самолетный спорт","149",0,0,0,0,0,0,0,0,0,0,0,0,0,0,0]
[null,"Санный спорт","150",0,0,0,0,0,0,0,0,0,0,0,0,0,0,0]
[null,"Северное многоборье","151",0,0,0,0,0,0,0,0,0,0,0,0,0,0,0]
[null,"Серфинг","152",0,0,0,0,0,0,0,0,0,0,0,0,0,0,0]
[null,"Синхронное плавание","153",0,0,0,0,0,0,0,0,0,0,0,0,0,0,0]
[null,"Скалолазание","154",0,0,0,0,0,0,0,0,0,0,0,0,0,0,0]
[null,"Сквош","155",0,0,0,0,0,0,0,0,0,0,0,0,0,0,0]
[null,"Скейтбординг","156",0,0,0,0,0,0,0,0,0,0,0,0,0,0,0]
[null,"Служебно-прикладной спорт","157",0,0,0,0,0,0,0,0,0,0,0,0,0,0,0]
[null,"Служебно-прикладной спорт ФСО России","158",0,0,0,0,0,0,0,0,0,0,0,0,0,0,0]
[null,"Служебно-прикладной спорт ФТС России","159",0,0,0,0,0,0,0,0,0,0,0,0,0,0,0]
[null,"Служебное двоеборье","160",0,0,0,0,0,0,0,0,0,0,0,0,0,0,0]
[null,"Служебное единоборство","161",0,0,0,0,0,0,0,0,0,0,0,0,0,0,0]
[null,"Служебное многоборье","162",0,0,0,0,0,0,0,0,0,0,0,0,0,0,0]
[null,"Служебный биатлон","163",0,0,0,0,0,0,0,0,0,0,0,0,0,0,0]
[null,"Спасательный спорт","164",0,0,0,0,0,0,0,0,0,0,0,0,0,0,0]
[null,"Стрельба из боевого ручного стрелкового оружия","165",0,0,0,0,0,0,0,0,0,0,0,0,0,0,0]
[null,"Стрельба из штатного или табельного оружия","166",0,0,0,0,0,0,0,0,0,0,0,0,0,0,0]
[null,"Смешанное боевое единоборство (ММА)","167",0,0,0,0,0,0,0,0,0,0,0,0,0,0,0]
[null,"Сноуборд","168",1,1,0,1,0,0,0,0,1,0,0,1,0,0,0]
[null,"Современное пятиборье","169",0,0,0,0,0,0,0,0,0,0,0,0,0,0,0]
[null,"Софтбол","170",0,0,0,0,0,0,0,0,0,0,0,0,0,0,0]
[null,"Спорт сверхлегкой авиации","171",0,0,0,0,0,0,0,0,0,0,0,0,0,0,0]
[null,"Спортивная акробатика","172",8,7,4,2,2,1,1,0,0,3,1,3,0,0,8]
[null,"Спортивная аэробика","173",0,0,0,0,0,0,0,0,0,0,0,0,0,0,0]
[null,"Спортивная борьба - всего","174",44,36,17,17,8,11,7,11,2,8,18,10,0,0,35]
[null,"в том числе:\nВольная борьба","175",4,3,2,1,1,1,1,0,0,2,0,1,0,0,4]
[null,"Греко-римская борьба","176",40,33,15,16,7,10,6,11,2,6,18,9,0,0,31]
[null,"Грэпплинг","177",0,0,0,0,0,0,0,0,0,0,0,0,0,0,0]
[null,"Грэпплинг-ги","178",0,0,0,0,0,0,0,0,0,0,0,0,0,0,0]
[null,"Панкратион","179",0,0,0,0,0,0,0,0,0,0,0,0,0,0,0]
[null,"Спортивная гимнастика","180",0,0,0,0,0,0,0,0,0,0,0,0,0,0,0]
[null,"Спортивная йога","181",0,0,0,0,0,0,0,0,0,0,0,0,0,0,0]
[null,"Спортивно-прикладное собаководство","182",0,0,0,0,0,0,0,0,0,0,0,0,0,0,0]
[null,"Спортивное ориентирование","183",7,3,1,2,0,2,1,0,0,0,3,0,0,0,5]
[null,"Спортивный бридж","184",0,0,0,0,0,0,0,0,0,0,0,0,0,0,0]
[null,"Спортивный туризм","185",0,0,0,0,0,0,0,0,0,0,0,0,0,0,0]
[null,"Стендовая стрельба - всего","186",0,0,0,0,0,0,0,0,0,0,0,0,0,0,0]
[null,"в том числе:\nТрап","187",0,0,0,0,0,0,0,0,0,0,0,0,0,0,0]
[null,"Скит","188",0,0,0,0,0,0,0,0,0,0,0,0,0,0,0]
[null,"Дубль-трап","189",0,0,0,0,0,0,0,0,0,0,0,0,0,0,0]
[null,"Спортинг","190",0,0,0,0,0,0,0,0,0,0,0,0,0,0,0]
[null,"Стрельба из арбалета","191",0,0,0,0,0,0,0,0,0,0,0,0,0,0,0]
[null,"Стрельба из лука - всего","192",1,1,1,0,0,0,0,0,0,1,0,0,0,0,1]
[null,"в том числе:\nКлассический лук","193",1,1,1,0,0,0,0,0,0,1,0,0,0,0,1]
[null,"   Блочный лук","194",0,0,0,0,0,0,0,0,0,0,0,0,0,0,0]
[null,"   Ачери ","195",0,0,0,0,0,0,0,0,0,0,0,0,0,0,0]
[null,"Судомодельный спорт","196",0,0,0,0,0,0,0,0,0,0,0,0,0,0,0]
[null,"Сумо","197",0,0,0,0,0,0,0,0,0,0,0,0,0,0,0]
[null,"Тайский бокс","198",0,0,0,0,0,0,0,0,0,0,0,0,0,0,0]
[null,"Танцевальный спорт","199",0,0,0,0,0,0,0,0,0,0,0,0,0,0,0]
[null,"Теннис","200",0,0,0,0,0,0,0,0,0,0,0,0,0,0,0]
[null,"Триатлон","201",0,0,0,0,0,0,0,0,0,0,0,0,0,0,0]
[null,"Тхэквондо - всего","202",0,0,0,0,0,0,0,0,0,0,0,0,0,0,0]
[null,"в том числе:\nТхэквондо (ГТФ, ИТФ, МФТ)","203",0,0,0,0,0,0,0,0,0,0,0,0,0,0,0]
[null,"Тхэквондо (ВТФ)","204",0,0,0,0,0,0,0,0,0,0,0,0,0,0,0]
[null,"Тяжелая атлетика","205",0,0,0,0,0,0,0,0,0,0,0,0,0,0,0]
[null,"Универсальный бой","206",0,0,0,0,0,0,0,0,0,0,0,0,0,0,0]
[null,"Ушу","207",0,0,0,0,0,0,0,0,0,0,0,0,0,0,0]
[null,"Фехтование - всего","208",0,0,0,0,0,0,0,0,0,0,0,0,0,0,0]
[null,"в том числе:\nРапира","209",0,0,0,0,0,0,0,0,0,0,0,0,0,0,0]
[null,"Сабля","210",0,0,0,0,0,0,0,0,0,0,0,0,0,0,0]
[null,"Шпага","211",0,0,0,0,0,0,0,0,0,0,0,0,0,0,0]
[null,"Арт-фехтование","212",0,0,0,0,0,0,0,0,0,0,0,0,0,0,0]
[null,"Фигурное катание на коньках","213",0,0,0,0,0,0,0,0,0,0,0,0,0,0,0]
[null,"Фитнес-аэробика","214",0,0,0,0,0,0,0,0,0,0,0,0,0,0,0]
[null,"Флаинг диск","215",0,0,0,0,0,0,0,0,0,0,0,0,0,0,0]
[null,"Флорбол","216",0,0,0,0,0,0,0,0,0,0,0,0,0,0,0]
[null,"Фристайл - всего","217",0,0,0,0,0,0,0,0,0,0,0,0,0,0,0]
[null,"в том числе:\nАкробатика","218",0,0,0,0,0,0,0,0,0,0,0,0,0,0,0]
[null,"Могул","219",0,0,0,0,0,0,0,0,0,0,0,0,0,0,0]
[null,"Ски-кросс","220",0,0,0,0,0,0,0,0,0,0,0,0,0,0,0]
[null,"Хаф-пайп","221",0,0,0,0,0,0,0,0,0,0,0,0,0,0,0]
[null,"Слоуп-стайл","222",0,0,0,0,0,0,0,0,0,0,0,0,0,0,0]
[null,"Функциональное многоборье","223",0,0,0,0,0,0,0,0,0,0,0,0,0,0,0]
[null,"Футбол - всего","224",26,16,11,4,7,3,7,0,1,2,6,7,1,0,25]
[null,"в том числе:\nФутбол (муж.)","225",25,16,11,4,7,3,7,0,1,2,6,7,1,0,25]
[null,"Футбол (жен.)","226",0,0,0,0,0,0,0,0,0,0,0,0,0,0,0]
[null,"Мини-футбол (футзал)","227",1,0,0,0,0,0,0,0,0,0,0,0,0,0,0]
[null,"Пляжный футбол","228",0,0,0,0,0,0,0,0,0,0,0,0,0,0,0]
[null,"Хапсагай","229",0,0,0,0,0,0,0,0,0,0,0,0,0,0,0]
[null,"Хоккей - всего","230",3,3,2,1,1,1,0,0,1,1,2,0,0,0,3]
[null,"в том числе:\nХоккей (муж.)","231",3,3,2,1,1,1,0,0,1,1,2,0,0,0,3]
[null,"Хоккей (жен.)","232",0,0,0,0,0,0,0,0,0,0,0,0,0,0,0]
[null,"Хоккей на траве - всего","233",0,0,0,0,0,0,0,0,0,0,0,0,0,0,0]
[null,"в том числе:\nХоккей на траве (муж.)","234",0,0,0,0,0,0,0,0,0,0,0,0,0,0,0]
[null,"Хоккей на траве (жен.)","235",0,0,0,0,0,0,0,0,0,0,0,0,0,0,0]
[null,"Индорхоккей","236",0,0,0,0,0,0,0,0,0,0,0,0,0,0,0]
[null,"Хоккей с мячом","237",8,7,4,3,3,3,0,1,0,0,4,2,1,0,7]
[null,"Художественная гимнастика","238",6,6,6,0,3,0,0,1,0,3,2,1,0,0,6]
[null,"Хуреш","239",0,0,0,0,0,0,0,0,0,0,0,0,0,0,0]
[null,"Чир спорт","240",0,0,0,0,0,0,0,0,0,0,0,0,0,0,0]
[null,"Шахматы","241",2,1,1,0,0,0,0,1,0,0,1,0,0,0,2]
[null,"Шашки","242",0,0,0,0,0,0,0,0,0,0,0,0,0,0,0]
[null,"Шодсанлат","243",0,0,0,0,0,0,0,0,0,0,0,0,0,0,0]
[null,"Эстетическая гимнастика","244",0,0,0,0,0,0,0,0,0,0,0,0,0,0,0]
[null,"Якутские национальные прыжки","245",0,0,0,0,0,0,0,0,0,0,0,0,0,0,0]
[null,"ИТОГО","246",326,226,125,89,67,68,49,40,15,51,92,70,13,1,287]
[null,"ИТОГО по олимпийским видам спорта","247",240,165,93,63,52,43,37,31,12,33,67,54,11,0,210]
[null,"  в том числе: \n  по летним видам спорта","248",214,146,81,56,48,38,32,26,7,28,61,48,9,0,195]
[null,"  по зимним видам спорта","249",26,19,12,7,4,5,5,5,5,5,6,6,2,0,15]
[null,"ИТОГО по неолимпийским видам спорта","250",86,61,32,26,15,25,12,9,3,18,25,16,2,1,77]
[null,"ИТОГО по национальным видам спорта","251",0,0,0,0,0,0,0,0,0,0,0,0,0,0,0]
[null,"ИТОГО по прикладным видам спорта","252",0,0,0,0,0,0,0,0,0,0,0,0,0,0,0]
[null,"        По виду организации: \nДЮСШ - отделения, не соответствующие Перечню \"Олимпийский\"","253",290,195,108,78,56,58,39,30,12,47,74,61,13,0,276]
[null,"     из них по \n     ведомственной\n     принадлежности: \nорганы управления в сфере образования","254",249,157,81,69,43,53,23,26,10,35,68,46,8,0,247]
[null,"органы управления в сфере физической культуры и \nспорта","255",41,38,27,9,13,5,16,4,2,12,6,15,5,0,29]
[null,"другая ведомственная принадлежность","256",0,0,0,0,0,0,0,0,0,0,0,0,0,0,0]
[null,"СШ - отделения, не соответствующие Перечню \"Олимпийский\"","257",16,16,8,8,6,8,3,9,0,2,9,5,0,0,0]
[null,"     из них по \n     ведомственной\n     принадлежности: \nорганы управления в сфере образования","258",0,0,0,0,0,0,0,0,0,0,0,0,0,0,0]
[null,"органы управления в сфере физической культуры и \nспорта","259",16,16,8,8,6,8,3,9,0,2,9,5,0,0,0]
[null,"другая ведомственная принадлежность","260",0,0,0,0,0,0,0,0,0,0,0,0,0,0,0]
[null,"СДЮСШОР - отделения, соответствующие Перечню \"Олимпийский\"","261",0,0,0,0,0,0,0,0,0,0,0,0,0,0,0]
[null,"     из них по \n     ведомственной\n     принадлежности:\nорганы управления в сфере образования","262",0,0,0,0,0,0,0,0,0,0,0,0,0,0,0]
[null,"органы управления в сфере физической культуры и спорта","263",0,0,0,0,0,0,0,0,0,0,0,0,0,0,0]
[null,"другая ведомственная принадлежность","264",0,0,0,0,0,0,0,0,0,0,0,0,0,0,0]
[null,"СШОР - отделения, соответствующие Перечню \"Олимпийский\"","265",3,3,3,0,1,0,2,1,0,0,1,2,0,0,2]
[null,"     из них по \n     ведомственной\n     принадлежности:\nорганы управления в сфере образования","266",0,0,0,0,0,0,0,0,0,0,0,0,0,0,0]
[null,"органы управления в сфере физической культуры и спорта","267",3,3,3,0,1,0,2,1,0,0,1,2,0,0,2]
[null,"другая ведомственная принадлежность","268",0,0,0,0,0,0,0,0,0,0,0,0,0,0,0]
[null,"УОР","269",0,0,0,0,0,0,0,0,0,0,0,0,0,0,0]
[null,"     из них по\n     ведомственной\n     принадлежности:\nорганы управления в сфере образования","270",0,0,0,0,0,0,0,0,0,0,0,0,0,0,0]
[null,"органы управления в сфере физической культуры и спорта","271",0,0,0,0,0,0,0,0,0,0,0,0,0,0,0]
[null,"другая ведомственная принадлежность","272",0,0,0,0,0,0,0,0,0,0,0,0,0,0,0]
[null,"ЦСП","273",7,7,4,3,2,2,4,0,3,2,3,2,0,1,7]
[null,"     из них по\n     ведомственной\n     принадлежности:\nорганы управления в сфере образования","274",0,0,0,0,0,0,0,0,0,0,0,0,0,0,0]
[null,"органы управления в сфере физической культуры и спорта","275",7,7,4,3,2,2,4,0,3,2,3,2,0,1,7]
[null,"другая ведомственная принадлежность","276",0,0,0,0,0,0,0,0,0,0,0,0,0,0,0]
[null,"ЦОП","277",0,0,0,0,0,0,0,0,0,0,0,0,0,0,0]
[null,"     из них по\n     ведомственной\n     принадлежности:\nорганы управления в сфере образования","278",0,0,0,0,0,0,0,0,0,0,0,0,0,0,0]
[null,"органы управления в сфере физической культуры и спорта","279",0,0,0,0,0,0,0,0,0,0,0,0,0,0,0]
[null,"другая ведомственная принадлежность","280",0,0,0,0,0,0,0,0,0,0,0,0,0,0,0]
[null,"Другие организации","281",8,3,0,0,0,0,0,0,0,0,3,0,0,0,0]
[null,"     из них по\n     ведомственной\n     принадлежности:\nорганы управления в сфере образования","282",8,3,0,0,0,0,0,0,0,0,3,0,0,0,0]
[null,"органы управления в сфере физической культуры и спорта","283",0,0,0,0,0,0,0,0,0,0,0,0,0,0,0]
[null,"другая ведомственная принадлежность","284",0,0,0,0,0,0,0,0,0,0,0,0,0,0,0]

{"sheet":"Раздел10","index":10,"n_rows":37,"n_cols":17,"rows_kept":37,"cut":false,"hidden":false,"merged":[[1,14,28,14],[4,9,4,11],[4,12,4,13],[3,5,3,13],[4,5,4,8],[2,11,2,13],[0,0,0,8],[3,1,6,1],[3,2,6,2],[1,1,1,13],[3,3,4,4],[5,12,6,12],[1,0,28,0],[5,11,6,11],[5,10,6,10],[5,6,6,6],[5,3,6,3],[5,13,6,13],[5,4,6,4],[5,9,6,9],[5,5,6,5],[5,7,5,8]]}
[]
[null,"Раздел X. Административные работники и специалисты"]
[null,null,null,null,null,null,null,null,null,null,null,"Код по ОКЕИ: человек – 792"]
[null,"Наименование должности","№ строки","Число работников",null,"из них имеют (из гр. 4):"]
[null,null,null,null,null,"профессиональное образование",null,null,null,"квалификационную категорию",null,null,"почетные звания"]
[null,null,null,"Всего","в том числе штатные","высшее","среднее","в том числе\nфизкультурное",null,"высшую","первую","вторую","Заслужен-ный тренер России","Заслуженный работник физической культуры Российской Федерации"]
[null,null,null,null,null,null,null,"высшее","среднее"]
[null,1,2,3,4,5,6,7,8,9,10,11,12,13]
[null,"Директор (руководитель)","01",17,17,16,1,4,1,4,2,1,1,1,null,null,{"$f":"#REF!","v":{"$error":"#REF!"}}]
[null,"Заместители директора (руководителя)","02",23,23,19,2,3,1,2,2,1,0,1]
[null,"      в том числе:\n   по учебно-спортивной работе","03",5,5,5,0,0,0,1,0,1,0,0]
[null,"   по учебно-воспитательной работе","04",6,6,5,1,2,1,0,2,0,0,0]
[null,"   по научно-методической работе","05",1,1,1,0,0,0,0,0,0,0,0]
[null,"   другие","06",11,11,8,1,1,0,1,0,0,0,1]
[null,"Инструктор по спорту","07",0,0,0,0,0,0,0,0,0,0,0]
[null,"Спортсмен, спортсмен-инструктор","08",12,12,6,6,3,1,0,0,0,0,0,null,{"$f":"Раздел2!S220","v":0}]
[null,"Инструктор – методист (включая старшего)","09",20,19,18,1,5,0,1,3,0,0,0]
[null,"Техник (специалист) по эксплуатации и ремонту спортивной техники, инвентаря и снаряжения",10,1,1,1,0,0,0,0,0,0,0,0]
[null,"Преподаватель",11,0,0,0,0,0,0,0,0,0,0,0]
[null,"Воспитатель (включая старшего)",12,0,0,0,0,0,0,0,0,0,0,0]
[null,"Методист (включая старшего)",13,4,5,4,1,0,0,1,1,1,0,0]
[null,"Педагог – психолог",14,0,0,0,0,0,0,0,0,0,0,0]
[null,"Медицинские работники:",15,2,1,0,1,0,0,0,0,0,0,0]
[null,"   в том числе:\n   врачи",16,0,0,0,0,0,0,0,0,0,0,0]
[null,"   средний медицинский персонал",17,1,1,0,1,0,0,0,0,0,0,0]
[null,"   младший медицинский персонал",18,1,0,0,0,0,0,0,0,0,0,0]
[null,"Специалисты спортсооружений",19,2,2,1,1,0,0,0,0,0,0,0]
[null,"Прочий персонал",20,180,163,27,97,1,1,3,0,0,0,0]
[null,"ИТОГО",21,261,243,92,110,16,4,11,8,3,1,2]
[null,"в том числе по виду организаций: \nДЮСШ",22,226,207,76,90,11,3,8,8,3,0,0]
[null,"СШ",23,0,0,0,0,0,0,0,0,0,0,0]
[null,"СДЮСШОР",24,0,0,0,0,0,0,0,0,0,0,0]
[null,"СШОР",25,11,11,5,6,1,0,0,0,0,0,0]
[null,"УОР",26,0,0,0,0,0,0,0,0,0,0,0]
[null,"ЦСП",27,24,24,11,13,4,1,3,0,0,1,2]
[null,"ЦОП",28,0,0,0,0,0,0,0,0,0,0,0]
[null,"Другие организации",29,0,1,0,1,0,0,0,0,0,0,0]

{"sheet":"Раздел11","index":11,"n_rows":50,"n_cols":16,"rows_kept":50,"cut":false,"hidden":false,"merged":[[3,15,5,15],[0,0,0,8],[3,1,5,1],[3,2,5,2],[3,4,3,8],[3,14,5,14],[1,1,1,14],[3,3,5,3],[4,4,5,4],[4,5,4,8],[3,9,3,13],[4,9,5,9],[4,10,4,13],[1,0,41,0],[2,11,2,15]]}
[]
[null,"Раздел XI. Спортивные сооружения"]
[null,null,null,null,null,null,null,null,null,null,null,"Код по ОКЕИ: единица – 642"]
[null,"Наименование спортивного сооружения","№ стро-ки","Число спортивных сооружений – всего","находящихся на балансе (из гр. 3)",null,null,null,null,"арендуемых (из гр. 3)",null,null,null,null,"используемых на безвозмездной основе\n(из гр. 3)","Количество спортсооружений, входящих во Всероссийский реестр объектов спорта (из гр. 3)"]
[null,null,null,null,"всего","в том числе по формам собственности:",null,null,null,"всего","в том числе по формам собственности:"]
[null,null,null,null,null,"федеральной","субъектов Российской Федерации","муници-пальной","другой",null,"федеральной","субъектов Российской Федерации","муници-пальной","другой"]
[null,1,2,3,4,5,6,7,8,9,10,11,12,13,14,15]
[null,"Стадионы с трибунами – всего","01",26,6,0,1,5,0,10,0,0,10,0,10,2]
[null,"в том числе на 1500 мест и более","02",2,2,0,1,1,0,0,0,0,0,0,0,0]
[null,"Плоскостные спортивные сооружения - всего","03",66,19,0,10,9,0,0,0,0,0,0,47,7]
[null,"в том числе:\nПлоскостные спортивные сооружения","04",44,14,0,8,6,0,0,0,0,0,0,30,5]
[null,"Футбольные поля","05",22,5,0,2,3,0,0,0,0,0,0,17,2]
[null,"Спортивные залы – всего","06",99,18,0,5,13,0,6,0,0,6,0,75,2]
[null,"      в том числе размером:\n     (42 х 24 м)","07",4,4,0,2,2,0,0,0,0,0,0,0,1]
[null,"     (36 х 18 м); (30 х 18 м) и (30 х 15 м)","08",2,2,0,1,1,0,0,0,0,0,0,0,1]
[null,"     (24 х 12 м) и (18 х 9 м)","09",70,8,0,2,6,0,6,0,0,6,0,56,0]
[null,"     иных размеров",10,23,4,0,0,4,0,0,0,0,0,0,19,0]
[null,"Манежи легкоатлетические",11,1,0,0,0,0,0,1,0,0,1,0,0,0]
[null,"Манежи футбольные",12,0,0,0,0,0,0,0,0,0,0,0,0,0]
[null,"Велотреки",13,0,0,0,0,0,0,0,0,0,0,0,0,0]
[null,"Велодромы",14,0,0,0,0,0,0,0,0,0,0,0,0,0]
[null,"Бассейны – всего",15,2,0,0,0,0,0,0,0,0,0,0,2,0]
[null,"     в том числе: \n     плавательные 50-метровые",16,0,0,0,0,0,0,0,0,0,0,0,0,0]
[null,"     плавательные 25-метровые",17,1,0,0,0,0,0,0,0,0,0,0,1,0]
[null,"     нестандартных размеров",18,1,0,0,0,0,0,0,0,0,0,0,1,0]
[null,"     для прыжков в воду",19,0,0,0,0,0,0,0,0,0,0,0,0,0]
[null,"         из строки 15 - крытые",20,0,0,0,0,0,0,0,0,0,0,0,0,0]
[null,"Гребные базы",21,0,0,0,0,0,0,0,0,0,0,0,0,0]
[null,"Гребные каналы",22,0,0,0,0,0,0,0,0,0,0,0,0,0]
[null,"Крытые спортивные объекты с искусственным льдом – всего",23,0,0,0,0,0,0,0,0,0,0,0,0,0]
[null,"  в том числе:\n  крытые спортивные объекты с искусственным     льдом ",24,0,0,0,0,0,0,0,0,0,0,0,0,0]
[null,"     конькобежные",25,0,0,0,0,0,0,0,0,0,0,0,0,0]
[null,"Лыжные базы",26,4,3,0,1,2,0,0,0,0,0,0,1,0]
[null,"Лыжные стадионы",27,2,1,0,0,1,0,0,0,0,0,0,1,0]
[null,"Биатлонные комплексы",28,0,0,0,0,0,0,0,0,0,0,0,0,0]
[null,"Сооружения для стрелковых видов спорта – всего",29,0,0,0,0,0,0,0,0,0,0,0,0,0]
[null,"     в том числе: \n     тиры",30,0,0,0,0,0,0,0,0,0,0,0,0,0]
[null,"     стрельбища",31,0,0,0,0,0,0,0,0,0,0,0,0,0]
[null,"     стенды",32,0,0,0,0,0,0,0,0,0,0,0,0,0]
[null,"     лукодромы",33,0,0,0,0,0,0,0,0,0,0,0,0,0]
[null,"Другие спортивные сооружения",34,4,1,0,0,1,0,0,0,0,0,0,3,0]
[null,"ИТОГО",35,204,48,0,17,31,0,17,0,0,17,0,139,11]
[null,"в том числе по виду организаций:\n     ДЮСШ",36,182,37,0,6,31,0,17,0,0,17,0,128,11]
[null,"СШ",37,0,0,0,0,0,0,0,0,0,0,0,0,0]
[null,"СДЮСШОР",38,0,0,0,0,0,0,0,0,0,0,0,0,0]
[null,"СШОР",39,2,2,0,2,0,0,0,0,0,0,0,0,0]
[null,"УОР",40,0,0,0,0,0,0,0,0,0,0,0,0,0]
[null,"ЦСП",41,9,9,0,9,0,0,0,0,0,0,0,0,0]
[null,"ЦОП",42,0,0,0,0,0,0,0,0,0,0,0,0,0]
[null,"Другие организации",43,11,0,0,0,0,0,0,0,0,0,0,11,0]

{"sheet":"Раздел12","index":12,"n_rows":61,"n_cols":21,"rows_kept":61,"cut":false,"hidden":false,"merged":[[0,0,0,8],[1,0,28,0],[1,1,1,13],[1,14,28,14],[2,11,2,13],[3,1,6,1],[3,2,6,2],[3,3,4,4],[3,5,3,13],[4,5,4,7],[4,8,4,13],[5,3,6,3],[5,4,6,4],[5,5,5,6],[5,7,6,7],[5,8,5,10],[5,11,5,13]]}
[]
[null,"Раздел XII. Сведения о численности и оплате труда работников"]
[null,null,null,null,null,null,null,null,null,null,null,"Коды по ОКЕИ: человек – 792; тысяча рублей – 384"]
[null,"Наименование должности","№ строки","Средняя численность работников, человек",null,"Фонд начисленной заработной платы работников, тыс. руб."]
[null,null,null,null,null,"всего",null,null,"по источникам финансирования"]
[null,null,null,"списочного состава\n(без внеш-них совме-стителей)\n","внешних совме-стителей","списочного состава (без внешних совместителей)",null,"внешних совме-стителей","списочного состава\n(без внешних совместителей)",null,null,"внешних совместителей"]
[null,null,null,null,null,"всего","в том числе по внутреннему совместитель-ству",null,"средства бюджетов всех уровней\n(субсидий)","ОМС","средства от приносящей доход деятельности","средства бюджетов всех уровней\n(субсидий)","ОМС","средства от приносящей доход деятельности"]
[null,1,2,3,4,5,6,7,8,9,10,11,12,13]
[null,"Директор","01",17,0,7673.9,488.79999999999995,0,7645.5,24.5,28.4,0,0,0,null,{"$f":"Раздел13!E9","v":6649.2},{"$f":"Раздел13!F9+Раздел13!G9+Раздел13!H9","v":6620.7999999999993},{"$f":"Раздел13!I9","v":28.4},{"$f":"Раздел13!D9","v":7673.9},{"$f":"Раздел13!AV9","v":7260.7999999999993},{"$f":"Раздел13!AW9","v":28.4}]
[null,"Заместители директора, руководители структурных подразделений и их заместители","02",20.2,0,6980.0999999999995,499.7,0,6971.5,20.6,8.6,0,0,0,null,{"$f":"Раздел13!E10","v":6082.4},{"$f":"Раздел13!F10+Раздел13!G10+Раздел13!H10","v":6073.8000000000011},{"$f":"Раздел13!I10","v":8.6},{"$f":"Раздел13!D10","v":6980.0999999999995},{"$f":"Раздел13!AV10","v":6684.5000000000009},{"$f":"Раздел13!AW10","v":8.6}]
[null,"Работники учреждений, осуществляющие спортивную подготовку:","03",250.29999999999998,52.399999999999991,69657.600000000006,1039.0999999999999,9186.7000000000007,69657.600000000006,543.20000000000005,0,9183.7000000000007,0,3,null,null,null,null,null,{"$f":"Раздел13!AV11","v":65928},{"$f":"Раздел13!AW11","v":3}]
[null,"     тренерский персонал - всего:","04",218.29999999999998,52.399999999999991,62962.100000000006,1039.0999999999999,9186.7000000000007,62962.100000000006,527.4,0,9183.7000000000007,0,3,null,{"$f":"Раздел13!E11","v":63113.899999999994},{"$f":"Раздел13!F11+Раздел13!G11+Раздел13!H11","v":63110.899999999994},{"$f":"Раздел13!I11","v":3},{"$f":"Раздел13!D11","v":72148.800000000003},{"$f":"Раздел13!AV12","v":6188},{"$f":"Раздел13!AW11","v":3}]
[null,"   в том числе:\n   главные тренеры по видам спорта","05",1,0,283.89999999999998,0,0,283.89999999999998,0,0,0,0,0,null,null,null,null,null,{"$f":"Раздел13!AV13","v":460.79999999999995},{"$f":"Раздел13!AW13","v":0}]
[null,"      старшие тренеры по видам спорта ","06",10,0,2855.3,0,0,2855.3,0,0,0,0,0,null,null,null,null,null,{"$f":"Раздел13!AV14","v":35525.1},{"$f":"Раздел13!AW14","v":57.8}]
[null,"тренеры по видам спорта - всего:","07",207.29999999999998,52.399999999999991,59822.900000000009,1039.0999999999999,9186.7000000000007,59822.900000000009,527.4,0,9183.7000000000007,0,3,null,null,null,null,null,{"$f":"Раздел13!AV15","v":30020.799999999996},{"$f":"Раздел13!AW15","v":0.9}]
[null,"       в том числе:\n       тренеры","08",11.5,3.5,4668.8,0,525.4,4668.8,0,0,525.4,0,0,null,null,null,null,null,{"$f":"Раздел13!AV16","v":0},{"$f":"Раздел13!AW16","v":0}]
[null,"          тренеры-преподаватели","09",195.79999999999998,48.899999999999991,55154.100000000006,1039.0999999999999,8661.2999999999993,55154.100000000006,527.4,0,8658.2999999999993,0,3,null,null,null,null,null,{"$f":"Раздел13!AV17","v":0},{"$f":"Раздел13!AW17","v":0}]
[null,"          хореографы","10",0,0,0,0,0,0,0,0,0,0,0]
[null,"      методический персонал:",11,32,0,6695.5,0,0,6695.5,15.8,0,0,0,0,null,{"$f":"Раздел13!E12","v":4862.7},{"$f":"Раздел13!F12+Раздел13!G12+Раздел13!H12","v":4862.7},{"$f":"Раздел13!I12","v":0},{"$f":"Раздел13!D12","v":6695.5},{"$f":"Раздел13!AV12","v":6188},{"$f":"Раздел13!AW12","v":0}]
[null,"      в том числе:\n      инструкторы-методисты;",12,21,0,5115.2,0,0,5115.2,15.8,0,0,0,0]
[null,"      старшие инструкторы-методисты",13,0,0,0,0,0,0,0,0,0,0,0]
[null,"      спортсмены, спортсмены- инструкторы",14,11,0,1580.3,0,0,1580.3,0,0,0,0,0]
[null,"Медицинские работники - всего:",15,2.2999999999999998,0,460.8,0,0,460.8,0,0,0,0,0,null,{"$f":"Раздел13!E13","v":460.8},{"$f":"Раздел13!F13+Раздел13!G13+Раздел13!H13","v":460.79999999999995},{"$f":"Раздел13!I13","v":0},{"$f":"Раздел13!D13","v":460.8},{"$f":"Раздел13!AV13","v":460.79999999999995},{"$f":"Раздел13!AW13","v":0}]
[null,"   в том числе:\n   врачи",16,0.8,0,159.9,0,0,159.9,0,0,0,0,0]
[null,"     средний медицинский персонал",17,1,0,163.19999999999999,0,0,163.19999999999999,0,0,0,0,0]
[null,"     младший медицинский персонал",18,0.5,0,137.69999999999999,0,0,137.69999999999999,0,0,0,0,0]
[null,"Прочий персонал",19,156.29999999999998,9.9,35142.399999999994,5469.6,1395.8,35084.599999999991,264.60000000000002,57.8,1395.8,0,0,null,{"$f":"Раздел13!E14","v":33400.800000000003},{"$f":"Раздел13!F14+Раздел13!G14+Раздел13!H14","v":33343},{"$f":"Раздел13!I14","v":57.8},{"$f":"Раздел13!D14","v":36538.200000000004},{"$f":"Раздел13!AV14","v":35525.1},{"$f":"Раздел13!AW14","v":57.8}]
[null,"Страховые взносы с заработной платы",20,0,0,28311.1,5069.7,1710.6,28311.1,0,0,1709.6999999999998,0,0.9,null,{"$f":"Раздел13!E15","v":27645.1},{"$f":"Раздел13!F15+Раздел13!G15+Раздел13!H15","v":27644.199999999997},{"$f":"Раздел13!I15","v":0.9},{"$f":"Раздел13!D15","v":30021.7},{"$f":"Раздел13!AV15","v":30020.799999999996},{"$f":"Раздел13!AW15","v":0.9}]
[null,"ИТОГО",21,446.1,62.29999999999999,148225.9,12566.900000000001,12293.100000000002,148131.09999999998,852.9,94.8,12289.2,0,3.9,null,{"$f":"Раздел13!E8","v":142214.9},{"$f":"Раздел13!I8","v":98.7},{"$f":"Раздел13!F8+Раздел13!G8+Раздел13!H8","v":142116.20000000001},{"$f":"Раздел13!D8","v":160518.99999999997},{"$f":"Раздел13!AV8","v":152068},{"$f":"Раздел13!AW8","v":98.7}]
[null,"        в том числе по виду\n        организации: \nДЮСШ",22,383.6,51.79999999999999,131582.29999999999,12566.900000000001,10632.6,131487.49999999997,852.9,94.8,10628.700000000003,0,3.9]
[null,"     из них по \n     ведомственной\n     принадлежности: \nорганы управления в сфере образования",23,300.3,44.999999999999993,99928.999999999985,11216.7,9018.3000000000011,99834.199999999983,852.9,94.8,9014.4,0,3.9]
[null,"органы управления в сфере физической культуры и \nспорта",24,83.3,6.8000000000000007,31653.300000000003,1350.2,1614.3000000000002,31653.300000000003,0,0,1614.3000000000002,0,0]
[null,"другая ведомственная принадлежность",25,0,0,0,0,0,0,0,0,0,0,0]
[null,"СШ",26,0,0,0,0,0,0,0,0,0,0,0]
[null,"     из них по \n     ведомственной\n     принадлежности: \nорганы управления в сфере образования",27,0,0,0,0,0,0,0,0,0,0,0]
[null,"органы управления в сфере физической культуры и \nспорта",28,0,0,0,0,0,0,0,0,0,0,0]
[null,"другая ведомственная принадлежность",29,0,0,0,0,0,0,0,0,0,0,0]
[null,"СДЮСШОР",30,0,0,0,0,0,0,0,0,0,0,0]
[null,"     из них по \n     ведомственной\n     принадлежности:\nорганы управления в сфере образования",31,0,0,0,0,0,0,0,0,0,0,0]
[null,"органы управления в сфере физической культуры и спорта",32,0,0,0,0,0,0,0,0,0,0,0]
[null,"другая ведомственная принадлежность",33,0,0,0,0,0,0,0,0,0,0,0]
[null,"СШОР",34,25.5,3.5,7826.9,0,525.4,7826.9,0,0,525.4,0,0]
[null,"     из них по \n     ведомственной\n     принадлежности:\nорганы управления в сфере образования",35,0,0,0,0,0,0,0,0,0,0,0]
[null,"органы управления в сфере физической культуры и спорта",36,25.5,3.5,7826.9,0,525.4,7826.9,0,0,525.4,0,0]
[null,"другая ведомственная принадлежность",37,0,0,0,0,0,0,0,0,0,0,0]
[null,"УОР",38,0,0,0,0,0,0,0,0,0,0,0]
[null,"     из них по\n     ведомственной\n     принадлежности:\nорганы управления в сфере образования",39,0,0,0,0,0,0,0,0,0,0,0]
[null,"органы управления в сфере физической культуры и спорта",40,0,0,0,0,0,0,0,0,0,0,0]
[null,"другая ведомственная принадлежность",41,0,0,0,0,0,0,0,0,0,0,0]
[null,"ЦСП",42,33,2,7860.7,0,719.6,7860.7,0,0,719.6,0,0]
[null,"     из них по\n     ведомственной\n     принадлежности:\nорганы управления в сфере образования",43,0,0,0,0,0,0,0,0,0,0,0]
[null,"органы управления в сфере физиченской культуры и спорта",44,33,2,7860.7,0,719.6,7860.7,0,0,719.6,0,0]
[null,"другая ведомственная принадлежность",45,0,0,0,0,0,0,0,0,0,0,0]
[null,"ЦОП",46,0,0,0,0,0,0,0,0,0,0,0]
[null,"     из них по\n     ведомственной\n     принадлежности:\nорганы управления в сфере образования",47,0,0,0,0,0,0,0,0,0,0,0]
[null,"органы управления в сфере физической культуры и спорта",48,0,0,0,0,0,0,0,0,0,0,0]
[null,"другая ведомственная принадлежность",49,0,0,0,0,0,0,0,0,0,0,0]
[null,"Другие организации",50,4,5,956,0,415.5,956,0,0,415.5,0,0]
[null,"     из них по\n     ведомственной\n     принадлежности:\nорганы управления в сфере образования",51,4,5,956,0,415.5,956,0,0,415.5,0,0]
[null,"органы управления в сфере физической культуры и спорта",52,0,0,0,0,0,0,0,0,0,0,0]
[null,"другая ведомственная принадлежность",53,0,0,0,0,0,0,0,0,0,0,0]

{"sheet":"Раздел13","index":13,"n_rows":42,"n_cols":50,"rows_kept":42,"cut":false,"hidden":false,"merged":[[3,39,3,43],[0,14,0,26],[1,41,1,43],[41,14,41,15],[41,24,44,25],[37,8,37,17],[38,8,38,16],[40,8,40,17],[37,24,37,25],[3,9,3,13],[3,19,3,23],[3,34,3,38],[38,1,38,5],[38,24,38,25],[40,2,40,4],[0,0,44,0],[32,5,32,7],[0,1,0,7],[37,1,37,5],[41,2,42,4],[2,4,2,43],[3,4,3,8],[2,3,4,3],[2,2,4,2],[2,1,4,1],[3,14,3,18],[3,24,3,28],[3,29,3,33]]}
[null,null,null,null,null,null,null,null,null,null,null,null,null,null,"Раздел XIII. Финансовая деятельность организаций"]
[null,null,null,null,null,null,null,null,null,null,null,null,null,null,null,null,null,null,null,null,null,null,null,null,null,null,null,null,null,null,null,null,null,null,null,null,null,null,null,null,null,"Код по ОКЕИ: тысяча рублей – 384"]
[null,"Расходы на содержание организаций","№ строки","ВСЕГО","в том числе по виду организации:"]
[null,null,null,null,"ДЮСШ",null,null,null,null,"СШ",null,null,null,null,"СДЮСШОР",null,null,null,null,"СШОР",null,null,null,null,"УОР",null,null,null,null,"ЦСП",null,null,null,null,"ЦОП",null,null,null,null,"Другие организации"]
[null,null,null,null,"ВСЕГО","федеральный бюджет","бюджет субъекта Российской Федерации","муниципальный бюджет","внебюджетные источники","ВСЕГО","федеральный бюджет","бюджет субъекта Российской Федерации","муниципальный бюджет","внебюджетные источники","ВСЕГО","федеральный бюджет","бюджет субъекта Российской Федерации","муниципальный бюджет","внебюджетные источники","ВСЕГО","федеральный бюджет","бюджет субъекта Российской Федерации","муниципальный бюджет","внебюджетные источники","ВСЕГО","федеральный бюджет","бюджет субъекта Российской Федерации","муниципальный бюджет","внебюджетные источники","ВСЕГО","федеральный бюджет","бюджет субъекта Российской Федерации","муниципальный бюджет","внебюджетные источники","ВСЕГО","федеральный бюджет","бюджет субъекта Российской Федерации","муниципальный бюджет","внебюджетные источники","ВСЕГО","федеральный бюджет","бюджет субъекта Российской Федерации","муниципальный бюджет","внебюджетные источники"]
[null,1,2,3,4,5,6,7,8,9,10,11,12,13,14,15,16,17,18,19,20,21,22,23,24,25,26,27,28,29,30,31,32,33,34,35,36,37,38,39,40,41,42,43]
[null,"Всего расходов","01",{"$f":"E7+J7+O7+T7+Y7+AD7+AI7+AN7","v":247758.4},180623.7,0,34389,144917.09999999998,1317.6000000000001,0,0,0,0,0,0,0,0,0,0,34122.300000000003,17037,17085.3,0,0,0,0,0,0,0,31375.9,8447.1,22928.799999999999,0,0,0,0,0,0,0,1636.5,0,209.5,1427,0]
[null,"в том числе: \nЗаработная плата - всего","02",{"$f":"E8+J8+O8+T8+Y8+AD8+AI8+AN8","v":160518.99999999997},142214.9,0,22750.299999999996,119365.90000000001,98.7,0,0,0,0,0,0,0,0,0,0,8352.2999999999993,0,8352.2999999999993,0,0,0,0,0,0,0,8580.2999999999993,47.5,8532.7999999999993,0,0,0,0,0,0,0,1371.5,0,209.5,1162,0,null,{"$f":"#REF!+#REF!","v":{"$error":"#REF!"}},{"$f":"#REF!+#REF!","v":{"$error":"#REF!"}},{"$f":"SUM(F8:H8,P8:R8,Z8:AB8,AE8:AG8,AO8:AQ8)","v":152068},{"$f":"I8+S8+AC8+AH8+AR8","v":98.7},{"$f":"#REF!+#REF!","v":{"$error":"#REF!"}}]
[null,"в том числе:\nдиректор","03",7673.9,6649.2,0,1190.7,5430.0999999999995,28.4,0,0,0,0,0,0,0,0,0,0,384.7,0,384.7,0,0,0,0,0,0,0,640,36.700000000000003,603.29999999999995,0,0,0,0,0,0,0,0,0,0,0,0,null,{"$f":"#REF!+#REF!","v":{"$error":"#REF!"}},{"$f":"#REF!+#REF!","v":{"$error":"#REF!"}},7260.7999999999993,28.4,{"$f":"#REF!+#REF!","v":{"$error":"#REF!"}}]
[null,"   заместители директора","04",6980.0999999999995,6082.4,0,1695.4,4378.4000000000005,8.6,0,0,0,0,0,0,0,0,0,0,287,0,287,0,0,0,0,0,0,0,610.70000000000005,0,610.70000000000005,0,0,0,0,0,0,0,0,0,0,0,0,null,{"$f":"#REF!+#REF!","v":{"$error":"#REF!"}},{"$f":"#REF!+#REF!","v":{"$error":"#REF!"}},6684.5000000000009,8.6,{"$f":"#REF!+#REF!","v":{"$error":"#REF!"}}]
[null,"   тренерский персонал","05",72148.800000000003,63113.899999999994,0,8800.2000000000007,54310.69999999999,3,0,0,0,0,0,0,0,0,0,0,6217.8,0,6217.8,0,0,0,0,0,0,0,1923.8,0,1923.8,0,0,0,0,0,0,0,893.3,0,151.9,741.4,0,null,{"$f":"#REF!+#REF!","v":{"$error":"#REF!"}},{"$f":"#REF!+#REF!","v":{"$error":"#REF!"}},65928,3,{"$f":"#REF!+#REF!","v":{"$error":"#REF!"}}]
[null,"   методический персонал","06",6695.5,4862.7,0,1775.2,3087.5,0,0,0,0,0,0,0,0,0,0,0,507.5,0,507.5,0,0,0,0,0,0,0,1240,0,1240,0,0,0,0,0,0,0,85.3,0,0,85.3,0,null,{"$f":"#REF!+#REF!","v":{"$error":"#REF!"}},{"$f":"#REF!+#REF!","v":{"$error":"#REF!"}},6188,0,{"$f":"#REF!+#REF!","v":{"$error":"#REF!"}}]
[null,"   медицинские работники","07",460.8,460.8,0,159.9,300.89999999999998,0,0,0,0,0,0,0,0,0,0,0,0,0,0,0,0,0,0,0,0,0,0,0,0,0,0,0,0,0,0,0,0,0,0,0,0,null,{"$f":"#REF!+#REF!","v":{"$error":"#REF!"}},{"$f":"#REF!+#REF!","v":{"$error":"#REF!"}},460.79999999999995,0,{"$f":"#REF!+#REF!","v":{"$error":"#REF!"}}]
[null,"   прочий персонал","08",36538.200000000004,33400.800000000003,0,5771.4000000000005,27571.600000000002,57.8,0,0,0,0,0,0,0,0,0,0,955.3,0,955.3,0,0,0,0,0,0,0,2182.1,0,2182.1,0,0,0,0,0,0,0,0,0,0,0,0,null,{"$f":"#REF!+#REF!","v":{"$error":"#REF!"}},{"$f":"#REF!+#REF!","v":{"$error":"#REF!"}},35525.1,57.8,{"$f":"#REF!+#REF!","v":{"$error":"#REF!"}}]
[null,"   страховые взносы с заработной платы","09",30021.7,27645.1,0,3357.5,24286.699999999997,0.9,0,0,0,0,0,0,0,0,0,0,0,0,0,0,0,0,0,0,0,0,1983.7,10.8,1972.9,0,0,0,0,0,0,0,392.9,0,57.6,335.3,0,null,{"$f":"#REF!+#REF!","v":{"$error":"#REF!"}},{"$f":"#REF!+#REF!","v":{"$error":"#REF!"}},30020.799999999996,0.9,{"$f":"#REF!+#REF!","v":{"$error":"#REF!"}}]
[null,"Оздоровительная кампания",10,300.60000000000002,300.60000000000002,0,0,300.60000000000002,0,0,0,0,0,0,0,0,0,0,0,0,0,0,0,0,0,0,0,0,0,0,0,0,0,0,0,0,0,0,0,0,0,0,0,0]
[null,"Участие в соревнованиях и\nтренировочных сборах - всего",11,35058,7935.2,0,1331.8999999999999,6589.2999999999993,14,0,0,0,0,0,0,0,0,0,0,16000,7880,8120,0,0,0,0,0,0,0,10922.8,2124.5,8798.2999999999993,0,0,0,0,0,0,0,200,0,0,200,0]
[null,"   в том числе: \n   тренерский состав",12,13723.3,3049.1000000000004,0,303.8,2745.3,0,0,0,0,0,0,0,0,0,0,0,8000,3940,4060,0,0,0,0,0,0,0,2650.2,532.5,2117.6999999999998,0,0,0,0,0,0,0,24,0,0,24,0]
[null,"   спортсмены, спортсмены-инструкторы",13,19582.7,3134.1,0,912.7,2207.4,14,0,0,0,0,0,0,0,0,0,0,8000,3940,4060,0,0,0,0,0,0,0,8272.6,1592,6680.6,0,0,0,0,0,0,0,176,0,0,176,0]
[null,"   медицинский персонал",14,0,0,0,0,0,0,0,0,0,0,0,0,0,0,0,0,0,0,0,0,0,0,0,0,0,0,0,0,0,0,0,0,0,0,0,0,0,0,0,0,0]
[null,"   прочий персонал",15,1500,1500,0,0,1500,0,0,0,0,0,0,0,0,0,0,0,0,0,0,0,0,0,0,0,0,0,0,0,0,0,0,0,0,0,0,0,0,0,0,0,0]
[null,"   другие расходы",16,252,252,0,115.4,136.6,0,0,0,0,0,0,0,0,0,0,0,0,0,0,0,0,0,0,0,0,0,0,0,0,0,0,0,0,0,0,0,0,0,0,0,0]
[null,"Материально-техническое обеспечение",17,15593,4656.8,0,998.8,3641.0000000000005,17,0,0,0,0,0,0,0,0,0,0,5391,4778,613,0,0,0,0,0,0,0,5480.2,4442.5,1037.7,0,0,0,0,0,0,0,65,0,0,65,0]
[null,"   в том числе: \n   экипировка, спортивное оборудование, \n   инвентарь",18,12087.4,4077.4,0,655.7,3404.7000000000003,17,0,0,0,0,0,0,0,0,0,0,5391,4778,613,0,0,0,0,0,0,0,2554,1516.3,1037.7,0,0,0,0,0,0,0,65,0,0,65,0]
[null,"   прочее",19,3505.6,579.40000000000009,0,343.1,236.3,0,0,0,0,0,0,0,0,0,0,0,0,0,0,0,0,0,0,0,0,0,2926.2,2926.2,0,0,0,0,0,0,0,0,0,0,0,0,0]
[null,"Содержание спортивных сооружений",20,{"$f":"E26+J26+O26+T26+Y26+AD26+AI26+AN26","v":21447.3},17068.3,0,9308,7760.3,0,0,0,0,0,0,0,0,0,0,0,4379,4379,0,0,0,0,0,0,0,0,0,0,0,0,0,0,0,0,0,0,0,0,0,0,0]
[null,"   в том числе: \n   аренда (услуги спортсооружений)",21,560.70000000000005,560.70000000000005,0,0,560.70000000000005,0,0,0,0,0,0,0,0,0,0,0,0,0,0,0,0,0,0,0,0,0,0,0,0,0,0,0,0,0,0,0,0,0,0,0,0]
[null,"   собственные спортсооружения",22,683.5,683.5,0,0,683.5,0,0,0,0,0,0,0,0,0,0,0,0,0,0,0,0,0,0,0,0,0,0,0,0,0,0,0,0,0,0,0,0,0,0,0,0]
[null,"   другие расходы на содержание",23,20203.099999999999,15824.099999999999,0,9308,6516.0999999999995,0,0,0,0,0,0,0,0,0,0,0,4379,4379,0,0,0,0,0,0,0,0,0,0,0,0,0,0,0,0,0,0,0,0,0,0,0]
[null,"Прочие расходы",24,14840.500000000002,8447.9000000000015,0,0,7260,1187.9000000000001,0,0,0,0,0,0,0,0,0,0,0,0,0,0,0,0,0,0,0,0,6392.6,1832.6,4560,0,0,0,0,0,0,0,0,0,0,0,0]
[null,null,null,{"$f":"Раздел1!G9","v":0}]
[]
[null,"Поступило средств от предоставления платных услуг, тысяча рублей:"]
[]
[null,"Всего (25)",1074,", в том числе ДЮСШ (26)",1074,"  , СШ (27) ",0,", СДЮСШОР (28) ",0,",СШОР (29)",0,",УОР (30)",0,",ЦСП (31)",0,",ЦОП (32)",0,",Другие организации (33)",0]
[]
[null,"Должностное лицо, ответственное за предоставление статистической информации (лицо, уполномоченное предоставлять статистическую информацию от имени юридического лица)"]
[]
[null,"(должность)",null,null,null,null,null,null,"(Ф.И.О.)",null,null,null,null,null,null,null,null,null,null,null,null,null,null,null,"(подпись)"]
[]
[null,null,null,null,null,null,null,"e-mail"]
[null,null,"(номер контактного телефона)",null,null,null,null,null,null,null,null,null,null,null,null,null,null,null,null,null,null,null,null,null,"(дата составления\nдокумента)"]

{"sheet":"Лист1","index":14,"n_rows":57,"n_cols":19,"rows_kept":57,"cut":false,"hidden":false,"merged":[]}
["Тяжелая атлетика",165,0,0,0,0,0,0,0,0,0,0,0,0,0,0,0,0,0]
["Универсальный бой",166,0,0,0,0,0,0,0,0,0,0,0,0,0,0,0,0,0]
["Ушу",167,0,0,0,0,0,0,0,0,0,0,0,0,0,0,0,0,0]
["Фехтование - всего",168,0,0,0,0,0,0,0,0,0,0,0,0,0,0,0,0,0]
["в том числе:\nРапира",169,0,0,0,0,0,0,0,0,0,0,0,0,0,0,0,0,0]
["Сабля",170,0,0,0,0,0,0,0,0,0,0,0,0,0,0,0,0,0]
["Шпага",171,0,0,0,0,0,0,0,0,0,0,0,0,0,0,0,0,0]
["Арт-фехтование",172,0,0,0,0,0,0,0,0,0,0,0,0,0,0,0,0,0]
["Фигурное катание на коньках",173,0,0,0,0,0,0,0,0,0,0,0,0,0,0,0,0,0]
["Флорбол",174,0,0,0,0,0,0,0,0,0,0,0,0,0,0,0,0,0]
["Фристайл - всего",175,0,0,0,0,0,0,0,0,0,0,0,0,0,0,0,0,0]
["в том числе:\nАкробатика",176,0,0,0,0,0,0,0,0,0,0,0,0,0,0,0,0,0]
["Могул",177,0,0,0,0,0,0,0,0,0,0,0,0,0,0,0,0,0]
["Ски-кросс",178,0,0,0,0,0,0,0,0,0,0,0,0,0,0,0,0,0]
["Хаф-пайп",179,0,0,0,0,0,0,0,0,0,0,0,0,0,0,0,0,0]
["Слоуп-стайл",180,0,0,0,0,0,0,0,0,0,0,0,0,0,0,0,0,0]
["Футбол - всего",181,0,0,0,0,0,0,0,0,0,0,0,0,0,0,0,0,0]
["в том числе:\nФутбол (муж.)",182,0,0,0,0,0,0,0,0,0,0,0,0,0,0,0,0,0]
["Футбол (жен.)",183,0,0,0,0,0,0,0,0,0,0,0,0,0,0,0,0,0]
["Мини-футбол (футзал)",184,0,0,0,0,0,0,0,0,0,0,0,0,0,0,0,0,0]
["Пляжный футбол",185,0,0,0,0,0,0,0,0,0,0,0,0,0,0,0,0,0]
["Хапсагай",186,0,0,0,0,0,0,0,0,0,0,0,0,0,0,0,0,0]
["Хоккей - всего",187,0,0,0,0,0,0,0,0,0,0,0,0,0,0,0,0,0]
["в том числе:\nХоккей (муж.)",188,0,0,0,0,0,0,0,0,0,0,0,0,0,0,0,0,0]
["Хоккей (жен.)",189,0,0,0,0,0,0,0,0,0,0,0,0,0,0,0,0,0]
["Хоккей на траве",190,0,0,0,0,0,0,0,0,0,0,0,0,0,0,0,0,0]
["Хоккей на траве (муж.)",191,0,0,0,0,0,0,0,0,0,0,0,0,0,0,0,0,0]
["Хоккей на траве (жен.)",192,0,0,0,0,0,0,0,0,0,0,0,0,0,0,0,0,0]
["Хоккей с мячом",193,0,0,0,0,0,0,0,0,0,0,0,0,0,0,0,0,0]
["Художественная гимнастика",194,0,0,0,0,0,0,0,0,0,0,0,0,0,0,0,0,0]
["Черлидинг",195,0,0,0,0,0,0,0,0,0,0,0,0,0,0,0,0,0]
["Чир спорт",196,0,0,0,0,0,0,0,0,0,0,0,0,0,0,0,0,0]
["Шахматы",197,0,0,0,0,0,0,0,0,0,0,0,0,0,0,0,0,0]
["Шашки",198,0,0,0,0,0,0,0,0,0,0,0,0,0,0,0,0,0]
["Эстетическая гимнастика",199,0,0,0,0,0,0,0,0,0,0,0,0,0,0,0,0,0]
["Якутские национальные прыжки",200,0,0,0,0,0,0,0,0,0,0,0,0,0,0,0,0,0]
["ИТОГО",201,0,0,0,0,0,0,0,0,0,0,0,0,0,0,0,0,0]
["        в том числе по виду\n        организации: \nДЮСШ - отделения, не соответствующие Перечню \"Олимпийский\"",202,0,0,0,0,0,0,0,0,0,0,0,0,0,0,0,0,0]
["     из них по \n     ведомственной\n     принадлежности: \nорганы управления в сфере образования",203,0,0,0,0,0,0,0,0,0,0,0,0,0,0,0,0,0]
["органы управления в сфере физиченской культуры и \nспорта",204,0,0,0,0,0,0,0,0,0,0,0,0,0,0,0,0,0]
["другая ведомственная принадлежность",205,0,0,0,0,0,0,0,0,0,0,0,0,0,0,0,0,0]
["СДЮШОР - отделения, соответствующие Перечню \"Олимпийский\"",206,0,0,0,0,0,0,0,0,0,0,0,0,0,0,0,0,0]
["     из них по \n     ведомственной\n     принадлежности:\nорганы управления в сфере образования",207,0,0,0,0,0,0,0,0,0,0,0,0,0,0,0,0,0]
["органы управления в сфере физиченской культуры и спорта",208,0,0,0,0,0,0,0,0,0,0,0,0,0,0,0,0,0]
["другая ведомственная принадлежность",209,0,0,0,0,0,0,0,0,0,0,0,0,0,0,0,0,0]
["УОР",210,0,0,0,0,0,0,0,0,0,0,0,0,0,0,0,0,0]
["     из них по\n     ведомственной\n     принадлежности:\nорганы управления в сфере образования",211,0,0,0,0,0,0,0,0,0,0,0,0,0,0,0,0,0]
["органы управления в сфере физиченской культуры и спорта",212,0,0,0,0,0,0,0,0,0,0,0,0,0,0,0,0,0]
["другая ведомственная принадлежность",213,0,0,0,0,0,0,0,0,0,0,0,0,0,0,0,0,0]
["ЦСП",214,0,0,0,0,0,0,0,0,0,0,0,0,0,0,0,0,0]
["     из них по\n     ведомственной\n     принадлежности:\nорганы управления в сфере образования",215,0,0,0,0,0,0,0,0,0,0,0,0,0,0,0,0,0]
["органы управления в сфере физиченской культуры и спорта",216,0,0,0,0,0,0,0,0,0,0,0,0,0,0,0,0,0]
["другая ведомственная принадлежность",217,0,0,0,0,0,0,0,0,0,0,0,0,0,0,0,0,0]
["Другие организации",218,0,0,0,0,0,0,0,0,0,0,0,0,0,0,0,0,0]
["     из них по\n     ведомственной\n     принадлежности:\nорганы управления в сфере образования",219,0,0,0,0,0,0,0,0,0,0,0,0,0,0,0,0,0]
["органы управления в сфере физиченской культуры и спорта",220,0,0,0,0,0,0,0,0,0,0,0,0,0,0,0,0,0]
["другая ведомственная принадлежность",221,0,0,0,0,0,0,0,0,0,0,0,0,0,0,0,0,0]